BEGIN:VCALENDAR
VERSION:2.0
PRODID:-//Forssan Helluntaiseurakunta - ECPv6.15.20//NONSGML v1.0//EN
CALSCALE:GREGORIAN
METHOD:PUBLISH
X-WR-CALNAME:Forssan Helluntaiseurakunta
X-ORIGINAL-URL:https://www.fohe.fi
X-WR-CALDESC:Tapahtumat Forssan Helluntaiseurakunta
REFRESH-INTERVAL;VALUE=DURATION:PT1H
X-Robots-Tag:noindex
X-PUBLISHED-TTL:PT1H
BEGIN:VTIMEZONE
TZID:Europe/Helsinki
BEGIN:DAYLIGHT
TZOFFSETFROM:+0200
TZOFFSETTO:+0300
TZNAME:EEST
DTSTART:20230326T010000
END:DAYLIGHT
BEGIN:STANDARD
TZOFFSETFROM:+0300
TZOFFSETTO:+0200
TZNAME:EET
DTSTART:20231029T010000
END:STANDARD
BEGIN:DAYLIGHT
TZOFFSETFROM:+0200
TZOFFSETTO:+0300
TZNAME:EEST
DTSTART:20240331T010000
END:DAYLIGHT
BEGIN:STANDARD
TZOFFSETFROM:+0300
TZOFFSETTO:+0200
TZNAME:EET
DTSTART:20241027T010000
END:STANDARD
BEGIN:DAYLIGHT
TZOFFSETFROM:+0200
TZOFFSETTO:+0300
TZNAME:EEST
DTSTART:20250330T010000
END:DAYLIGHT
BEGIN:STANDARD
TZOFFSETFROM:+0300
TZOFFSETTO:+0200
TZNAME:EET
DTSTART:20251026T010000
END:STANDARD
END:VTIMEZONE
BEGIN:VEVENT
DTSTART;TZID=Europe/Helsinki:20240608T093000
DTEND;TZID=Europe/Helsinki:20240608T150000
DTSTAMP:20260420T140409
CREATED:20240530T071207Z
LAST-MODIFIED:20240530T075723Z
UID:13657-1717839000-1717858800@www.fohe.fi
SUMMARY:Nuorten retki
DESCRIPTION:Forssan Helluntaiseurakunnan järjestämä nuorten kanoottiretki 8.6.Lähtö: Forssan Helluntaiseurakunnalta klo 9.30\, josta lähdemme yhteiskyydeillä Saaren kansanpuistoon.Melontareitti Kuivajärvellä ja Pyhäjärvellä\, yhteensä noin 6 km.  Palaamme takaisin Forssan Helluntaiseurakunnalle suunnilleen klo 15.00. Hinta: 10€  \n\n\n\nIlmoittautuminen tästä linkistä.
URL:https://www.fohe.fi/tapahtuma/nuorten-retki/
ATTACH;FMTTYPE=image/png:https://www.fohe.fi/wp-content/uploads/2024/05/Nuorten-kanoottiretki-8.6-1-e1717056164117.png
ORGANIZER;CN="Forssan helluntaiseurakunta":MAILTO:seurakunta@fohe.fi
END:VEVENT
END:VCALENDAR