BEGIN:VCALENDAR
VERSION:2.0
PRODID:-//Forssan Helluntaiseurakunta - ECPv6.15.20//NONSGML v1.0//EN
CALSCALE:GREGORIAN
METHOD:PUBLISH
X-WR-CALNAME:Forssan Helluntaiseurakunta
X-ORIGINAL-URL:https://www.fohe.fi
X-WR-CALDESC:Tapahtumat Forssan Helluntaiseurakunta
REFRESH-INTERVAL;VALUE=DURATION:PT1H
X-Robots-Tag:noindex
X-PUBLISHED-TTL:PT1H
BEGIN:VTIMEZONE
TZID:Europe/Helsinki
BEGIN:DAYLIGHT
TZOFFSETFROM:+0200
TZOFFSETTO:+0300
TZNAME:EEST
DTSTART:20230326T010000
END:DAYLIGHT
BEGIN:STANDARD
TZOFFSETFROM:+0300
TZOFFSETTO:+0200
TZNAME:EET
DTSTART:20231029T010000
END:STANDARD
BEGIN:DAYLIGHT
TZOFFSETFROM:+0200
TZOFFSETTO:+0300
TZNAME:EEST
DTSTART:20240331T010000
END:DAYLIGHT
BEGIN:STANDARD
TZOFFSETFROM:+0300
TZOFFSETTO:+0200
TZNAME:EET
DTSTART:20241027T010000
END:STANDARD
BEGIN:DAYLIGHT
TZOFFSETFROM:+0200
TZOFFSETTO:+0300
TZNAME:EEST
DTSTART:20250330T010000
END:DAYLIGHT
BEGIN:STANDARD
TZOFFSETFROM:+0300
TZOFFSETTO:+0200
TZNAME:EET
DTSTART:20251026T010000
END:STANDARD
END:VTIMEZONE
BEGIN:VEVENT
DTSTART;TZID=Europe/Helsinki:20240903T120000
DTEND;TZID=Europe/Helsinki:20240903T130000
DTSTAMP:20260419T163135
CREATED:20240829T083224Z
LAST-MODIFIED:20240829T083224Z
UID:13820-1725364800-1725368400@www.fohe.fi
SUMMARY:Rukouskokous
DESCRIPTION:Aloitetaan syksy rukoillen. Rukouspäivät 3.-5.9. Rukouskokoukset klo 12 & 19
URL:https://www.fohe.fi/tapahtuma/rukouskokous-8/
LOCATION:Forssan helluntaiseurakunta\, Nikkilänkatu 2\, Forssa\, 30100\, Suomi
ATTACH;FMTTYPE=image/png:https://www.fohe.fi/wp-content/uploads/2024/08/RUKOUSPAIVAT-syyskuu-2024.png
ORGANIZER;CN="Forssan helluntaiseurakunta":MAILTO:seurakunta@fohe.fi
END:VEVENT
BEGIN:VEVENT
DTSTART;TZID=Europe/Helsinki:20240903T190000
DTEND;TZID=Europe/Helsinki:20240903T190000
DTSTAMP:20260419T163135
CREATED:20240829T083225Z
LAST-MODIFIED:20240829T083225Z
UID:13821-1725390000-1725390000@www.fohe.fi
SUMMARY:Rukouskokous
DESCRIPTION:Aloitetaan syksy rukoillen. Rukouspäivät 3.-5.9. Rukouskokoukset klo 12 & 19
URL:https://www.fohe.fi/tapahtuma/rukouskokous-9/
LOCATION:Forssan helluntaiseurakunta\, Nikkilänkatu 2\, Forssa\, 30100\, Suomi
ATTACH;FMTTYPE=image/png:https://www.fohe.fi/wp-content/uploads/2024/08/RUKOUSPAIVAT-syyskuu-2024.png
ORGANIZER;CN="Forssan helluntaiseurakunta":MAILTO:seurakunta@fohe.fi
END:VEVENT
END:VCALENDAR