BEGIN:VCALENDAR
VERSION:2.0
PRODID:-//Forssan Helluntaiseurakunta - ECPv6.15.20//NONSGML v1.0//EN
CALSCALE:GREGORIAN
METHOD:PUBLISH
X-ORIGINAL-URL:https://www.fohe.fi
X-WR-CALDESC:Tapahtumat Forssan Helluntaiseurakunta
REFRESH-INTERVAL;VALUE=DURATION:PT1H
X-Robots-Tag:noindex
X-PUBLISHED-TTL:PT1H
BEGIN:VTIMEZONE
TZID:Europe/Helsinki
BEGIN:DAYLIGHT
TZOFFSETFROM:+0200
TZOFFSETTO:+0300
TZNAME:EEST
DTSTART:20230326T010000
END:DAYLIGHT
BEGIN:STANDARD
TZOFFSETFROM:+0300
TZOFFSETTO:+0200
TZNAME:EET
DTSTART:20231029T010000
END:STANDARD
BEGIN:DAYLIGHT
TZOFFSETFROM:+0200
TZOFFSETTO:+0300
TZNAME:EEST
DTSTART:20240331T010000
END:DAYLIGHT
BEGIN:STANDARD
TZOFFSETFROM:+0300
TZOFFSETTO:+0200
TZNAME:EET
DTSTART:20241027T010000
END:STANDARD
BEGIN:DAYLIGHT
TZOFFSETFROM:+0200
TZOFFSETTO:+0300
TZNAME:EEST
DTSTART:20250330T010000
END:DAYLIGHT
BEGIN:STANDARD
TZOFFSETFROM:+0300
TZOFFSETTO:+0200
TZNAME:EET
DTSTART:20251026T010000
END:STANDARD
END:VTIMEZONE
BEGIN:VEVENT
DTSTART;TZID=Europe/Helsinki:20241014T180000
DTEND;TZID=Europe/Helsinki:20241014T200000
DTSTAMP:20260419T191448
CREATED:20241002T114513Z
LAST-MODIFIED:20241002T114513Z
UID:13898-1728928800-1728936000@www.fohe.fi
SUMMARY:Kuoroharjoitus
DESCRIPTION:
URL:https://www.fohe.fi/tapahtuma/kuoroharjoitus-3/
LOCATION:Forssan helluntaiseurakunta\, Nikkilänkatu 2\, Forssa\, 30100\, Suomi
ORGANIZER;CN="Forssan helluntaiseurakunta":MAILTO:seurakunta@fohe.fi
END:VEVENT
BEGIN:VEVENT
DTSTART;TZID=Europe/Helsinki:20241015T180000
DTEND;TZID=Europe/Helsinki:20241015T200000
DTSTAMP:20260419T191448
CREATED:20241002T114513Z
LAST-MODIFIED:20241002T114513Z
UID:13899-1729015200-1729022400@www.fohe.fi
SUMMARY:Lähetysilta
DESCRIPTION:Osallistutaan Vartti vainotuille -striimiin\, Mirja Karvinen
URL:https://www.fohe.fi/tapahtuma/lahetysilta-14/
LOCATION:Forssan helluntaiseurakunta\, Nikkilänkatu 2\, Forssa\, 30100\, Suomi
CATEGORIES:Tulevat Sanan ja rukouksen illat
ATTACH;FMTTYPE=image/jpeg:https://www.fohe.fi/wp-content/uploads/2023/02/Sana-ja-rukous-APxRNx.tmp_.jpg
ORGANIZER;CN="Forssan helluntaiseurakunta":MAILTO:seurakunta@fohe.fi
END:VEVENT
BEGIN:VEVENT
DTSTART;TZID=Europe/Helsinki:20241018T190000
DTEND;TZID=Europe/Helsinki:20241018T220000
DTSTAMP:20260419T191448
CREATED:20241002T114528Z
LAST-MODIFIED:20241002T114528Z
UID:13900-1729278000-1729288800@www.fohe.fi
SUMMARY:Fohe Youth -nuortenilta
DESCRIPTION:Käy katsomassa tuoreet päivitykset: https://www.instagram.com/foheyouth/
URL:https://www.fohe.fi/tapahtuma/fohe-youth-nuortenilta-163/
LOCATION:Forssan helluntaiseurakunta\, Nikkilänkatu 2\, Forssa\, 30100\, Suomi
ORGANIZER;CN="Forssan helluntaiseurakunta":MAILTO:seurakunta@fohe.fi
END:VEVENT
BEGIN:VEVENT
DTSTART;TZID=Europe/Helsinki:20241019T100000
DTEND;TZID=Europe/Helsinki:20241019T100000
DTSTAMP:20260419T191448
CREATED:20241002T114529Z
LAST-MODIFIED:20241002T114529Z
UID:13901-1729332000-1729332000@www.fohe.fi
SUMMARY:Lapsiperhelauantai
DESCRIPTION:Koko perheen tapahtuma Feeniks-urheilutalossa\, mukana on myös meidän osastomme
URL:https://www.fohe.fi/tapahtuma/lapsiperhelauantai-2/
END:VEVENT
BEGIN:VEVENT
DTSTART;TZID=Europe/Helsinki:20241020T110000
DTEND;TZID=Europe/Helsinki:20241020T130000
DTSTAMP:20260419T191448
CREATED:20241002T114529Z
LAST-MODIFIED:20241002T114529Z
UID:13902-1729422000-1729429200@www.fohe.fi
SUMMARY:Jumalanpalvelus
DESCRIPTION:Petri Fonsen\, Tommi Hintsanen\, Elli Hintsanen
URL:https://www.fohe.fi/tapahtuma/jumalanpalvelus-36/
LOCATION:Forssan helluntaiseurakunta\, Nikkilänkatu 2\, Forssa\, 30100\, Suomi
CATEGORIES:Tulevat Jumalanpalvelukset
ORGANIZER;CN="Forssan helluntaiseurakunta":MAILTO:seurakunta@fohe.fi
END:VEVENT
BEGIN:VEVENT
DTSTART;TZID=Europe/Helsinki:20241020T150000
DTEND;TZID=Europe/Helsinki:20241020T170000
DTSTAMP:20260419T191448
CREATED:20241002T114529Z
LAST-MODIFIED:20241002T114529Z
UID:13903-1729436400-1729443600@www.fohe.fi
SUMMARY:International service
DESCRIPTION:Worship\, Bible study\, fellowship. You are invited!
URL:https://www.fohe.fi/tapahtuma/international-service-40/
LOCATION:Forssan helluntaiseurakunta\, Nikkilänkatu 2\, Forssa\, 30100\, Suomi
CATEGORIES:Tulevat Jumalanpalvelukset
ORGANIZER;CN="Forssan helluntaiseurakunta":MAILTO:seurakunta@fohe.fi
END:VEVENT
BEGIN:VEVENT
DTSTART;TZID=Europe/Helsinki:20241021T180000
DTEND;TZID=Europe/Helsinki:20241021T200000
DTSTAMP:20260419T191448
CREATED:20241002T114529Z
LAST-MODIFIED:20241002T114529Z
UID:13904-1729533600-1729540800@www.fohe.fi
SUMMARY:Katukirkko
DESCRIPTION:
URL:https://www.fohe.fi/tapahtuma/katukirkko-45/
LOCATION:Torikirkko\, Hämeentie 15\, Forssa\, 30100\, Suomi
ORGANIZER;CN="Forssan helluntaiseurakunta":MAILTO:seurakunta@fohe.fi
END:VEVENT
BEGIN:VEVENT
DTSTART;TZID=Europe/Helsinki:20241022T180000
DTEND;TZID=Europe/Helsinki:20241022T200000
DTSTAMP:20260419T191448
CREATED:20241002T114701Z
LAST-MODIFIED:20241002T114701Z
UID:13905-1729620000-1729627200@www.fohe.fi
SUMMARY:Sanan ja rukouksen ilta
DESCRIPTION:Ritva Kannisto\, Elli Hintsanen
URL:https://www.fohe.fi/tapahtuma/sanan-ja-rukouksen-ilta-66/
LOCATION:Forssan helluntaiseurakunta\, Nikkilänkatu 2\, Forssa\, 30100\, Suomi
CATEGORIES:Tulevat Sanan ja rukouksen illat
ATTACH;FMTTYPE=image/jpeg:https://www.fohe.fi/wp-content/uploads/2023/02/Sana-ja-rukous-APxRNx.tmp_.jpg
ORGANIZER;CN="Forssan helluntaiseurakunta":MAILTO:seurakunta@fohe.fi
END:VEVENT
BEGIN:VEVENT
DTSTART;TZID=Europe/Helsinki:20241025T190000
DTEND;TZID=Europe/Helsinki:20241025T220000
DTSTAMP:20260419T191448
CREATED:20241002T114701Z
LAST-MODIFIED:20241002T114701Z
UID:13906-1729882800-1729893600@www.fohe.fi
SUMMARY:Fohe Youth -nuortenilta
DESCRIPTION:Käy katsomassa tuoreet päivitykset: https://www.instagram.com/foheyouth/
URL:https://www.fohe.fi/tapahtuma/fohe-youth-nuortenilta-164/
LOCATION:Forssan helluntaiseurakunta\, Nikkilänkatu 2\, Forssa\, 30100\, Suomi
ORGANIZER;CN="Forssan helluntaiseurakunta":MAILTO:seurakunta@fohe.fi
END:VEVENT
BEGIN:VEVENT
DTSTART;TZID=Europe/Helsinki:20241027T160000
DTEND;TZID=Europe/Helsinki:20241027T160000
DTSTAMP:20260419T191448
CREATED:20241002T114701Z
LAST-MODIFIED:20241002T114701Z
UID:13907-1730044800-1730044800@www.fohe.fi
SUMMARY:Olohuoneilta:
DESCRIPTION:Tarjoilua\, musiikkia\, ajatuksia ja yhteistä jakamista Filippiläiskirjeen äärellä
URL:https://www.fohe.fi/tapahtuma/olohuoneilta-3/
LOCATION:Forssan helluntaiseurakunta\, Nikkilänkatu 2\, Forssa\, 30100\, Suomi
ORGANIZER;CN="Forssan helluntaiseurakunta":MAILTO:seurakunta@fohe.fi
END:VEVENT
BEGIN:VEVENT
DTSTART;TZID=Europe/Helsinki:20241028T180000
DTEND;TZID=Europe/Helsinki:20241028T200000
DTSTAMP:20260419T191448
CREATED:20241002T114701Z
LAST-MODIFIED:20241002T114701Z
UID:13908-1730138400-1730145600@www.fohe.fi
SUMMARY:Kuoroharjoitus
DESCRIPTION:
URL:https://www.fohe.fi/tapahtuma/kuoroharjoitus-4/
LOCATION:Forssan helluntaiseurakunta\, Nikkilänkatu 2\, Forssa\, 30100\, Suomi
ORGANIZER;CN="Forssan helluntaiseurakunta":MAILTO:seurakunta@fohe.fi
END:VEVENT
BEGIN:VEVENT
DTSTART;TZID=Europe/Helsinki:20241029T180000
DTEND;TZID=Europe/Helsinki:20241029T200000
DTSTAMP:20260419T191448
CREATED:20241002T114701Z
LAST-MODIFIED:20241002T114701Z
UID:13909-1730224800-1730232000@www.fohe.fi
SUMMARY:Sanan ja rukouksen ilta
DESCRIPTION:Kari Turkki\, Anne Katto-Davidsson
URL:https://www.fohe.fi/tapahtuma/sanan-ja-rukouksen-ilta-67/
LOCATION:Forssan helluntaiseurakunta\, Nikkilänkatu 2\, Forssa\, 30100\, Suomi
CATEGORIES:Tulevat Sanan ja rukouksen illat
ORGANIZER;CN="Forssan helluntaiseurakunta":MAILTO:seurakunta@fohe.fi
END:VEVENT
BEGIN:VEVENT
DTSTART;TZID=Europe/Helsinki:20241101T190000
DTEND;TZID=Europe/Helsinki:20241101T220000
DTSTAMP:20260419T191448
CREATED:20241002T114716Z
LAST-MODIFIED:20241002T114716Z
UID:13910-1730487600-1730498400@www.fohe.fi
SUMMARY:Fohe Youth -nuortenilta
DESCRIPTION:Käy katsomassa tuoreet päivitykset: https://www.instagram.com/foheyouth/
URL:https://www.fohe.fi/tapahtuma/fohe-youth-nuortenilta-165/
LOCATION:Forssan helluntaiseurakunta\, Nikkilänkatu 2\, Forssa\, 30100\, Suomi
ORGANIZER;CN="Forssan helluntaiseurakunta":MAILTO:seurakunta@fohe.fi
END:VEVENT
BEGIN:VEVENT
DTSTART;TZID=Europe/Helsinki:20241102T140000
DTEND;TZID=Europe/Helsinki:20241102T163000
DTSTAMP:20260419T191448
CREATED:20241002T114716Z
LAST-MODIFIED:20241002T114716Z
UID:13911-1730556000-1730565000@www.fohe.fi
SUMMARY:Kids’ Action -tapahtuma
DESCRIPTION:Koko perheen tapahtuma.
URL:https://www.fohe.fi/tapahtuma/kids-action-tapahtuma-3/
LOCATION:Talsoilan koulu\, Talsoilankatu 34\, Forssa\, 30100
END:VEVENT
BEGIN:VEVENT
DTSTART;TZID=Europe/Helsinki:20241103T110000
DTEND;TZID=Europe/Helsinki:20241103T130000
DTSTAMP:20260419T191448
CREATED:20241002T114716Z
LAST-MODIFIED:20241031T074305Z
UID:13912-1730631600-1730638800@www.fohe.fi
SUMMARY:Ehtoollisjuhla
DESCRIPTION:Marko Kantelus\, Tommi Hintsanen\, kuoro\, pyhäkoulu
URL:https://www.fohe.fi/tapahtuma/ehtoollisjuhla-34/
LOCATION:Forssan helluntaiseurakunta\, Nikkilänkatu 2\, Forssa\, 30100\, Suomi
CATEGORIES:Tulevat Jumalanpalvelukset
ATTACH;FMTTYPE=image/jpeg:https://www.fohe.fi/wp-content/uploads/2023/02/Ehtoollinen-tDTYAj.tmp_-scaled.jpg
ORGANIZER;CN="Forssan helluntaiseurakunta":MAILTO:seurakunta@fohe.fi
END:VEVENT
BEGIN:VEVENT
DTSTART;TZID=Europe/Helsinki:20241104T180000
DTEND;TZID=Europe/Helsinki:20241104T190000
DTSTAMP:20260419T191448
CREATED:20241031T074306Z
LAST-MODIFIED:20241031T074306Z
UID:13922-1730743200-1730746800@www.fohe.fi
SUMMARY:Kuoroharjoitus
DESCRIPTION:
URL:https://www.fohe.fi/tapahtuma/kuoroharjoitus-5/
LOCATION:Forssan helluntaiseurakunta\, Nikkilänkatu 2\, Forssa\, 30100\, Suomi
ORGANIZER;CN="Forssan helluntaiseurakunta":MAILTO:seurakunta@fohe.fi
END:VEVENT
BEGIN:VEVENT
DTSTART;TZID=Europe/Helsinki:20241105T180000
DTEND;TZID=Europe/Helsinki:20241105T200000
DTSTAMP:20260419T191448
CREATED:20241031T074306Z
LAST-MODIFIED:20241031T074306Z
UID:13923-1730829600-1730836800@www.fohe.fi
SUMMARY:Sanan ja rukouksen ilta
DESCRIPTION:Tommi Hintsanen\, Marita Rasila
URL:https://www.fohe.fi/tapahtuma/sanan-ja-rukouksen-ilta-127/
LOCATION:Forssan helluntaiseurakunta\, Nikkilänkatu 2\, Forssa\, 30100\, Suomi
CATEGORIES:Tulevat Sanan ja rukouksen illat
ATTACH;FMTTYPE=image/jpeg:https://www.fohe.fi/wp-content/uploads/2023/02/Sana-ja-rukous-APxRNx.tmp_.jpg
ORGANIZER;CN="Forssan helluntaiseurakunta":MAILTO:seurakunta@fohe.fi
END:VEVENT
BEGIN:VEVENT
DTSTART;TZID=Europe/Helsinki:20241106T170000
DTEND;TZID=Europe/Helsinki:20241106T180000
DTSTAMP:20260419T191448
CREATED:20241031T074306Z
LAST-MODIFIED:20241031T074306Z
UID:13924-1730912400-1730916000@www.fohe.fi
SUMMARY:Ruokajakelu vähävaraisille
DESCRIPTION:
URL:https://www.fohe.fi/tapahtuma/ruokajakelu-vahavaraisille/
LOCATION:Forssan helluntaiseurakunta\, Nikkilänkatu 2\, Forssa\, 30100\, Suomi
ORGANIZER;CN="Forssan helluntaiseurakunta":MAILTO:seurakunta@fohe.fi
END:VEVENT
BEGIN:VEVENT
DTSTART;TZID=Europe/Helsinki:20241107T083000
DTEND;TZID=Europe/Helsinki:20241107T100000
DTSTAMP:20260419T191448
CREATED:20241031T074307Z
LAST-MODIFIED:20241031T074307Z
UID:13925-1730968200-1730973600@www.fohe.fi
SUMMARY:Yhteiskristillinen aamurukous
DESCRIPTION:Pientä tarjoilua\, Raamatun tutkimista yhdessä\, rukousta\, tervetuloa mukaan
URL:https://www.fohe.fi/tapahtuma/yhteiskristillinen-aamurukous-8/
LOCATION:Adventtiseurakunta\, Pekolanraitti 8\, Forssa\, 30100
END:VEVENT
BEGIN:VEVENT
DTSTART;TZID=Europe/Helsinki:20241108T190000
DTEND;TZID=Europe/Helsinki:20241108T220000
DTSTAMP:20260419T191448
CREATED:20241031T074309Z
LAST-MODIFIED:20241031T074309Z
UID:13926-1731092400-1731103200@www.fohe.fi
SUMMARY:Fohe Youth -nuortenilta
DESCRIPTION:Käy katsomassa tuoreet päivitykset: https://www.instagram.com/foheyouth/
URL:https://www.fohe.fi/tapahtuma/fohe-youth-nuortenilta-166/
LOCATION:Forssan helluntaiseurakunta\, Nikkilänkatu 2\, Forssa\, 30100\, Suomi
ORGANIZER;CN="Forssan helluntaiseurakunta":MAILTO:seurakunta@fohe.fi
END:VEVENT
BEGIN:VEVENT
DTSTART;TZID=Europe/Helsinki:20241110T160000
DTEND;TZID=Europe/Helsinki:20241110T180000
DTSTAMP:20260419T191448
CREATED:20241031T074309Z
LAST-MODIFIED:20241031T074309Z
UID:13927-1731254400-1731261600@www.fohe.fi
SUMMARY:Isänpäiväjuhla
DESCRIPTION:Isänpäivän ohjelmaa ja kahvitus
URL:https://www.fohe.fi/tapahtuma/isanpaivajuhla-3/
LOCATION:Forssan helluntaiseurakunta\, Nikkilänkatu 2\, Forssa\, 30100\, Suomi
CATEGORIES:Tulevat Jumalanpalvelukset
ORGANIZER;CN="Forssan helluntaiseurakunta":MAILTO:seurakunta@fohe.fi
END:VEVENT
BEGIN:VEVENT
DTSTART;TZID=Europe/Helsinki:20241111T180000
DTEND;TZID=Europe/Helsinki:20241111T190000
DTSTAMP:20260419T191448
CREATED:20241031T074309Z
LAST-MODIFIED:20241031T074309Z
UID:13928-1731348000-1731351600@www.fohe.fi
SUMMARY:Kuoroharjoitus
DESCRIPTION:
URL:https://www.fohe.fi/tapahtuma/kuoroharjoitus-6/
LOCATION:Forssan helluntaiseurakunta\, Nikkilänkatu 2\, Forssa\, 30100\, Suomi
ORGANIZER;CN="Forssan helluntaiseurakunta":MAILTO:seurakunta@fohe.fi
END:VEVENT
BEGIN:VEVENT
DTSTART;TZID=Europe/Helsinki:20241112T180000
DTEND;TZID=Europe/Helsinki:20241112T200000
DTSTAMP:20260419T191448
CREATED:20241031T074309Z
LAST-MODIFIED:20241031T074309Z
UID:13929-1731434400-1731441600@www.fohe.fi
SUMMARY:Sanan ja rukouksen ilta
DESCRIPTION:Carola Flytström\, Mirja Karvinen
URL:https://www.fohe.fi/tapahtuma/sanan-ja-rukouksen-ilta-135/
LOCATION:Forssan helluntaiseurakunta\, Nikkilänkatu 2\, Forssa\, 30100\, Suomi
CATEGORIES:Tulevat Sanan ja rukouksen illat
ATTACH;FMTTYPE=image/jpeg:https://www.fohe.fi/wp-content/uploads/2023/02/Sana-ja-rukous-APxRNx.tmp_.jpg
ORGANIZER;CN="Forssan helluntaiseurakunta":MAILTO:seurakunta@fohe.fi
END:VEVENT
BEGIN:VEVENT
DTSTART;TZID=Europe/Helsinki:20241115T190000
DTEND;TZID=Europe/Helsinki:20241115T220000
DTSTAMP:20260419T191448
CREATED:20241031T074310Z
LAST-MODIFIED:20241031T075634Z
UID:13930-1731697200-1731708000@www.fohe.fi
SUMMARY:Fohe Youth -nuortenilta
DESCRIPTION:Käy katsomassa tuoreet päivitykset: https://www.instagram.com/foheyouth/
URL:https://www.fohe.fi/tapahtuma/fohe-youth-nuortenilta-167/
LOCATION:Forssan helluntaiseurakunta\, Nikkilänkatu 2\, Forssa\, 30100\, Suomi
ORGANIZER;CN="Forssan helluntaiseurakunta":MAILTO:seurakunta@fohe.fi
END:VEVENT
BEGIN:VEVENT
DTSTART;TZID=Europe/Helsinki:20241117T110000
DTEND;TZID=Europe/Helsinki:20241117T120000
DTSTAMP:20260419T191448
CREATED:20241031T074324Z
LAST-MODIFIED:20241031T075917Z
UID:13931-1731841200-1731844800@www.fohe.fi
SUMMARY:Jumalanpalvelus
DESCRIPTION:Tommi Hintsanen\, Markku Rajala\, Anne Katto-Davidsson\, pyhäkoulu
URL:https://www.fohe.fi/tapahtuma/jumalanpalvelus-37/
LOCATION:Forssan helluntaiseurakunta\, Nikkilänkatu 2\, Forssa\, 30100\, Suomi
CATEGORIES:Tulevat Jumalanpalvelukset
ORGANIZER;CN="Forssan helluntaiseurakunta":MAILTO:seurakunta@fohe.fi
END:VEVENT
BEGIN:VEVENT
DTSTART;TZID=Europe/Helsinki:20241117T123000
DTEND;TZID=Europe/Helsinki:20241117T140000
DTSTAMP:20260419T191448
CREATED:20241031T074324Z
LAST-MODIFIED:20241031T074324Z
UID:13932-1731846600-1731852000@www.fohe.fi
SUMMARY:Forssan helluntaiseurakunnan syyskokous
DESCRIPTION:
URL:https://www.fohe.fi/tapahtuma/forssan-helluntaiseurakunnan-syyskokous-3/
LOCATION:Forssan helluntaiseurakunta\, Nikkilänkatu 2\, Forssa\, 30100\, Suomi
ORGANIZER;CN="Forssan helluntaiseurakunta":MAILTO:seurakunta@fohe.fi
END:VEVENT
BEGIN:VEVENT
DTSTART;TZID=Europe/Helsinki:20241118T180000
DTEND;TZID=Europe/Helsinki:20241118T200000
DTSTAMP:20260419T191448
CREATED:20241031T074324Z
LAST-MODIFIED:20241031T074324Z
UID:13933-1731952800-1731960000@www.fohe.fi
SUMMARY:Katukirkko
DESCRIPTION:
URL:https://www.fohe.fi/tapahtuma/katukirkko-46/
LOCATION:Torikirkko\, Hämeentie 15\, Forssa\, 30100\, Suomi
ORGANIZER;CN="Forssan helluntaiseurakunta":MAILTO:seurakunta@fohe.fi
END:VEVENT
BEGIN:VEVENT
DTSTART;TZID=Europe/Helsinki:20241119T180000
DTEND;TZID=Europe/Helsinki:20241119T200000
DTSTAMP:20260419T191448
CREATED:20241031T074325Z
LAST-MODIFIED:20241031T074325Z
UID:13934-1732039200-1732046400@www.fohe.fi
SUMMARY:Lähetysilta
DESCRIPTION:Etävieraana Aaron Ibrahim Avainmediasta\, Anne Katto-Davidsson
URL:https://www.fohe.fi/tapahtuma/lahetysilta-15/
LOCATION:Forssan helluntaiseurakunta\, Nikkilänkatu 2\, Forssa\, 30100\, Suomi
CATEGORIES:Tulevat Sanan ja rukouksen illat
ATTACH;FMTTYPE=image/jpeg:https://www.fohe.fi/wp-content/uploads/2023/02/Sana-ja-rukous-APxRNx.tmp_.jpg
ORGANIZER;CN="Forssan helluntaiseurakunta":MAILTO:seurakunta@fohe.fi
END:VEVENT
BEGIN:VEVENT
DTSTART;TZID=Europe/Helsinki:20241122T190000
DTEND;TZID=Europe/Helsinki:20241122T220000
DTSTAMP:20260419T191448
CREATED:20241031T074325Z
LAST-MODIFIED:20241031T075639Z
UID:13935-1732302000-1732312800@www.fohe.fi
SUMMARY:Fohe Youth -nuortenilta
DESCRIPTION:Käy katsomassa tuoreet päivitykset: https://www.instagram.com/foheyouth/
URL:https://www.fohe.fi/tapahtuma/fohe-youth-nuortenilta-168/
LOCATION:Forssan helluntaiseurakunta\, Nikkilänkatu 2\, Forssa\, 30100\, Suomi
ORGANIZER;CN="Forssan helluntaiseurakunta":MAILTO:seurakunta@fohe.fi
END:VEVENT
BEGIN:VEVENT
DTSTART;TZID=Europe/Helsinki:20241124T160000
DTEND;TZID=Europe/Helsinki:20241124T180000
DTSTAMP:20260419T191448
CREATED:20241031T074340Z
LAST-MODIFIED:20241031T074340Z
UID:13936-1732464000-1732471200@www.fohe.fi
SUMMARY:Famijumis
DESCRIPTION:Koko perheen yhteinen toiminnallinen jumalanpalvelus
URL:https://www.fohe.fi/tapahtuma/famijumis/
LOCATION:Forssan helluntaiseurakunta\, Nikkilänkatu 2\, Forssa\, 30100\, Suomi
CATEGORIES:Tulevat Jumalanpalvelukset
ORGANIZER;CN="Forssan helluntaiseurakunta":MAILTO:seurakunta@fohe.fi
END:VEVENT
END:VCALENDAR