BEGIN:VCALENDAR
VERSION:2.0
PRODID:-//Forssan Helluntaiseurakunta - ECPv6.15.20//NONSGML v1.0//EN
CALSCALE:GREGORIAN
METHOD:PUBLISH
X-ORIGINAL-URL:https://www.fohe.fi
X-WR-CALDESC:Tapahtumat Forssan Helluntaiseurakunta
REFRESH-INTERVAL;VALUE=DURATION:PT1H
X-Robots-Tag:noindex
X-PUBLISHED-TTL:PT1H
BEGIN:VTIMEZONE
TZID:Europe/Helsinki
BEGIN:DAYLIGHT
TZOFFSETFROM:+0200
TZOFFSETTO:+0300
TZNAME:EEST
DTSTART:20230326T010000
END:DAYLIGHT
BEGIN:STANDARD
TZOFFSETFROM:+0300
TZOFFSETTO:+0200
TZNAME:EET
DTSTART:20231029T010000
END:STANDARD
BEGIN:DAYLIGHT
TZOFFSETFROM:+0200
TZOFFSETTO:+0300
TZNAME:EEST
DTSTART:20240331T010000
END:DAYLIGHT
BEGIN:STANDARD
TZOFFSETFROM:+0300
TZOFFSETTO:+0200
TZNAME:EET
DTSTART:20241027T010000
END:STANDARD
BEGIN:DAYLIGHT
TZOFFSETFROM:+0200
TZOFFSETTO:+0300
TZNAME:EEST
DTSTART:20250330T010000
END:DAYLIGHT
BEGIN:STANDARD
TZOFFSETFROM:+0300
TZOFFSETTO:+0200
TZNAME:EET
DTSTART:20251026T010000
END:STANDARD
BEGIN:DAYLIGHT
TZOFFSETFROM:+0200
TZOFFSETTO:+0300
TZNAME:EEST
DTSTART:20260329T010000
END:DAYLIGHT
BEGIN:STANDARD
TZOFFSETFROM:+0300
TZOFFSETTO:+0200
TZNAME:EET
DTSTART:20261025T010000
END:STANDARD
END:VTIMEZONE
BEGIN:VEVENT
DTSTART;TZID=Europe/Helsinki:20241126T180000
DTEND;TZID=Europe/Helsinki:20241126T200000
DTSTAMP:20260419T205818
CREATED:20241031T074340Z
LAST-MODIFIED:20241031T074340Z
UID:13938-1732644000-1732651200@www.fohe.fi
SUMMARY:Sanan ja rukouksen ilta
DESCRIPTION:Elli Hintsanen ja nuoret
URL:https://www.fohe.fi/tapahtuma/sanan-ja-rukouksen-ilta-260/
LOCATION:Forssan helluntaiseurakunta\, Nikkilänkatu 2\, Forssa\, 30100\, Suomi
CATEGORIES:Tulevat Sanan ja rukouksen illat
ORGANIZER;CN="Forssan helluntaiseurakunta":MAILTO:seurakunta@fohe.fi
END:VEVENT
BEGIN:VEVENT
DTSTART;TZID=Europe/Helsinki:20241129T190000
DTEND;TZID=Europe/Helsinki:20241129T220000
DTSTAMP:20260419T205818
CREATED:20241031T074341Z
LAST-MODIFIED:20241031T075820Z
UID:13939-1732906800-1732917600@www.fohe.fi
SUMMARY:Fohe Youth -nuortenilta
DESCRIPTION:Käy katsomassa tuoreet päivitykset: https://www.instagram.com/foheyouth/
URL:https://www.fohe.fi/tapahtuma/fohe-youth-nuortenilta-169/
LOCATION:Forssan helluntaiseurakunta\, Nikkilänkatu 2\, Forssa\, 30100\, Suomi
ORGANIZER;CN="Forssan helluntaiseurakunta":MAILTO:seurakunta@fohe.fi
END:VEVENT
BEGIN:VEVENT
DTSTART;TZID=Europe/Helsinki:20241201T110000
DTEND;TZID=Europe/Helsinki:20241201T130000
DTSTAMP:20260419T205818
CREATED:20241031T074341Z
LAST-MODIFIED:20241031T074341Z
UID:13940-1733050800-1733058000@www.fohe.fi
SUMMARY:Ehtoollisjuhla
DESCRIPTION:Raimo Huotelin\, Tommi Hintsanen\, Suvi Hintsanen
URL:https://www.fohe.fi/tapahtuma/ehtoollisjuhla-64/
LOCATION:Forssan helluntaiseurakunta\, Nikkilänkatu 2\, Forssa\, 30100\, Suomi
CATEGORIES:Tulevat Jumalanpalvelukset
ATTACH;FMTTYPE=image/jpeg:https://www.fohe.fi/wp-content/uploads/2023/02/Ehtoollinen-tDTYAj.tmp_-scaled.jpg
ORGANIZER;CN="Forssan helluntaiseurakunta":MAILTO:seurakunta@fohe.fi
END:VEVENT
BEGIN:VEVENT
DTSTART;TZID=Europe/Helsinki:20241201T180000
DTEND;TZID=Europe/Helsinki:20241201T200000
DTSTAMP:20260419T205818
CREATED:20241031T074546Z
LAST-MODIFIED:20241031T074546Z
UID:13941-1733076000-1733083200@www.fohe.fi
SUMMARY:”Kun joulu on” -joululaulujen ilta
DESCRIPTION:René Laulajainen laulamassa ja laulattamassa rakkaita joululauluja. Tilaisuuden jälkeen kahvio ja myyjäiset. Paikalla Aurinkokustannuksen edustaja\, voit ostaa hyviä kirjoja\, äänitteitä ja muita tuotteita joululahjaksi.
URL:https://www.fohe.fi/tapahtuma/kun-joulu-on-joululaulujen-ilta/
LOCATION:Forssan helluntaiseurakunta\, Nikkilänkatu 2\, Forssa\, 30100\, Suomi
ORGANIZER;CN="Forssan helluntaiseurakunta":MAILTO:seurakunta@fohe.fi
END:VEVENT
BEGIN:VEVENT
DTSTART;TZID=Europe/Helsinki:20241202T180000
DTEND;TZID=Europe/Helsinki:20241202T200000
DTSTAMP:20260419T205818
CREATED:20241128T091301Z
LAST-MODIFIED:20241128T091301Z
UID:14009-1733162400-1733169600@www.fohe.fi
SUMMARY:Kuoroharjoitus
DESCRIPTION:
URL:https://www.fohe.fi/tapahtuma/kuoroharjoitus-8/
LOCATION:Forssan helluntaiseurakunta\, Nikkilänkatu 2\, Forssa\, 30100\, Suomi
ORGANIZER;CN="Forssan helluntaiseurakunta":MAILTO:seurakunta@fohe.fi
END:VEVENT
BEGIN:VEVENT
DTSTART;TZID=Europe/Helsinki:20241203T180000
DTEND;TZID=Europe/Helsinki:20241203T200000
DTSTAMP:20260419T205818
CREATED:20241128T090748Z
LAST-MODIFIED:20241128T091726Z
UID:13989-1733248800-1733256000@www.fohe.fi
SUMMARY:Sanan ja rukouksen ilta
DESCRIPTION:Tommi Hintsanen\, Mirja Karvinen
URL:https://www.fohe.fi/tapahtuma/sanan-ja-rukouksen-ilta-261/
LOCATION:Forssan helluntaiseurakunta\, Nikkilänkatu 2\, Forssa\, 30100\, Suomi
CATEGORIES:Tulevat Sanan ja rukouksen illat
ATTACH;FMTTYPE=image/jpeg:https://www.fohe.fi/wp-content/uploads/2023/02/Ehtoollinen-tDTYAj.tmp_-scaled.jpg
ORGANIZER;CN="Forssan helluntaiseurakunta":MAILTO:seurakunta@fohe.fi
END:VEVENT
BEGIN:VEVENT
DTSTART;TZID=Europe/Helsinki:20241204T170000
DTEND;TZID=Europe/Helsinki:20241204T180000
DTSTAMP:20260419T205818
CREATED:20241128T090749Z
LAST-MODIFIED:20241128T091301Z
UID:13990-1733331600-1733335200@www.fohe.fi
SUMMARY:Ruoka-avun jakoa vähävaraisille
DESCRIPTION:
URL:https://www.fohe.fi/tapahtuma/ruoka-avun-jakoa-vahavaraisille-2/
LOCATION:Forssan helluntaiseurakunta\, Nikkilänkatu 2\, Forssa\, 30100\, Suomi
ORGANIZER;CN="Forssan helluntaiseurakunta":MAILTO:seurakunta@fohe.fi
END:VEVENT
BEGIN:VEVENT
DTSTART;TZID=Europe/Helsinki:20241205T083000
DTEND;TZID=Europe/Helsinki:20241205T100000
DTSTAMP:20260419T205818
CREATED:20241128T090749Z
LAST-MODIFIED:20241128T091301Z
UID:13991-1733387400-1733392800@www.fohe.fi
SUMMARY:Yhteiskristillinen aamurukous
DESCRIPTION:Pientä tarjoilua\, Raamatun tutkimista yhdessä\, rukousta\, tervetuloa mukaan
URL:https://www.fohe.fi/tapahtuma/yhteiskristillinen-aamurukous-9/
END:VEVENT
BEGIN:VEVENT
DTSTART;TZID=Europe/Helsinki:20241208T110000
DTEND;TZID=Europe/Helsinki:20241208T130000
DTSTAMP:20260419T205818
CREATED:20241128T090749Z
LAST-MODIFIED:20241128T091303Z
UID:13992-1733655600-1733662800@www.fohe.fi
SUMMARY:Jumalanpalvelus
DESCRIPTION:Jarkko Vainio\, Kari Turkki\, Anne Katto-Davidsson
URL:https://www.fohe.fi/tapahtuma/jumalanpalvelus-38/
LOCATION:Forssan helluntaiseurakunta\, Nikkilänkatu 2\, Forssa\, 30100\, Suomi
CATEGORIES:Tulevat Jumalanpalvelukset
ORGANIZER;CN="Forssan helluntaiseurakunta":MAILTO:seurakunta@fohe.fi
END:VEVENT
BEGIN:VEVENT
DTSTART;TZID=Europe/Helsinki:20241208T160000
DTEND;TZID=Europe/Helsinki:20241208T180000
DTSTAMP:20260419T205818
CREATED:20241128T090751Z
LAST-MODIFIED:20241128T091303Z
UID:13993-1733673600-1733680800@www.fohe.fi
SUMMARY:International Service
DESCRIPTION:
URL:https://www.fohe.fi/tapahtuma/international-service-41/
LOCATION:Forssan helluntaiseurakunta\, Nikkilänkatu 2\, Forssa\, 30100\, Suomi
CATEGORIES:Tulevat Jumalanpalvelukset
ORGANIZER;CN="Forssan helluntaiseurakunta":MAILTO:seurakunta@fohe.fi
END:VEVENT
BEGIN:VEVENT
DTSTART;TZID=Europe/Helsinki:20241209T180000
DTEND;TZID=Europe/Helsinki:20241209T200000
DTSTAMP:20260419T205818
CREATED:20241128T091303Z
LAST-MODIFIED:20241128T091303Z
UID:14015-1733767200-1733774400@www.fohe.fi
SUMMARY:Kuoroharjoitus
DESCRIPTION:
URL:https://www.fohe.fi/tapahtuma/kuoroharjoitus-9/
LOCATION:Forssan helluntaiseurakunta\, Nikkilänkatu 2\, Forssa\, 30100\, Suomi
ORGANIZER;CN="Forssan helluntaiseurakunta":MAILTO:seurakunta@fohe.fi
END:VEVENT
BEGIN:VEVENT
DTSTART;TZID=Europe/Helsinki:20241210T180000
DTEND;TZID=Europe/Helsinki:20241210T200000
DTSTAMP:20260419T205818
CREATED:20241128T090752Z
LAST-MODIFIED:20241128T091303Z
UID:13994-1733853600-1733860800@www.fohe.fi
SUMMARY:Sanan ja rukouksen ilta
DESCRIPTION:Pia Hagert\, Marutzella Lindroos\, Elli Hintsanen
URL:https://www.fohe.fi/tapahtuma/sanan-ja-rukouksen-ilta-262/
LOCATION:Forssan helluntaiseurakunta\, Nikkilänkatu 2\, Forssa\, 30100\, Suomi
CATEGORIES:Tulevat Sanan ja rukouksen illat
ATTACH;FMTTYPE=image/jpeg:https://www.fohe.fi/wp-content/uploads/2023/02/Sana-ja-rukous-APxRNx.tmp_.jpg
ORGANIZER;CN="Forssan helluntaiseurakunta":MAILTO:seurakunta@fohe.fi
END:VEVENT
BEGIN:VEVENT
DTSTART;TZID=Europe/Helsinki:20241213T180000
DTEND;TZID=Europe/Helsinki:20241213T220000
DTSTAMP:20260419T205818
CREATED:20241128T090753Z
LAST-MODIFIED:20241128T091304Z
UID:13995-1734112800-1734127200@www.fohe.fi
SUMMARY:Fohe Youth -nuortenilta
DESCRIPTION:
URL:https://www.fohe.fi/tapahtuma/fohe-youth-nuortenilta-170/
LOCATION:Forssan helluntaiseurakunta\, Nikkilänkatu 2\, Forssa\, 30100\, Suomi
ORGANIZER;CN="Forssan helluntaiseurakunta":MAILTO:seurakunta@fohe.fi
END:VEVENT
BEGIN:VEVENT
DTSTART;TZID=Europe/Helsinki:20241215T160000
DTEND;TZID=Europe/Helsinki:20241215T180000
DTSTAMP:20260419T205818
CREATED:20241128T090753Z
LAST-MODIFIED:20241128T091318Z
UID:13996-1734278400-1734285600@www.fohe.fi
SUMMARY:Joulujuhla
DESCRIPTION:Jouluisen juhlaohjelman jälkeen joulupuuro ja -tortut
URL:https://www.fohe.fi/tapahtuma/joulujuhla-5/
LOCATION:Forssan helluntaiseurakunta\, Nikkilänkatu 2\, Forssa\, 30100\, Suomi
CATEGORIES:Tulevat Jumalanpalvelukset
ORGANIZER;CN="Forssan helluntaiseurakunta":MAILTO:seurakunta@fohe.fi
END:VEVENT
BEGIN:VEVENT
DTSTART;TZID=Europe/Helsinki:20241217T180000
DTEND;TZID=Europe/Helsinki:20241217T200000
DTSTAMP:20260419T205818
CREATED:20241128T090753Z
LAST-MODIFIED:20241128T091319Z
UID:13997-1734458400-1734465600@www.fohe.fi
SUMMARY:Sanan ja rukouksen ilta
DESCRIPTION:Tommi Hintsanen\, Marita Rasila
URL:https://www.fohe.fi/tapahtuma/sanan-ja-rukouksen-ilta-263/
LOCATION:Forssan helluntaiseurakunta\, Nikkilänkatu 2\, Forssa\, 30100\, Suomi
CATEGORIES:Tulevat Sanan ja rukouksen illat
ATTACH;FMTTYPE=image/jpeg:https://www.fohe.fi/wp-content/uploads/2023/02/Sana-ja-rukous-APxRNx.tmp_.jpg
ORGANIZER;CN="Forssan helluntaiseurakunta":MAILTO:seurakunta@fohe.fi
END:VEVENT
BEGIN:VEVENT
DTSTART;TZID=Europe/Helsinki:20241220T120000
DTEND;TZID=Europe/Helsinki:20241220T200000
DTSTAMP:20260419T205818
CREATED:20241128T090807Z
LAST-MODIFIED:20241128T091319Z
UID:13998-1734696000-1734724800@www.fohe.fi
SUMMARY:Katukirkon joulujuhla
DESCRIPTION:
URL:https://www.fohe.fi/tapahtuma/katukirkon-joulujuhla-5/
LOCATION:Seurakuntatalo\, Kartanonkatu 16\, Forssa\, 30100
END:VEVENT
BEGIN:VEVENT
DTSTART;TZID=Europe/Helsinki:20241220T180000
DTEND;TZID=Europe/Helsinki:20241220T220000
DTSTAMP:20260419T205818
CREATED:20241128T090807Z
LAST-MODIFIED:20241128T091319Z
UID:13999-1734717600-1734732000@www.fohe.fi
SUMMARY:Fohe Youth -nuortenilta
DESCRIPTION:
URL:https://www.fohe.fi/tapahtuma/fohe-youth-nuortenilta-171/
LOCATION:Forssan helluntaiseurakunta\, Nikkilänkatu 2\, Forssa\, 30100\, Suomi
ORGANIZER;CN="Forssan helluntaiseurakunta":MAILTO:seurakunta@fohe.fi
END:VEVENT
BEGIN:VEVENT
DTSTART;TZID=Europe/Helsinki:20241222T110000
DTEND;TZID=Europe/Helsinki:20241222T130000
DTSTAMP:20260419T205818
CREATED:20241128T090807Z
LAST-MODIFIED:20241128T091319Z
UID:14000-1734865200-1734872400@www.fohe.fi
SUMMARY:Jumalanpalvelus
DESCRIPTION:Tommi Hintsanen\, Elli Hintsanen
URL:https://www.fohe.fi/tapahtuma/jumalanpalvelus-39/
LOCATION:Forssan helluntaiseurakunta\, Nikkilänkatu 2\, Forssa\, 30100\, Suomi
CATEGORIES:Tulevat Jumalanpalvelukset
ORGANIZER;CN="Forssan helluntaiseurakunta":MAILTO:seurakunta@fohe.fi
END:VEVENT
BEGIN:VEVENT
DTSTART;TZID=Europe/Helsinki:20241222T160000
DTEND;TZID=Europe/Helsinki:20241222T180000
DTSTAMP:20260419T205818
CREATED:20241128T090807Z
LAST-MODIFIED:20241128T091519Z
UID:14001-1734883200-1734890400@www.fohe.fi
SUMMARY:International Service Christmas Celebration
DESCRIPTION:
URL:https://www.fohe.fi/tapahtuma/international-service-christmas-celebration/
LOCATION:Forssan helluntaiseurakunta\, Nikkilänkatu 2\, Forssa\, 30100\, Suomi
CATEGORIES:Tulevat Jumalanpalvelukset
ORGANIZER;CN="Forssan helluntaiseurakunta":MAILTO:seurakunta@fohe.fi
END:VEVENT
BEGIN:VEVENT
DTSTART;TZID=Europe/Helsinki:20241226T180000
DTEND;TZID=Europe/Helsinki:20241226T200000
DTSTAMP:20260419T205818
CREATED:20241128T091519Z
LAST-MODIFIED:20241128T091519Z
UID:14024-1735236000-1735243200@www.fohe.fi
SUMMARY:Joululaulujen ilta
DESCRIPTION:
URL:https://www.fohe.fi/tapahtuma/joululaulujen-ilta-4/
LOCATION:Forssan helluntaiseurakunta\, Nikkilänkatu 2\, Forssa\, 30100\, Suomi
CATEGORIES:Tulevat Sanan ja rukouksen illat
ORGANIZER;CN="Forssan helluntaiseurakunta":MAILTO:seurakunta@fohe.fi
END:VEVENT
BEGIN:VEVENT
DTSTART;TZID=Europe/Helsinki:20241229T110000
DTEND;TZID=Europe/Helsinki:20241229T130000
DTSTAMP:20260419T205818
CREATED:20241128T090822Z
LAST-MODIFIED:20241128T091520Z
UID:14003-1735470000-1735477200@www.fohe.fi
SUMMARY:Jumalanpalvelus
DESCRIPTION:Pentti Riekkinen\, Raimo Huotelin\, Anne Katto-Davidsson
URL:https://www.fohe.fi/tapahtuma/jumalanpalvelus-40/
LOCATION:Forssan helluntaiseurakunta\, Nikkilänkatu 2\, Forssa\, 30100\, Suomi
CATEGORIES:Tulevat Jumalanpalvelukset
ORGANIZER;CN="Forssan helluntaiseurakunta":MAILTO:seurakunta@fohe.fi
END:VEVENT
BEGIN:VEVENT
DTSTART;TZID=Europe/Helsinki:20241231T180000
DTEND;TZID=Europe/Helsinki:20241231T200000
DTSTAMP:20260419T205818
CREATED:20241128T090822Z
LAST-MODIFIED:20241128T091736Z
UID:14004-1735668000-1735675200@www.fohe.fi
SUMMARY:Sanan ja rukouksen ilta
DESCRIPTION:Markku Rajala\, Mirja Karvinen
URL:https://www.fohe.fi/tapahtuma/sanan-ja-rukouksen-ilta-264/
LOCATION:Forssan helluntaiseurakunta\, Nikkilänkatu 2\, Forssa\, 30100\, Suomi
CATEGORIES:Tulevat Sanan ja rukouksen illat
ATTACH;FMTTYPE=image/jpeg:https://www.fohe.fi/wp-content/uploads/2023/02/Ehtoollinen-tDTYAj.tmp_-scaled.jpg
ORGANIZER;CN="Forssan helluntaiseurakunta":MAILTO:seurakunta@fohe.fi
END:VEVENT
BEGIN:VEVENT
DTSTART;TZID=Europe/Helsinki:20250105T110000
DTEND;TZID=Europe/Helsinki:20250105T130000
DTSTAMP:20260419T205818
CREATED:20241128T090823Z
LAST-MODIFIED:20241230T190939Z
UID:14006-1736074800-1736082000@www.fohe.fi
SUMMARY:Ehtoollisjuhla
DESCRIPTION:Tommi Hintsanen\, Tapio Sopanen\, Mirja Karvinen\, Marjo Rajala\, ruokailu\, seurakunnan keskustelutilaisuus
URL:https://www.fohe.fi/tapahtuma/ehtoollisjuhla-65/
LOCATION:Forssan helluntaiseurakunta\, Nikkilänkatu 2\, Forssa\, 30100\, Suomi
CATEGORIES:Tulevat Jumalanpalvelukset
ATTACH;FMTTYPE=image/jpeg:https://www.fohe.fi/wp-content/uploads/2023/02/Ehtoollinen-tDTYAj.tmp_-scaled.jpg
ORGANIZER;CN="Forssan helluntaiseurakunta":MAILTO:seurakunta@fohe.fi
END:VEVENT
BEGIN:VEVENT
DTSTART;TZID=Europe/Helsinki:20250105T160000
DTEND;TZID=Europe/Helsinki:20250105T180000
DTSTAMP:20260419T205818
CREATED:20241230T190546Z
LAST-MODIFIED:20241230T190939Z
UID:14051-1736092800-1736100000@www.fohe.fi
SUMMARY:International service
DESCRIPTION:Come and join us for worship\, Bible study and fellowship!
URL:https://www.fohe.fi/tapahtuma/international-service-42/
LOCATION:Forssan helluntaiseurakunta\, Nikkilänkatu 2\, Forssa\, 30100\, Suomi
ORGANIZER;CN="Forssan helluntaiseurakunta":MAILTO:seurakunta@fohe.fi
END:VEVENT
BEGIN:VEVENT
DTSTART;TZID=Europe/Helsinki:20250107T120000
DTEND;TZID=Europe/Helsinki:20250107T130000
DTSTAMP:20260419T205818
CREATED:20241230T190546Z
LAST-MODIFIED:20241230T190939Z
UID:14052-1736251200-1736254800@www.fohe.fi
SUMMARY:Rukouskokous
DESCRIPTION:Rukousviikko ti-to 7.-9.1. Rukouskokoukset klo 12 & 18.
URL:https://www.fohe.fi/tapahtuma/rukouskokous-59/
LOCATION:Forssan helluntaiseurakunta\, Nikkilänkatu 2\, Forssa\, 30100\, Suomi
ORGANIZER;CN="Forssan helluntaiseurakunta":MAILTO:seurakunta@fohe.fi
END:VEVENT
BEGIN:VEVENT
DTSTART;TZID=Europe/Helsinki:20250107T180000
DTEND;TZID=Europe/Helsinki:20250107T190000
DTSTAMP:20260419T205818
CREATED:20241230T190546Z
LAST-MODIFIED:20241230T190939Z
UID:14053-1736272800-1736276400@www.fohe.fi
SUMMARY:Rukouskokous
DESCRIPTION:Rukousviikko ti-to 7.-9.1. Rukouskokoukset klo 12 & 18.
URL:https://www.fohe.fi/tapahtuma/rukouskokous-60/
LOCATION:Forssan helluntaiseurakunta\, Nikkilänkatu 2\, Forssa\, 30100\, Suomi
ORGANIZER;CN="Forssan helluntaiseurakunta":MAILTO:seurakunta@fohe.fi
END:VEVENT
BEGIN:VEVENT
DTSTART;TZID=Europe/Helsinki:20250108T120000
DTEND;TZID=Europe/Helsinki:20250108T130000
DTSTAMP:20260419T205818
CREATED:20241230T190547Z
LAST-MODIFIED:20241230T190939Z
UID:14054-1736337600-1736341200@www.fohe.fi
SUMMARY:Rukouskokous
DESCRIPTION:Rukousviikko ti-to 7.-9.1. Rukouskokoukset klo 12 & 18.
URL:https://www.fohe.fi/tapahtuma/rukouskokous-61/
LOCATION:Forssan helluntaiseurakunta\, Nikkilänkatu 2\, Forssa\, 30100\, Suomi
ORGANIZER;CN="Forssan helluntaiseurakunta":MAILTO:seurakunta@fohe.fi
END:VEVENT
BEGIN:VEVENT
DTSTART;TZID=Europe/Helsinki:20250108T170000
DTEND;TZID=Europe/Helsinki:20250108T180000
DTSTAMP:20260419T205818
CREATED:20241128T090823Z
LAST-MODIFIED:20241128T091520Z
UID:14005-1736355600-1736359200@www.fohe.fi
SUMMARY:Ruoka-avun jakoa vähävaraisille
DESCRIPTION:
URL:https://www.fohe.fi/tapahtuma/ruoka-avun-jakoa-vahavaraisille-3/
LOCATION:Forssan helluntaiseurakunta\, Nikkilänkatu 2\, Forssa\, 30100\, Suomi
ORGANIZER;CN="Forssan helluntaiseurakunta":MAILTO:seurakunta@fohe.fi
END:VEVENT
BEGIN:VEVENT
DTSTART;TZID=Europe/Helsinki:20250108T170000
DTEND;TZID=Europe/Helsinki:20250108T180000
DTSTAMP:20260419T205818
CREATED:20241230T190549Z
LAST-MODIFIED:20241230T190941Z
UID:14055-1736355600-1736359200@www.fohe.fi
SUMMARY:Ruokajako
DESCRIPTION:Ruoka-apua vähävaraisille\, kahvitus ja keskustelua.
URL:https://www.fohe.fi/tapahtuma/ruokajako-4/
LOCATION:Forssan helluntaiseurakunta\, Nikkilänkatu 2\, Forssa\, 30100\, Suomi
ORGANIZER;CN="Forssan helluntaiseurakunta":MAILTO:seurakunta@fohe.fi
END:VEVENT
BEGIN:VEVENT
DTSTART;TZID=Europe/Helsinki:20250108T180000
DTEND;TZID=Europe/Helsinki:20250108T190000
DTSTAMP:20260419T205818
CREATED:20241230T190549Z
LAST-MODIFIED:20241230T190941Z
UID:14056-1736359200-1736362800@www.fohe.fi
SUMMARY:Rukouskokous
DESCRIPTION:Rukousviikko ti-to 7.-9.1. Rukouskokoukset klo 12 & 18.
URL:https://www.fohe.fi/tapahtuma/rukouskokous-62/
LOCATION:Forssan helluntaiseurakunta\, Nikkilänkatu 2\, Forssa\, 30100\, Suomi
ORGANIZER;CN="Forssan helluntaiseurakunta":MAILTO:seurakunta@fohe.fi
END:VEVENT
END:VCALENDAR