BEGIN:VCALENDAR
VERSION:2.0
PRODID:-//Forssan Helluntaiseurakunta - ECPv6.15.20//NONSGML v1.0//EN
CALSCALE:GREGORIAN
METHOD:PUBLISH
X-WR-CALNAME:Forssan Helluntaiseurakunta
X-ORIGINAL-URL:https://www.fohe.fi
X-WR-CALDESC:Tapahtumat Forssan Helluntaiseurakunta
REFRESH-INTERVAL;VALUE=DURATION:PT1H
X-Robots-Tag:noindex
X-PUBLISHED-TTL:PT1H
BEGIN:VTIMEZONE
TZID:Europe/Helsinki
BEGIN:DAYLIGHT
TZOFFSETFROM:+0200
TZOFFSETTO:+0300
TZNAME:EEST
DTSTART:20240331T010000
END:DAYLIGHT
BEGIN:STANDARD
TZOFFSETFROM:+0300
TZOFFSETTO:+0200
TZNAME:EET
DTSTART:20241027T010000
END:STANDARD
BEGIN:DAYLIGHT
TZOFFSETFROM:+0200
TZOFFSETTO:+0300
TZNAME:EEST
DTSTART:20250330T010000
END:DAYLIGHT
BEGIN:STANDARD
TZOFFSETFROM:+0300
TZOFFSETTO:+0200
TZNAME:EET
DTSTART:20251026T010000
END:STANDARD
BEGIN:DAYLIGHT
TZOFFSETFROM:+0200
TZOFFSETTO:+0300
TZNAME:EEST
DTSTART:20260329T010000
END:DAYLIGHT
BEGIN:STANDARD
TZOFFSETFROM:+0300
TZOFFSETTO:+0200
TZNAME:EET
DTSTART:20261025T010000
END:STANDARD
END:VTIMEZONE
BEGIN:VEVENT
DTSTART;TZID=Europe/Helsinki:20250610T190000
DTEND;TZID=Europe/Helsinki:20250610T200000
DTSTAMP:20260419T151201
CREATED:20250531T095936Z
LAST-MODIFIED:20250531T100350Z
UID:14315-1749582000-1749585600@www.fohe.fi
SUMMARY:Tutustu Jeesukseen -ilta
DESCRIPTION:Petri Fonsen\, Arto Boa\, naisten lauluryhmä
URL:https://www.fohe.fi/tapahtuma/tutustu-jeesukseen-ilta/
LOCATION:Forssan helluntaiseurakunta\, Nikkilänkatu 2\, Forssa\, 30100\, Suomi
CATEGORIES:Tulevat Sanan ja rukouksen illat
ORGANIZER;CN="Forssan helluntaiseurakunta":MAILTO:seurakunta@fohe.fi
END:VEVENT
BEGIN:VEVENT
DTSTART;TZID=Europe/Helsinki:20250608T160000
DTEND;TZID=Europe/Helsinki:20250608T170000
DTSTAMP:20260419T151201
CREATED:20250531T095934Z
LAST-MODIFIED:20250531T095934Z
UID:14314-1749398400-1749402000@www.fohe.fi
SUMMARY:International service
DESCRIPTION:Worship\, Bible study and fellowship!
URL:https://www.fohe.fi/tapahtuma/international-service-49/
LOCATION:Forssan helluntaiseurakunta\, Nikkilänkatu 2\, Forssa\, 30100\, Suomi
CATEGORIES:Tulevat Jumalanpalvelukset
ORGANIZER;CN="Forssan helluntaiseurakunta":MAILTO:seurakunta@fohe.fi
END:VEVENT
BEGIN:VEVENT
DTSTART;TZID=Europe/Helsinki:20250608T110000
DTEND;TZID=Europe/Helsinki:20250608T130000
DTSTAMP:20260419T151201
CREATED:20250531T095934Z
LAST-MODIFIED:20250531T095934Z
UID:14313-1749380400-1749387600@www.fohe.fi
SUMMARY:Jumalanpalvelus
DESCRIPTION:Tommi Hintsanen\, Nicholas Sarasta Singaporesta\, Suvi Hintsanen
URL:https://www.fohe.fi/tapahtuma/jumalanpalvelus-87/
LOCATION:Forssan helluntaiseurakunta\, Nikkilänkatu 2\, Forssa\, 30100\, Suomi
CATEGORIES:Tulevat Jumalanpalvelukset
ORGANIZER;CN="Forssan helluntaiseurakunta":MAILTO:seurakunta@fohe.fi
END:VEVENT
BEGIN:VEVENT
DTSTART;TZID=Europe/Helsinki:20250604T170000
DTEND;TZID=Europe/Helsinki:20250604T180000
DTSTAMP:20260419T151201
CREATED:20250531T095933Z
LAST-MODIFIED:20250531T095933Z
UID:14312-1749056400-1749060000@www.fohe.fi
SUMMARY:Ruokajako vähävaraisille
DESCRIPTION:ruokapussien jako ja kahvitus
URL:https://www.fohe.fi/tapahtuma/ruokajako-vahavaraisille-3/
LOCATION:Forssan helluntaiseurakunta\, Nikkilänkatu 2\, Forssa\, 30100\, Suomi
ORGANIZER;CN="Forssan helluntaiseurakunta":MAILTO:seurakunta@fohe.fi
END:VEVENT
BEGIN:VEVENT
DTSTART;TZID=Europe/Helsinki:20250603T190000
DTEND;TZID=Europe/Helsinki:20250603T200000
DTSTAMP:20260419T151201
CREATED:20250531T095933Z
LAST-MODIFIED:20250531T095933Z
UID:14311-1748977200-1748980800@www.fohe.fi
SUMMARY:Sanan ja rukouksen ilta
DESCRIPTION:Raimo Huotelin\, Marita Rasila
URL:https://www.fohe.fi/tapahtuma/sanan-ja-rukouksen-ilta-280/
LOCATION:Forssan helluntaiseurakunta\, Nikkilänkatu 2\, Forssa\, 30100\, Suomi
CATEGORIES:Tulevat Sanan ja rukouksen illat
ORGANIZER;CN="Forssan helluntaiseurakunta":MAILTO:seurakunta@fohe.fi
END:VEVENT
BEGIN:VEVENT
DTSTART;TZID=Europe/Helsinki:20250601T110000
DTEND;TZID=Europe/Helsinki:20250601T130000
DTSTAMP:20260419T151201
CREATED:20250531T095933Z
LAST-MODIFIED:20250531T095933Z
UID:14310-1748775600-1748782800@www.fohe.fi
SUMMARY:Ehtoollisjuhla
DESCRIPTION:Kari Turkki\, Tapio Sopanen\, kuoro
URL:https://www.fohe.fi/tapahtuma/ehtoollisjuhla-69/
LOCATION:Forssan helluntaiseurakunta\, Nikkilänkatu 2\, Forssa\, 30100\, Suomi
CATEGORIES:Tulevat Jumalanpalvelukset
ORGANIZER;CN="Forssan helluntaiseurakunta":MAILTO:seurakunta@fohe.fi
END:VEVENT
BEGIN:VEVENT
DTSTART;TZID=Europe/Helsinki:20250504T110000
DTEND;TZID=Europe/Helsinki:20250504T130000
DTSTAMP:20260419T151201
CREATED:20250409T191841Z
LAST-MODIFIED:20250409T191841Z
UID:14267-1746356400-1746363600@www.fohe.fi
SUMMARY:Ehtoollisjuhla
DESCRIPTION:Heikki Virta\, Tapio Sopanen\, Youth-band
URL:https://www.fohe.fi/tapahtuma/ehtoollisjuhla-68/
LOCATION:Forssan helluntaiseurakunta\, Nikkilänkatu 2\, Forssa\, 30100\, Suomi
CATEGORIES:Tulevat Jumalanpalvelukset
ATTACH;FMTTYPE=image/jpeg:https://www.fohe.fi/wp-content/uploads/2024/04/Ehtoollinen-tDTYAj.tmp_-scaled-4htNgl.tmp_.jpg
ORGANIZER;CN="Forssan helluntaiseurakunta":MAILTO:seurakunta@fohe.fi
END:VEVENT
BEGIN:VEVENT
DTSTART;TZID=Europe/Helsinki:20250502T190000
DTEND;TZID=Europe/Helsinki:20250502T220000
DTSTAMP:20260419T151201
CREATED:20250409T191841Z
LAST-MODIFIED:20250409T191841Z
UID:14266-1746212400-1746223200@www.fohe.fi
SUMMARY:Fohe Youth -nuortenilta
DESCRIPTION:Käy katsomassa tuoreet päivitykset: https://www.instagram.com/foheyouth/
URL:https://www.fohe.fi/tapahtuma/fohe-youth-nuortenilta-187/
LOCATION:Forssan helluntaiseurakunta\, Nikkilänkatu 2\, Forssa\, 30100\, Suomi
ORGANIZER;CN="Forssan helluntaiseurakunta":MAILTO:seurakunta@fohe.fi
END:VEVENT
BEGIN:VEVENT
DTSTART;TZID=Europe/Helsinki:20250429T190000
DTEND;TZID=Europe/Helsinki:20250429T200000
DTSTAMP:20260419T151201
CREATED:20250409T191827Z
LAST-MODIFIED:20250409T191827Z
UID:14265-1745953200-1745956800@www.fohe.fi
SUMMARY:Sanan ja rukouksen ilta
DESCRIPTION:Markku Rajala\, Mirja Karvinen
URL:https://www.fohe.fi/tapahtuma/sanan-ja-rukouksen-ilta-279/
LOCATION:Forssan helluntaiseurakunta\, Nikkilänkatu 2\, Forssa\, 30100\, Suomi
CATEGORIES:Tulevat Sanan ja rukouksen illat
ATTACH;FMTTYPE=image/jpeg:https://www.fohe.fi/wp-content/uploads/2023/02/Sana-ja-rukous-APxRNx.tmp_.jpg
ORGANIZER;CN="Forssan helluntaiseurakunta":MAILTO:seurakunta@fohe.fi
END:VEVENT
BEGIN:VEVENT
DTSTART;TZID=Europe/Helsinki:20250427T160000
DTEND;TZID=Europe/Helsinki:20250427T173000
DTSTAMP:20260419T151201
CREATED:20250424T090031Z
LAST-MODIFIED:20250424T090033Z
UID:14276-1745769600-1745775000@www.fohe.fi
SUMMARY:Leevi Ahopelto -ilosanomaa Sinulle
DESCRIPTION:Mukana myös pianovirtuoosi Hannu Ala ja kirjailija Tapani Sopanen. Olet sydämellisesti tervetullut!
URL:https://www.fohe.fi/tapahtuma/leevi-ahopelto-ilosanomaa-sinulle/
ATTACH;FMTTYPE=image/jpeg:https://www.fohe.fi/wp-content/uploads/2025/04/Forssa-27.4.2025-scaled.jpg
END:VEVENT
BEGIN:VEVENT
DTSTART;TZID=Europe/Helsinki:20250427T160000
DTEND;TZID=Europe/Helsinki:20250427T170000
DTSTAMP:20260419T151201
CREATED:20250409T191826Z
LAST-MODIFIED:20250409T192043Z
UID:14264-1745769600-1745773200@www.fohe.fi
SUMMARY:Ilosanoma sinulle
DESCRIPTION:Petri Fonsen\, Leevi Ahopelto & ryhmä
URL:https://www.fohe.fi/tapahtuma/ilosanoma-sinulle/
LOCATION:Forssan helluntaiseurakunta\, Nikkilänkatu 2\, Forssa\, 30100\, Suomi
CATEGORIES:Tulevat Jumalanpalvelukset
ATTACH;FMTTYPE=image/jpeg:https://www.fohe.fi/wp-content/uploads/2023/02/Ehtoollinen-tDTYAj.tmp_-scaled.jpg
ORGANIZER;CN="Forssan helluntaiseurakunta":MAILTO:seurakunta@fohe.fi
END:VEVENT
BEGIN:VEVENT
DTSTART;TZID=Europe/Helsinki:20250425T190000
DTEND;TZID=Europe/Helsinki:20250425T220000
DTSTAMP:20260419T151201
CREATED:20250409T191826Z
LAST-MODIFIED:20250409T191826Z
UID:14263-1745607600-1745618400@www.fohe.fi
SUMMARY:Fohe Youth -nuortenilta
DESCRIPTION:Käy katsomassa tuoreet päivitykset: https://www.instagram.com/foheyouth/
URL:https://www.fohe.fi/tapahtuma/fohe-youth-nuortenilta-186/
LOCATION:Forssan helluntaiseurakunta\, Nikkilänkatu 2\, Forssa\, 30100\, Suomi
ORGANIZER;CN="Forssan helluntaiseurakunta":MAILTO:seurakunta@fohe.fi
END:VEVENT
BEGIN:VEVENT
DTSTART;TZID=Europe/Helsinki:20250424T083000
DTEND;TZID=Europe/Helsinki:20250424T100000
DTSTAMP:20260419T151201
CREATED:20250409T191826Z
LAST-MODIFIED:20250409T191826Z
UID:14262-1745483400-1745488800@www.fohe.fi
SUMMARY:Aamurukous
DESCRIPTION:Pientä aamupalaa\, yhteistä jakamista Raamatun Sanasta ja rukousta
URL:https://www.fohe.fi/tapahtuma/aamurukous-8/
END:VEVENT
BEGIN:VEVENT
DTSTART;TZID=Europe/Helsinki:20250422T190000
DTEND;TZID=Europe/Helsinki:20250422T200000
DTSTAMP:20260419T151201
CREATED:20250409T191826Z
LAST-MODIFIED:20250409T191826Z
UID:14261-1745348400-1745352000@www.fohe.fi
SUMMARY:Sanan ja rukouksen ilta
DESCRIPTION:Raimo Huotelin\, Riitta Salokangas
URL:https://www.fohe.fi/tapahtuma/sanan-ja-rukouksen-ilta-278/
LOCATION:Forssan helluntaiseurakunta\, Nikkilänkatu 2\, Forssa\, 30100\, Suomi
CATEGORIES:Tulevat Sanan ja rukouksen illat
ATTACH;FMTTYPE=image/jpeg:https://www.fohe.fi/wp-content/uploads/2023/02/Sana-ja-rukous-APxRNx.tmp_.jpg
ORGANIZER;CN="Forssan helluntaiseurakunta":MAILTO:seurakunta@fohe.fi
END:VEVENT
BEGIN:VEVENT
DTSTART;TZID=Europe/Helsinki:20250420T110000
DTEND;TZID=Europe/Helsinki:20250420T130000
DTSTAMP:20260419T151201
CREATED:20250409T191811Z
LAST-MODIFIED:20250409T191811Z
UID:14259-1745146800-1745154000@www.fohe.fi
SUMMARY:Jumalanpalvelus
DESCRIPTION:Carola Flytström\, Kari Turkki\, naisten lauluryhmä
URL:https://www.fohe.fi/tapahtuma/jumalanpalvelus-49/
LOCATION:Forssan helluntaiseurakunta\, Nikkilänkatu 2\, Forssa\, 30100\, Suomi
CATEGORIES:Tulevat Jumalanpalvelukset
ATTACH;FMTTYPE=image/png:https://www.fohe.fi/wp-content/uploads/2024/04/Jumalanpalvelus-artikkelikuva.png
ORGANIZER;CN="Forssan helluntaiseurakunta":MAILTO:seurakunta@fohe.fi
END:VEVENT
BEGIN:VEVENT
DTSTART;TZID=Europe/Helsinki:20250418T160000
DTEND;TZID=Europe/Helsinki:20250418T170000
DTSTAMP:20260419T151201
CREATED:20250409T191810Z
LAST-MODIFIED:20250409T191810Z
UID:14258-1744992000-1744995600@www.fohe.fi
SUMMARY:Pitkäperjantain hartaus
DESCRIPTION:Yhteislauluja\, kuoro
URL:https://www.fohe.fi/tapahtuma/pitkaperjantain-hartaus/
LOCATION:Forssan helluntaiseurakunta\, Nikkilänkatu 2\, Forssa\, 30100\, Suomi
ORGANIZER;CN="Forssan helluntaiseurakunta":MAILTO:seurakunta@fohe.fi
END:VEVENT
BEGIN:VEVENT
DTSTART;TZID=Europe/Helsinki:20250417T180000
DTEND;TZID=Europe/Helsinki:20250417T200000
DTSTAMP:20260419T151201
CREATED:20250409T191810Z
LAST-MODIFIED:20250409T191810Z
UID:14257-1744912800-1744920000@www.fohe.fi
SUMMARY:Kiirastorstain pääsiäisateria
DESCRIPTION:Yhteinen ateria kiirastorstain tapahtumien tunnelmissa
URL:https://www.fohe.fi/tapahtuma/kiirastorstain-paasiaisateria/
LOCATION:Forssan helluntaiseurakunta\, Nikkilänkatu 2\, Forssa\, 30100\, Suomi
ORGANIZER;CN="Forssan helluntaiseurakunta":MAILTO:seurakunta@fohe.fi
END:VEVENT
BEGIN:VEVENT
DTSTART;TZID=Europe/Helsinki:20250415T190000
DTEND;TZID=Europe/Helsinki:20250415T200000
DTSTAMP:20260419T151201
CREATED:20250409T191757Z
LAST-MODIFIED:20250409T191757Z
UID:14256-1744743600-1744747200@www.fohe.fi
SUMMARY:Sanan ja rukouksen ilta
DESCRIPTION:Kari Turkki\, Riitta Pelto-Huikko
URL:https://www.fohe.fi/tapahtuma/sanan-ja-rukouksen-ilta-277/
LOCATION:Forssan helluntaiseurakunta\, Nikkilänkatu 2\, Forssa\, 30100\, Suomi
CATEGORIES:Tulevat Sanan ja rukouksen illat
ATTACH;FMTTYPE=image/jpeg:https://www.fohe.fi/wp-content/uploads/2023/02/Sana-ja-rukous-APxRNx.tmp_.jpg
ORGANIZER;CN="Forssan helluntaiseurakunta":MAILTO:seurakunta@fohe.fi
END:VEVENT
BEGIN:VEVENT
DTSTART;TZID=Europe/Helsinki:20250414T180000
DTEND;TZID=Europe/Helsinki:20250414T200000
DTSTAMP:20260419T151201
CREATED:20250409T191811Z
LAST-MODIFIED:20250409T191811Z
UID:14260-1744653600-1744660800@www.fohe.fi
SUMMARY:Katukirkko
DESCRIPTION:
URL:https://www.fohe.fi/tapahtuma/katukirkko-50/
LOCATION:Torikirkko\, Hämeentie 15\, Forssa\, 30100\, Suomi
ORGANIZER;CN="Forssan helluntaiseurakunta":MAILTO:seurakunta@fohe.fi
END:VEVENT
BEGIN:VEVENT
DTSTART;TZID=Europe/Helsinki:20250413T160000
DTEND;TZID=Europe/Helsinki:20250413T170000
DTSTAMP:20260419T151201
CREATED:20250409T191757Z
LAST-MODIFIED:20250409T191757Z
UID:14255-1744560000-1744563600@www.fohe.fi
SUMMARY:International service
DESCRIPTION:Worship\, Bible study\, fellowship
URL:https://www.fohe.fi/tapahtuma/international-service-48/
LOCATION:Forssan helluntaiseurakunta\, Nikkilänkatu 2\, Forssa\, 30100\, Suomi
CATEGORIES:Tulevat Jumalanpalvelukset
ATTACH;FMTTYPE=image/png:https://www.fohe.fi/wp-content/uploads/2024/04/International-service-artikkelikuva.png
ORGANIZER;CN="Forssan helluntaiseurakunta":MAILTO:seurakunta@fohe.fi
END:VEVENT
BEGIN:VEVENT
DTSTART;TZID=Europe/Helsinki:20250413T110000
DTEND;TZID=Europe/Helsinki:20250413T110000
DTSTAMP:20260419T151201
CREATED:20250409T191756Z
LAST-MODIFIED:20250409T191756Z
UID:14253-1744542000-1744542000@www.fohe.fi
SUMMARY:Jumalanpalvelus
DESCRIPTION:Petri Fonsen\, Markku Rajala\, Mirja Karvinen
URL:https://www.fohe.fi/tapahtuma/jumalanpalvelus-48/
LOCATION:Forssan helluntaiseurakunta\, Nikkilänkatu 2\, Forssa\, 30100\, Suomi
CATEGORIES:Tulevat Jumalanpalvelukset
ATTACH;FMTTYPE=image/png:https://www.fohe.fi/wp-content/uploads/2024/04/Jumalanpalvelus-artikkelikuva.png
ORGANIZER;CN="Forssan helluntaiseurakunta":MAILTO:seurakunta@fohe.fi
END:VEVENT
BEGIN:VEVENT
DTSTART;TZID=Europe/Helsinki:20250413T100000
DTEND;TZID=Europe/Helsinki:20250413T110000
DTSTAMP:20260419T151201
CREATED:20250409T191756Z
LAST-MODIFIED:20250409T191756Z
UID:14254-1744538400-1744542000@www.fohe.fi
SUMMARY:Seurakunnan kevätkokous
DESCRIPTION:
URL:https://www.fohe.fi/tapahtuma/seurakunnan-kevatkokous/
LOCATION:Forssan helluntaiseurakunta\, Nikkilänkatu 2\, Forssa\, 30100\, Suomi
ORGANIZER;CN="Forssan helluntaiseurakunta":MAILTO:seurakunta@fohe.fi
END:VEVENT
BEGIN:VEVENT
DTSTART;TZID=Europe/Helsinki:20250412T190000
DTEND;TZID=Europe/Helsinki:20250412T210000
DTSTAMP:20260419T151201
CREATED:20250409T191753Z
LAST-MODIFIED:20250409T191753Z
UID:14251-1744484400-1744491600@www.fohe.fi
SUMMARY:Jippii Youth - koko perheen konsertti
DESCRIPTION:
URL:https://www.fohe.fi/tapahtuma/jippii-youth-koko-perheen-konsertti/
LOCATION:Forssan helluntaiseurakunta\, Nikkilänkatu 2\, Forssa\, 30100\, Suomi
ORGANIZER;CN="Forssan helluntaiseurakunta":MAILTO:seurakunta@fohe.fi
END:VEVENT
BEGIN:VEVENT
DTSTART;TZID=Europe/Helsinki:20250411T190000
DTEND;TZID=Europe/Helsinki:20250411T220000
DTSTAMP:20260419T151201
CREATED:20250409T191753Z
LAST-MODIFIED:20250409T191753Z
UID:14250-1744398000-1744408800@www.fohe.fi
SUMMARY:Fohe Youth -nuortenilta
DESCRIPTION:Käy katsomassa tuoreet päivitykset: https://www.instagram.com/foheyouth/
URL:https://www.fohe.fi/tapahtuma/fohe-youth-nuortenilta-185/
LOCATION:Forssan helluntaiseurakunta\, Nikkilänkatu 2\, Forssa\, 30100\, Suomi
ORGANIZER;CN="Forssan helluntaiseurakunta":MAILTO:seurakunta@fohe.fi
END:VEVENT
BEGIN:VEVENT
DTSTART;TZID=Europe/Helsinki:20250408T190000
DTEND;TZID=Europe/Helsinki:20250408T200000
DTSTAMP:20260419T151201
CREATED:20250409T191752Z
LAST-MODIFIED:20250409T191752Z
UID:14249-1744138800-1744142400@www.fohe.fi
SUMMARY:Sanan ja rukouksen ilta
DESCRIPTION:Carola Flytström\, Marita Rasila
URL:https://www.fohe.fi/tapahtuma/sanan-ja-rukouksen-ilta-276/
LOCATION:Forssan helluntaiseurakunta\, Nikkilänkatu 2\, Forssa\, 30100\, Suomi
CATEGORIES:Tulevat Sanan ja rukouksen illat
ATTACH;FMTTYPE=image/jpeg:https://www.fohe.fi/wp-content/uploads/2023/02/Sana-ja-rukous-APxRNx.tmp_.jpg
ORGANIZER;CN="Forssan helluntaiseurakunta":MAILTO:seurakunta@fohe.fi
END:VEVENT
BEGIN:VEVENT
DTSTART;TZID=Europe/Helsinki:20250406T180000
DTEND;TZID=Europe/Helsinki:20250406T200000
DTSTAMP:20260419T151201
CREATED:20250301T121045Z
LAST-MODIFIED:20250301T121045Z
UID:14190-1743962400-1743969600@www.fohe.fi
SUMMARY:Hengellisen musiikin helmiä
DESCRIPTION:René Laulajainen
URL:https://www.fohe.fi/tapahtuma/hengellisen-musiikin-helmia/
LOCATION:Forssan helluntaiseurakunta\, Nikkilänkatu 2\, Forssa\, 30100\, Suomi
ORGANIZER;CN="Forssan helluntaiseurakunta":MAILTO:seurakunta@fohe.fi
END:VEVENT
BEGIN:VEVENT
DTSTART;TZID=Europe/Helsinki:20250406T110000
DTEND;TZID=Europe/Helsinki:20250406T130000
DTSTAMP:20260419T151201
CREATED:20250301T121044Z
LAST-MODIFIED:20250409T191752Z
UID:14189-1743937200-1743944400@www.fohe.fi
SUMMARY:Ehtoollisjuhla
DESCRIPTION:Petri Fonsen\, Raimo Huotelin\, Mirja Karvinen
URL:https://www.fohe.fi/tapahtuma/ehtoollisjuhla-67/
LOCATION:Forssan helluntaiseurakunta\, Nikkilänkatu 2\, Forssa\, 30100\, Suomi
CATEGORIES:Tulevat Jumalanpalvelukset
ATTACH;FMTTYPE=image/jpeg:https://www.fohe.fi/wp-content/uploads/2024/04/Ehtoollinen-tDTYAj.tmp_-scaled-4htNgl.tmp_.jpg
ORGANIZER;CN="Forssan helluntaiseurakunta":MAILTO:seurakunta@fohe.fi
END:VEVENT
BEGIN:VEVENT
DTSTART;TZID=Europe/Helsinki:20250405T140000
DTEND;TZID=Europe/Helsinki:20250405T163000
DTSTAMP:20260419T151201
CREATED:20250301T121030Z
LAST-MODIFIED:20250301T121330Z
UID:14188-1743861600-1743870600@www.fohe.fi
SUMMARY:Kids’ Action -tapahtuma
DESCRIPTION:Monipuolinen tapahtuma koko perheelle
URL:https://www.fohe.fi/tapahtuma/kids-action-tapahtuma-6/
LOCATION:Talsoilan koulu\, Talsoilankatu 34\, Forssa\, 30100
END:VEVENT
BEGIN:VEVENT
DTSTART;TZID=Europe/Helsinki:20250404T190000
DTEND;TZID=Europe/Helsinki:20250404T220000
DTSTAMP:20260419T151201
CREATED:20250301T121030Z
LAST-MODIFIED:20250301T121030Z
UID:14187-1743793200-1743804000@www.fohe.fi
SUMMARY:Fohe Youth -nuortenilta
DESCRIPTION:Käy katsomassa tuoreet päivitykset: https://www.instagram.com/foheyouth/
URL:https://www.fohe.fi/tapahtuma/fohe-youth-nuortenilta-184/
LOCATION:Forssan helluntaiseurakunta\, Nikkilänkatu 2\, Forssa\, 30100\, Suomi
ORGANIZER;CN="Forssan helluntaiseurakunta":MAILTO:seurakunta@fohe.fi
END:VEVENT
BEGIN:VEVENT
DTSTART;TZID=Europe/Helsinki:20250402T170000
DTEND;TZID=Europe/Helsinki:20250402T170000
DTSTAMP:20260419T151201
CREATED:20250301T121030Z
LAST-MODIFIED:20250301T121030Z
UID:14186-1743613200-1743613200@www.fohe.fi
SUMMARY:Ruoka-avunjakoa
DESCRIPTION:Ruoka-apua vähävaraisille\, kahvitus ja mahdollisuus keskusteluun
URL:https://www.fohe.fi/tapahtuma/ruoka-avunjakoa-4/
LOCATION:Forssan helluntaiseurakunta\, Nikkilänkatu 2\, Forssa\, 30100\, Suomi
ORGANIZER;CN="Forssan helluntaiseurakunta":MAILTO:seurakunta@fohe.fi
END:VEVENT
END:VCALENDAR