BEGIN:VCALENDAR
VERSION:2.0
PRODID:-//Forssan Helluntaiseurakunta - ECPv6.15.20//NONSGML v1.0//EN
CALSCALE:GREGORIAN
METHOD:PUBLISH
X-WR-CALNAME:Forssan Helluntaiseurakunta
X-ORIGINAL-URL:https://www.fohe.fi
X-WR-CALDESC:Tapahtumat Forssan Helluntaiseurakunta
REFRESH-INTERVAL;VALUE=DURATION:PT1H
X-Robots-Tag:noindex
X-PUBLISHED-TTL:PT1H
BEGIN:VTIMEZONE
TZID:Europe/Helsinki
BEGIN:DAYLIGHT
TZOFFSETFROM:+0200
TZOFFSETTO:+0300
TZNAME:EEST
DTSTART:20230326T010000
END:DAYLIGHT
BEGIN:STANDARD
TZOFFSETFROM:+0300
TZOFFSETTO:+0200
TZNAME:EET
DTSTART:20231029T010000
END:STANDARD
BEGIN:DAYLIGHT
TZOFFSETFROM:+0200
TZOFFSETTO:+0300
TZNAME:EEST
DTSTART:20240331T010000
END:DAYLIGHT
BEGIN:STANDARD
TZOFFSETFROM:+0300
TZOFFSETTO:+0200
TZNAME:EET
DTSTART:20241027T010000
END:STANDARD
BEGIN:DAYLIGHT
TZOFFSETFROM:+0200
TZOFFSETTO:+0300
TZNAME:EEST
DTSTART:20250330T010000
END:DAYLIGHT
BEGIN:STANDARD
TZOFFSETFROM:+0300
TZOFFSETTO:+0200
TZNAME:EET
DTSTART:20251026T010000
END:STANDARD
END:VTIMEZONE
BEGIN:VEVENT
DTSTART;TZID=Europe/Helsinki:20240507T190000
DTEND;TZID=Europe/Helsinki:20240507T200000
DTSTAMP:20260422T132447
CREATED:20240502T081610Z
LAST-MODIFIED:20240502T081610Z
UID:13607-1715108400-1715112000@www.fohe.fi
SUMMARY:Lähetysilta
DESCRIPTION:mukana etänä Juha Lehto\, Marita Rasila
URL:https://www.fohe.fi/tapahtuma/lahetysilta-12/
LOCATION:Forssan helluntaiseurakunta\, Nikkilänkatu 2\, Forssa\, 30100\, Suomi
CATEGORIES:Tulevat Sanan ja rukouksen illat
ORGANIZER;CN="Forssan helluntaiseurakunta":MAILTO:seurakunta@fohe.fi
END:VEVENT
BEGIN:VEVENT
DTSTART;TZID=Europe/Helsinki:20240505T110000
DTEND;TZID=Europe/Helsinki:20240505T130000
DTSTAMP:20260422T132447
CREATED:20240403T101425Z
LAST-MODIFIED:20240502T081608Z
UID:13568-1714906800-1714914000@www.fohe.fi
SUMMARY:Ehtoollisjuhla
DESCRIPTION:Petri Fonsen\, Tommi Hintsanen\, naisten lauluryhmä
URL:https://www.fohe.fi/tapahtuma/ehtoollisjuhla-13/
LOCATION:Forssan helluntaiseurakunta\, Nikkilänkatu 2\, Forssa\, 30100\, Suomi
CATEGORIES:Tulevat Jumalanpalvelukset
ATTACH;FMTTYPE=image/jpeg:https://www.fohe.fi/wp-content/uploads/2023/02/Ehtoollinen-tDTYAj.tmp_-scaled.jpg
ORGANIZER;CN="Forssan helluntaiseurakunta":MAILTO:seurakunta@fohe.fi
END:VEVENT
BEGIN:VEVENT
DTSTART;TZID=Europe/Helsinki:20240503T190000
DTEND;TZID=Europe/Helsinki:20240503T220000
DTSTAMP:20260422T132447
CREATED:20240403T101412Z
LAST-MODIFIED:20240403T101412Z
UID:13565-1714762800-1714773600@www.fohe.fi
SUMMARY:Fohe Youth -nuortenilta
DESCRIPTION:Käy katsomassa tuoreet päivitykset: https://www.instagram.com/foheyouth/
URL:https://www.fohe.fi/tapahtuma/fohe-youth-nuortenilta-39/
LOCATION:Forssan helluntaiseurakunta\, Nikkilänkatu 2\, Forssa\, 30100\, Suomi
ORGANIZER;CN="Forssan helluntaiseurakunta":MAILTO:seurakunta@fohe.fi
END:VEVENT
BEGIN:VEVENT
DTSTART;TZID=Europe/Helsinki:20240503T180000
DTEND;TZID=Europe/Helsinki:20240503T190000
DTSTAMP:20260422T132447
CREATED:20240403T101412Z
LAST-MODIFIED:20240403T101412Z
UID:13564-1714759200-1714762800@www.fohe.fi
SUMMARY:Nuorten Uskon perusteet -kurssi
DESCRIPTION:Pyhä Henki – puolustaja kanssamme
URL:https://www.fohe.fi/tapahtuma/nuorten-uskon-perusteet-kurssi-3/
LOCATION:Forssan helluntaiseurakunta\, Nikkilänkatu 2\, Forssa\, 30100\, Suomi
ORGANIZER;CN="Forssan helluntaiseurakunta":MAILTO:seurakunta@fohe.fi
END:VEVENT
BEGIN:VEVENT
DTSTART;TZID=Europe/Helsinki:20240502T170000
DTEND;TZID=Europe/Helsinki:20240502T180000
DTSTAMP:20260422T132447
CREATED:20240403T101412Z
LAST-MODIFIED:20240403T101412Z
UID:13563-1714669200-1714672800@www.fohe.fi
SUMMARY:Ruokajako
DESCRIPTION:Ruokajakoa vähävaraisille\, kahvitus
URL:https://www.fohe.fi/tapahtuma/ruokajako-3/
LOCATION:Forssan helluntaiseurakunta\, Nikkilänkatu 2\, Forssa\, 30100\, Suomi
ORGANIZER;CN="Forssan helluntaiseurakunta":MAILTO:seurakunta@fohe.fi
END:VEVENT
BEGIN:VEVENT
DTSTART;TZID=Europe/Helsinki:20240430T190000
DTEND;TZID=Europe/Helsinki:20240430T200000
DTSTAMP:20260422T132447
CREATED:20240403T101411Z
LAST-MODIFIED:20240403T101411Z
UID:13562-1714503600-1714507200@www.fohe.fi
SUMMARY:Sanan ja rukouksen ilta
DESCRIPTION:Ritva ja Esa Kannisto\, Mirja Karvinen
URL:https://www.fohe.fi/tapahtuma/sanan-ja-rukouksen-ilta-46/
LOCATION:Forssan helluntaiseurakunta\, Nikkilänkatu 2\, Forssa\, 30100\, Suomi
CATEGORIES:Tulevat Sanan ja rukouksen illat
ATTACH;FMTTYPE=image/jpeg:https://www.fohe.fi/wp-content/uploads/2023/02/Sana-ja-rukous-APxRNx.tmp_.jpg
ORGANIZER;CN="Forssan helluntaiseurakunta":MAILTO:seurakunta@fohe.fi
END:VEVENT
BEGIN:VEVENT
DTSTART;TZID=Europe/Helsinki:20240428T160000
DTEND;TZID=Europe/Helsinki:20240428T170000
DTSTAMP:20260422T132447
CREATED:20240403T101356Z
LAST-MODIFIED:20240403T101356Z
UID:13561-1714320000-1714323600@www.fohe.fi
SUMMARY:FamiJumis – toiminnallinen perhekirkko kaiken ikäisille
DESCRIPTION:
URL:https://www.fohe.fi/tapahtuma/famijumis-toiminnallinen-perhekirkko-kaiken-ikaisille/
LOCATION:Forssan helluntaiseurakunta\, Nikkilänkatu 2\, Forssa\, 30100\, Suomi
CATEGORIES:Tulevat Jumalanpalvelukset
ATTACH;FMTTYPE=image/jpeg:https://www.fohe.fi/wp-content/uploads/2023/02/Ehtoollinen-tDTYAj.tmp_-scaled.jpg
ORGANIZER;CN="Forssan helluntaiseurakunta":MAILTO:seurakunta@fohe.fi
END:VEVENT
BEGIN:VEVENT
DTSTART;TZID=Europe/Helsinki:20240426T190000
DTEND;TZID=Europe/Helsinki:20240426T220000
DTSTAMP:20260422T132447
CREATED:20240403T101356Z
LAST-MODIFIED:20240403T101356Z
UID:13560-1714158000-1714168800@www.fohe.fi
SUMMARY:Fohe Youth -nuortenilta
DESCRIPTION:Käy katsomassa tuoreet päivitykset: https://www.instagram.com/foheyouth/
URL:https://www.fohe.fi/tapahtuma/fohe-youth-nuortenilta-38/
LOCATION:Forssan helluntaiseurakunta\, Nikkilänkatu 2\, Forssa\, 30100\, Suomi
ORGANIZER;CN="Forssan helluntaiseurakunta":MAILTO:seurakunta@fohe.fi
END:VEVENT
BEGIN:VEVENT
DTSTART;TZID=Europe/Helsinki:20240426T180000
DTEND;TZID=Europe/Helsinki:20240426T190000
DTSTAMP:20260422T132447
CREATED:20240403T101356Z
LAST-MODIFIED:20240403T101356Z
UID:13559-1714154400-1714158000@www.fohe.fi
SUMMARY:Nuorten Uskon perusteet -kurssi
DESCRIPTION:Raamattu ja rukous – kasvu eväät
URL:https://www.fohe.fi/tapahtuma/nuorten-uskon-perusteet-kurssi-2/
LOCATION:Forssan helluntaiseurakunta\, Nikkilänkatu 2\, Forssa\, 30100\, Suomi
ORGANIZER;CN="Forssan helluntaiseurakunta":MAILTO:seurakunta@fohe.fi
END:VEVENT
BEGIN:VEVENT
DTSTART;TZID=Europe/Helsinki:20240423T190000
DTEND;TZID=Europe/Helsinki:20240423T200000
DTSTAMP:20260422T132447
CREATED:20240403T101355Z
LAST-MODIFIED:20240403T101355Z
UID:13558-1713898800-1713902400@www.fohe.fi
SUMMARY:Sanan ja rukouksen ilta
DESCRIPTION:Rose Ipia\, Elli Hintsanen
URL:https://www.fohe.fi/tapahtuma/sanan-ja-rukouksen-ilta-45/
LOCATION:Forssan helluntaiseurakunta\, Nikkilänkatu 2\, Forssa\, 30100\, Suomi
CATEGORIES:Tulevat Sanan ja rukouksen illat
ATTACH;FMTTYPE=image/jpeg:https://www.fohe.fi/wp-content/uploads/2023/02/Sana-ja-rukous-APxRNx.tmp_.jpg
ORGANIZER;CN="Forssan helluntaiseurakunta":MAILTO:seurakunta@fohe.fi
END:VEVENT
BEGIN:VEVENT
DTSTART;TZID=Europe/Helsinki:20240422T180000
DTEND;TZID=Europe/Helsinki:20240422T200000
DTSTAMP:20260422T132447
CREATED:20240403T101343Z
LAST-MODIFIED:20240403T101343Z
UID:13557-1713808800-1713816000@www.fohe.fi
SUMMARY:Katukirkko
DESCRIPTION:
URL:https://www.fohe.fi/tapahtuma/katukirkko-41/
LOCATION:Torikirkko\, Hämeentie 15\, Forssa\, 30100\, Suomi
ORGANIZER;CN="Forssan helluntaiseurakunta":MAILTO:seurakunta@fohe.fi
END:VEVENT
BEGIN:VEVENT
DTSTART;TZID=Europe/Helsinki:20240421T180000
DTEND;TZID=Europe/Helsinki:20240421T190000
DTSTAMP:20260422T132447
CREATED:20240403T101342Z
LAST-MODIFIED:20240403T101342Z
UID:13556-1713722400-1713726000@www.fohe.fi
SUMMARY:Jumala kuulee
DESCRIPTION:Striimattu rukousohjelma
URL:https://www.fohe.fi/tapahtuma/jumala-kuulee-3/
ORGANIZER;CN="Forssan helluntaiseurakunta":MAILTO:seurakunta@fohe.fi
END:VEVENT
BEGIN:VEVENT
DTSTART;TZID=Europe/Helsinki:20240421T150000
DTEND;TZID=Europe/Helsinki:20240421T170000
DTSTAMP:20260422T132447
CREATED:20240403T101341Z
LAST-MODIFIED:20240403T101341Z
UID:13555-1713711600-1713718800@www.fohe.fi
SUMMARY:International service
DESCRIPTION:Worship\, Bible study\, fellowship
URL:https://www.fohe.fi/tapahtuma/international-service-34/
LOCATION:Forssan helluntaiseurakunta\, Nikkilänkatu 2\, Forssa\, 30100\, Suomi
CATEGORIES:Tulevat Jumalanpalvelukset
ATTACH;FMTTYPE=image/png:https://www.fohe.fi/wp-content/uploads/2024/04/International-service-artikkelikuva.png
ORGANIZER;CN="Forssan helluntaiseurakunta":MAILTO:seurakunta@fohe.fi
END:VEVENT
BEGIN:VEVENT
DTSTART;TZID=Europe/Helsinki:20240421T123000
DTEND;TZID=Europe/Helsinki:20240421T140000
DTSTAMP:20260422T132447
CREATED:20240403T101341Z
LAST-MODIFIED:20240403T101341Z
UID:13554-1713702600-1713708000@www.fohe.fi
SUMMARY:Forssan helluntaiseurakunnan kevätkokous
DESCRIPTION:
URL:https://www.fohe.fi/tapahtuma/forssan-helluntaiseurakunnan-kevatkokous-5/
LOCATION:Forssan helluntaiseurakunta\, Nikkilänkatu 2\, Forssa\, 30100\, Suomi
ORGANIZER;CN="Forssan helluntaiseurakunta":MAILTO:seurakunta@fohe.fi
END:VEVENT
BEGIN:VEVENT
DTSTART;TZID=Europe/Helsinki:20240421T110000
DTEND;TZID=Europe/Helsinki:20240421T120000
DTSTAMP:20260422T132447
CREATED:20240403T101340Z
LAST-MODIFIED:20240403T101340Z
UID:13553-1713697200-1713700800@www.fohe.fi
SUMMARY:Jumalanpalvelus
DESCRIPTION:Marko Kantelus\, Tommi Hintsanen\, Riitta Salokangas
URL:https://www.fohe.fi/tapahtuma/jumalanpalvelus-25/
LOCATION:Forssan helluntaiseurakunta\, Nikkilänkatu 2\, Forssa\, 30100\, Suomi
CATEGORIES:Tulevat Jumalanpalvelukset
ATTACH;FMTTYPE=image/png:https://www.fohe.fi/wp-content/uploads/2024/04/Jumalanpalvelus-artikkelikuva.png
ORGANIZER;CN="Forssan helluntaiseurakunta":MAILTO:seurakunta@fohe.fi
END:VEVENT
BEGIN:VEVENT
DTSTART;TZID=Europe/Helsinki:20240420T190000
DTEND;TZID=Europe/Helsinki:20240420T220000
DTSTAMP:20260422T132447
CREATED:20240403T101326Z
LAST-MODIFIED:20240405T093411Z
UID:13552-1713639600-1713650400@www.fohe.fi
SUMMARY:Story Night
DESCRIPTION:Nuortentapahtuma Kuutamolla. Mukana kertomassa oman tarinansa nyrkkeilyn entinen Suomen mestari Teemu Kaski. 
URL:https://www.fohe.fi/tapahtuma/story-night-10/
ORGANIZER;CN="Forssan helluntaiseurakunta":MAILTO:seurakunta@fohe.fi
END:VEVENT
BEGIN:VEVENT
DTSTART;TZID=Europe/Helsinki:20240420T140000
DTEND;TZID=Europe/Helsinki:20240420T170000
DTSTAMP:20260422T132447
CREATED:20240403T101326Z
LAST-MODIFIED:20240403T101835Z
UID:13551-1713621600-1713632400@www.fohe.fi
SUMMARY:Israel-tilaisuus
DESCRIPTION:Israel-iltapäivä Vapaaseurakunnassa\, luennoimassa Olli Seppänen\, luentojen välillä kahvitauko
URL:https://www.fohe.fi/tapahtuma/israel-tilaisuus-2/
LOCATION:Torikirkko\, Hämeentie 15\, Forssa\, 30100\, Suomi
END:VEVENT
BEGIN:VEVENT
DTSTART;TZID=Europe/Helsinki:20240416T190000
DTEND;TZID=Europe/Helsinki:20240416T200000
DTSTAMP:20260422T132447
CREATED:20240403T101325Z
LAST-MODIFIED:20240403T101325Z
UID:13550-1713294000-1713297600@www.fohe.fi
SUMMARY:Sanan ja rukouksen ilta
DESCRIPTION:Tommi Hintsanen\, Riitta Pelto-Huikko
URL:https://www.fohe.fi/tapahtuma/sanan-ja-rukouksen-ilta-44/
LOCATION:Forssan helluntaiseurakunta\, Nikkilänkatu 2\, Forssa\, 30100\, Suomi
CATEGORIES:Tulevat Sanan ja rukouksen illat
ATTACH;FMTTYPE=image/jpeg:https://www.fohe.fi/wp-content/uploads/2023/02/Sana-ja-rukous-APxRNx.tmp_.jpg
ORGANIZER;CN="Forssan helluntaiseurakunta":MAILTO:seurakunta@fohe.fi
END:VEVENT
BEGIN:VEVENT
DTSTART;TZID=Europe/Helsinki:20240414T140000
DTEND;TZID=Europe/Helsinki:20240414T160000
DTSTAMP:20260422T132447
CREATED:20240403T101315Z
LAST-MODIFIED:20240403T102318Z
UID:13549-1713103200-1713110400@www.fohe.fi
SUMMARY:Musiikkijuhla
DESCRIPTION:Elämä ja valo ry 60 vuotta -juhlatilaisuus
URL:https://www.fohe.fi/tapahtuma/musiikkijuhla-3/
LOCATION:Forssan helluntaiseurakunta\, Nikkilänkatu 2\, Forssa\, 30100\, Suomi
CATEGORIES:Tulevat Jumalanpalvelukset
ATTACH;FMTTYPE=image/png:https://www.fohe.fi/wp-content/uploads/2024/04/Jumalanpalvelus-artikkelikuva.png
ORGANIZER;CN="Forssan helluntaiseurakunta":MAILTO:seurakunta@fohe.fi
END:VEVENT
BEGIN:VEVENT
DTSTART;TZID=Europe/Helsinki:20240414T110000
DTEND;TZID=Europe/Helsinki:20240414T123000
DTSTAMP:20260422T132447
CREATED:20240403T101314Z
LAST-MODIFIED:20240403T102120Z
UID:13548-1713092400-1713097800@www.fohe.fi
SUMMARY:Jumalanpalvelus
DESCRIPTION:Elämä ja valo ry 60 vuotta -juhlatilaisuus\, tilaisuuden jälkeen ruokailu
URL:https://www.fohe.fi/tapahtuma/jumalanpalvelus-24/
LOCATION:Forssan helluntaiseurakunta\, Nikkilänkatu 2\, Forssa\, 30100\, Suomi
CATEGORIES:Tulevat Jumalanpalvelukset
ATTACH;FMTTYPE=image/png:https://www.fohe.fi/wp-content/uploads/2024/04/Jumalanpalvelus-artikkelikuva.png
ORGANIZER;CN="Forssan helluntaiseurakunta":MAILTO:seurakunta@fohe.fi
END:VEVENT
BEGIN:VEVENT
DTSTART;TZID=Europe/Helsinki:20240412T190000
DTEND;TZID=Europe/Helsinki:20240412T220000
DTSTAMP:20260422T132447
CREATED:20240403T101314Z
LAST-MODIFIED:20250409T191754Z
UID:13547-1712948400-1712959200@www.fohe.fi
SUMMARY:Fohe Youth -nuortenilta
DESCRIPTION:Käy katsomassa tuoreet päivitykset: https://www.instagram.com/foheyouth/
URL:https://www.fohe.fi/tapahtuma/fohe-youth-nuortenilta-37/
LOCATION:Forssan helluntaiseurakunta\, Nikkilänkatu 2\, Forssa\, 30100\, Suomi
ORGANIZER;CN="Forssan helluntaiseurakunta":MAILTO:seurakunta@fohe.fi
END:VEVENT
BEGIN:VEVENT
DTSTART;TZID=Europe/Helsinki:20240412T180000
DTEND;TZID=Europe/Helsinki:20240412T190000
DTSTAMP:20260422T132447
CREATED:20240403T101313Z
LAST-MODIFIED:20240403T101313Z
UID:13546-1712944800-1712948400@www.fohe.fi
SUMMARY:Nuorten Uskon perusteet -kurssi
DESCRIPTION:Jeesus – pelastaja
URL:https://www.fohe.fi/tapahtuma/nuorten-uskon-perusteet-kurssi/
LOCATION:Forssan helluntaiseurakunta\, Nikkilänkatu 2\, Forssa\, 30100\, Suomi
ORGANIZER;CN="Forssan helluntaiseurakunta":MAILTO:seurakunta@fohe.fi
END:VEVENT
BEGIN:VEVENT
DTSTART;TZID=Europe/Helsinki:20240411T083000
DTEND;TZID=Europe/Helsinki:20240411T083000
DTSTAMP:20260422T132447
CREATED:20240403T101313Z
LAST-MODIFIED:20240403T101313Z
UID:13545-1712824200-1712824200@www.fohe.fi
SUMMARY:Aamurukous
DESCRIPTION:Pientä aamupalaa\, yhteistä jakamista Raamatun Sanasta ja rukousta
URL:https://www.fohe.fi/tapahtuma/aamurukous-5/
END:VEVENT
BEGIN:VEVENT
DTSTART;TZID=Europe/Helsinki:20240409T190000
DTEND;TZID=Europe/Helsinki:20240409T200000
DTSTAMP:20260422T132447
CREATED:20240403T101304Z
LAST-MODIFIED:20240403T101304Z
UID:13543-1712689200-1712692800@www.fohe.fi
SUMMARY:Lähetysilta
DESCRIPTION:Mukana etänä Juha Lehtonen Fidasta
URL:https://www.fohe.fi/tapahtuma/lahetysilta-11/
LOCATION:Forssan helluntaiseurakunta\, Nikkilänkatu 2\, Forssa\, 30100\, Suomi
CATEGORIES:Tulevat Sanan ja rukouksen illat
ATTACH;FMTTYPE=image/jpeg:https://www.fohe.fi/wp-content/uploads/2023/02/Sana-ja-rukous-APxRNx.tmp_.jpg
ORGANIZER;CN="Forssan helluntaiseurakunta":MAILTO:seurakunta@fohe.fi
END:VEVENT
BEGIN:VEVENT
DTSTART;TZID=Europe/Helsinki:20240407T150000
DTEND;TZID=Europe/Helsinki:20240407T170000
DTSTAMP:20260422T132447
CREATED:20240403T101302Z
LAST-MODIFIED:20240403T101302Z
UID:13541-1712502000-1712509200@www.fohe.fi
SUMMARY:International service
DESCRIPTION:Worship\, Bible study\, fellowship
URL:https://www.fohe.fi/tapahtuma/international-service-33/
LOCATION:Forssan helluntaiseurakunta\, Nikkilänkatu 2\, Forssa\, 30100\, Suomi
CATEGORIES:Tulevat Jumalanpalvelukset
ATTACH;FMTTYPE=image/png:https://www.fohe.fi/wp-content/uploads/2024/04/International-service-artikkelikuva.png
ORGANIZER;CN="Forssan helluntaiseurakunta":MAILTO:seurakunta@fohe.fi
END:VEVENT
BEGIN:VEVENT
DTSTART;TZID=Europe/Helsinki:20240407T110000
DTEND;TZID=Europe/Helsinki:20240407T130000
DTSTAMP:20260422T132447
CREATED:20240225T173935Z
LAST-MODIFIED:20240403T101300Z
UID:13475-1712487600-1712494800@www.fohe.fi
SUMMARY:Ehtoollisjuhla
DESCRIPTION:Tommi Hintsanen\, Raimo Huotelin\, Anne Katto-Davidsson
URL:https://www.fohe.fi/tapahtuma/ehtoollisjuhla-12/
LOCATION:Forssan helluntaiseurakunta\, Nikkilänkatu 2\, Forssa\, 30100\, Suomi
CATEGORIES:Tulevat Jumalanpalvelukset
ATTACH;FMTTYPE=image/jpeg:https://www.fohe.fi/wp-content/uploads/2024/04/Ehtoollinen-tDTYAj.tmp_-scaled-4htNgl.tmp_.jpg
ORGANIZER;CN="Forssan helluntaiseurakunta":MAILTO:seurakunta@fohe.fi
END:VEVENT
BEGIN:VEVENT
DTSTART;TZID=Europe/Helsinki:20240405T190000
DTEND;TZID=Europe/Helsinki:20240405T220000
DTSTAMP:20260422T132447
CREATED:20240225T173934Z
LAST-MODIFIED:20240225T173934Z
UID:13474-1712343600-1712354400@www.fohe.fi
SUMMARY:Fohe Youth -nuortenilta
DESCRIPTION:Käy katsomassa tuoreet päivitykset: https://www.instagram.com/foheyouth/
URL:https://www.fohe.fi/tapahtuma/fohe-youth-nuortenilta-36/
LOCATION:Forssan helluntaiseurakunta\, Nikkilänkatu 2\, Forssa\, 30100\, Suomi
ORGANIZER;CN="Forssan helluntaiseurakunta":MAILTO:seurakunta@fohe.fi
END:VEVENT
BEGIN:VEVENT
DTSTART;TZID=Europe/Helsinki:20240403T170000
DTEND;TZID=Europe/Helsinki:20240403T170000
DTSTAMP:20260422T132447
CREATED:20240225T173934Z
LAST-MODIFIED:20240225T173934Z
UID:13473-1712163600-1712163600@www.fohe.fi
SUMMARY:Ruoka-avunjakoa
DESCRIPTION:Ruoka-apua vähävaraisille\, kahvitus ja mahdollisuus keskusteluun
URL:https://www.fohe.fi/tapahtuma/ruoka-avunjakoa-2/
LOCATION:Forssan helluntaiseurakunta\, Nikkilänkatu 2\, Forssa\, 30100\, Suomi
ORGANIZER;CN="Forssan helluntaiseurakunta":MAILTO:seurakunta@fohe.fi
END:VEVENT
BEGIN:VEVENT
DTSTART;TZID=Europe/Helsinki:20240402T190000
DTEND;TZID=Europe/Helsinki:20240402T200000
DTSTAMP:20260422T132448
CREATED:20240225T173933Z
LAST-MODIFIED:20240402T115201Z
UID:13472-1712084400-1712088000@www.fohe.fi
SUMMARY:Sanan ja rukouksen ilta
DESCRIPTION:Kari Turkki\, Mirja Karvinen
URL:https://www.fohe.fi/tapahtuma/sanan-ja-rukouksen-ilta-43/
LOCATION:Forssan helluntaiseurakunta\, Nikkilänkatu 2\, Forssa\, 30100\, Suomi
CATEGORIES:Tulevat Sanan ja rukouksen illat
ATTACH;FMTTYPE=image/jpeg:https://www.fohe.fi/wp-content/uploads/2023/02/Sana-ja-rukous-APxRNx.tmp_.jpg
ORGANIZER;CN="Forssan helluntaiseurakunta":MAILTO:seurakunta@fohe.fi
END:VEVENT
BEGIN:VEVENT
DTSTART;TZID=Europe/Helsinki:20240331T110000
DTEND;TZID=Europe/Helsinki:20240331T130000
DTSTAMP:20260422T132448
CREATED:20240225T173759Z
LAST-MODIFIED:20240225T173759Z
UID:13471-1711882800-1711890000@www.fohe.fi
SUMMARY:”Jeesus elää” -pääsiäisjuhla
DESCRIPTION:Tommi Hintsanen\, Elli Hintsanen & ryhmä
URL:https://www.fohe.fi/tapahtuma/jeesus-elaa-paasiaisjuhla/
LOCATION:Forssan helluntaiseurakunta\, Nikkilänkatu 2\, Forssa\, 30100\, Suomi
ORGANIZER;CN="Forssan helluntaiseurakunta":MAILTO:seurakunta@fohe.fi
END:VEVENT
END:VCALENDAR