BEGIN:VCALENDAR
VERSION:2.0
PRODID:-//Forssan Helluntaiseurakunta - ECPv6.15.20//NONSGML v1.0//EN
CALSCALE:GREGORIAN
METHOD:PUBLISH
X-WR-CALNAME:Forssan Helluntaiseurakunta
X-ORIGINAL-URL:https://www.fohe.fi
X-WR-CALDESC:Tapahtumat Forssan Helluntaiseurakunta
REFRESH-INTERVAL;VALUE=DURATION:PT1H
X-Robots-Tag:noindex
X-PUBLISHED-TTL:PT1H
BEGIN:VTIMEZONE
TZID:Europe/Helsinki
BEGIN:DAYLIGHT
TZOFFSETFROM:+0200
TZOFFSETTO:+0300
TZNAME:EEST
DTSTART:20230326T010000
END:DAYLIGHT
BEGIN:STANDARD
TZOFFSETFROM:+0300
TZOFFSETTO:+0200
TZNAME:EET
DTSTART:20231029T010000
END:STANDARD
BEGIN:DAYLIGHT
TZOFFSETFROM:+0200
TZOFFSETTO:+0300
TZNAME:EEST
DTSTART:20240331T010000
END:DAYLIGHT
BEGIN:STANDARD
TZOFFSETFROM:+0300
TZOFFSETTO:+0200
TZNAME:EET
DTSTART:20241027T010000
END:STANDARD
BEGIN:DAYLIGHT
TZOFFSETFROM:+0200
TZOFFSETTO:+0300
TZNAME:EEST
DTSTART:20250330T010000
END:DAYLIGHT
BEGIN:STANDARD
TZOFFSETFROM:+0300
TZOFFSETTO:+0200
TZNAME:EET
DTSTART:20251026T010000
END:STANDARD
END:VTIMEZONE
BEGIN:VEVENT
DTSTART;TZID=Europe/Helsinki:20240329T180000
DTEND;TZID=Europe/Helsinki:20240329T200000
DTSTAMP:20260422T180509
CREATED:20240225T173759Z
LAST-MODIFIED:20240225T173759Z
UID:13470-1711735200-1711742400@www.fohe.fi
SUMMARY:Sinun tähtesi
DESCRIPTION:Pitkäperjantain musiikkitilaisuus
URL:https://www.fohe.fi/tapahtuma/sinun-tahtesi/
LOCATION:Forssan helluntaiseurakunta\, Nikkilänkatu 2\, Forssa\, 30100\, Suomi
ORGANIZER;CN="Forssan helluntaiseurakunta":MAILTO:seurakunta@fohe.fi
END:VEVENT
BEGIN:VEVENT
DTSTART;TZID=Europe/Helsinki:20240328T180000
DTEND;TZID=Europe/Helsinki:20240328T200000
DTSTAMP:20260422T180509
CREATED:20240225T173759Z
LAST-MODIFIED:20240225T174551Z
UID:13469-1711648800-1711656000@www.fohe.fi
SUMMARY:Yhteysilta
DESCRIPTION:Kiirastorstain yhteysillassa ollaan yhteisellä aterialla seuraamassa Jeesuksen kärsimyksien alkua\, ehtoollinen
URL:https://www.fohe.fi/tapahtuma/yhteysilta-3/
LOCATION:Forssan helluntaiseurakunta\, Nikkilänkatu 2\, Forssa\, 30100\, Suomi
ORGANIZER;CN="Forssan helluntaiseurakunta":MAILTO:seurakunta@fohe.fi
END:VEVENT
BEGIN:VEVENT
DTSTART;TZID=Europe/Helsinki:20240326T180000
DTEND;TZID=Europe/Helsinki:20240326T200000
DTSTAMP:20260422T180509
CREATED:20240225T173759Z
LAST-MODIFIED:20240225T173759Z
UID:13468-1711476000-1711483200@www.fohe.fi
SUMMARY:Lähetysilta
DESCRIPTION:Etävieraana Juha Lehtonen Fidasta\, Marita Rasila
URL:https://www.fohe.fi/tapahtuma/lahetysilta-10/
LOCATION:Forssan helluntaiseurakunta\, Nikkilänkatu 2\, Forssa\, 30100\, Suomi
CATEGORIES:Tulevat Sanan ja rukouksen illat
ORGANIZER;CN="Forssan helluntaiseurakunta":MAILTO:seurakunta@fohe.fi
END:VEVENT
BEGIN:VEVENT
DTSTART;TZID=Europe/Helsinki:20240324T110000
DTEND;TZID=Europe/Helsinki:20240324T130000
DTSTAMP:20260422T180509
CREATED:20240225T173758Z
LAST-MODIFIED:20240225T173758Z
UID:13467-1711278000-1711285200@www.fohe.fi
SUMMARY:Afrikan tähdet -lähetyskokous
DESCRIPTION:Afrikan vainottujen kristittyjen kertomuksia on jakamassa Hannu Lahtinen Marttyyrien ääni ry:stä
URL:https://www.fohe.fi/tapahtuma/afrikan-tahdet-lahetyskokous/
LOCATION:Forssan helluntaiseurakunta\, Nikkilänkatu 2\, Forssa\, 30100\, Suomi
CATEGORIES:Tulevat Jumalanpalvelukset
ORGANIZER;CN="Forssan helluntaiseurakunta":MAILTO:seurakunta@fohe.fi
END:VEVENT
BEGIN:VEVENT
DTSTART;TZID=Europe/Helsinki:20240323T140000
DTEND;TZID=Europe/Helsinki:20240323T163000
DTSTAMP:20260422T180509
CREATED:20240225T173746Z
LAST-MODIFIED:20240225T173746Z
UID:13466-1711202400-1711211400@www.fohe.fi
SUMMARY:Kids’ Action -tapahtuma
DESCRIPTION:Monipuolinen tapahtuma koko perheelle
URL:https://www.fohe.fi/tapahtuma/kids-action-tapahtuma-2/
LOCATION:Talsoilan koulu\, Talsoilankatu 34\, Forssa\, 30100
END:VEVENT
BEGIN:VEVENT
DTSTART;TZID=Europe/Helsinki:20240322T190000
DTEND;TZID=Europe/Helsinki:20240322T220000
DTSTAMP:20260422T180509
CREATED:20240225T173745Z
LAST-MODIFIED:20240225T173745Z
UID:13465-1711134000-1711144800@www.fohe.fi
SUMMARY:Fohe Youth -nuortenilta
DESCRIPTION:Käy katsomassa tuoreet päivitykset: https://www.instagram.com/foheyouth/
URL:https://www.fohe.fi/tapahtuma/fohe-youth-nuortenilta-35/
LOCATION:Forssan helluntaiseurakunta\, Nikkilänkatu 2\, Forssa\, 30100\, Suomi
ORGANIZER;CN="Forssan helluntaiseurakunta":MAILTO:seurakunta@fohe.fi
END:VEVENT
BEGIN:VEVENT
DTSTART;TZID=Europe/Helsinki:20240321T180000
DTEND;TZID=Europe/Helsinki:20240321T200000
DTSTAMP:20260422T180509
CREATED:20240225T173745Z
LAST-MODIFIED:20240225T175652Z
UID:13464-1711044000-1711051200@www.fohe.fi
SUMMARY:Kuoleman lista -elokuvan esitys
DESCRIPTION:Kuoleman lista on dokumentaarinen elokuva toisen maailmansodan aikana nousseista juutalaisvainoista ja Suomen juutalaisten tilanteesta. Lue lisää elokuvasta: https://kansanraamattuseura.fi/kuoleman-lista/. Esityksessä on paikkoja rajallinen määrä. Varaa paikkasi: https://forms.office.com/e/AUyu742YiE tai 050-386 9939. \nEsityksen yhteydessä kerätään kolehti ICEJ:n antisemitistisen työn hyväksi. \nElokuva on ensimmäinen osa Forssan helluntaiseurakunnan\, Vapaaseurakunnan ja Ystäväkirkon järjestämää juutalaisia ja Israelia käsittelevää sarjaa. Toinen osa on lauantaina 20.4. pidettävä Olli Seppäsen luentokokonaisuus Vapaaseurakunnassa.
URL:https://www.fohe.fi/tapahtuma/kuoleman-lista-elokuvan-esitys-2/
LOCATION:Forssan helluntaiseurakunta\, Nikkilänkatu 2\, Forssa\, 30100\, Suomi
ORGANIZER;CN="Forssan helluntaiseurakunta":MAILTO:seurakunta@fohe.fi
END:VEVENT
BEGIN:VEVENT
DTSTART;TZID=Europe/Helsinki:20240321T130000
DTEND;TZID=Europe/Helsinki:20240321T150000
DTSTAMP:20260422T180509
CREATED:20240225T173745Z
LAST-MODIFIED:20240225T175236Z
UID:13463-1711026000-1711033200@www.fohe.fi
SUMMARY:Kuoleman lista -elokuvan esitys
DESCRIPTION:Kuoleman lista on dokumentaarinen elokuva toisen maailmansodan aikana nousseista juutalaisvainoista ja Suomen juutalaisten tilanteesta. Lue lisää elokuvasta: https://kansanraamattuseura.fi/kuoleman-lista/. Esityksessä on paikkoja rajallinen määrä. Varaa paikkasi: https://forms.office.com/e/AUyu742YiE tai 050-386 9939. Esityksen yhteydessä kerätään kolehti ICEJ:n antisemitistisen työn hyväksi. \nElokuva on ensimmäinen osa Forssan helluntaiseurakunnan\, Vapaaseurakunnan ja Ystäväkirkon järjestämää juutalaisia ja Israelia käsittelevää sarjaa. Toinen osa on lauantaina 20.4. pidettävä Olli Seppäsen luentokokonaisuus Vapaaseurakunnassa.
URL:https://www.fohe.fi/tapahtuma/kuoleman-lista-elokuvan-esitys/
LOCATION:Forssan helluntaiseurakunta\, Nikkilänkatu 2\, Forssa\, 30100\, Suomi
ORGANIZER;CN="Forssan helluntaiseurakunta":MAILTO:seurakunta@fohe.fi
END:VEVENT
BEGIN:VEVENT
DTSTART;TZID=Europe/Helsinki:20240319T180000
DTEND;TZID=Europe/Helsinki:20240319T200000
DTSTAMP:20260422T180509
CREATED:20240225T173743Z
LAST-MODIFIED:20240225T173743Z
UID:13462-1710871200-1710878400@www.fohe.fi
SUMMARY:Sanan ja rukouksen ilta
DESCRIPTION:Erja-Riitta Viljanen\, Anne Katto-Davidsson
URL:https://www.fohe.fi/tapahtuma/sanan-ja-rukouksen-ilta-42/
LOCATION:Forssan helluntaiseurakunta\, Nikkilänkatu 2\, Forssa\, 30100\, Suomi
CATEGORIES:Tulevat Sanan ja rukouksen illat
ATTACH;FMTTYPE=image/jpeg:https://www.fohe.fi/wp-content/uploads/2023/02/Sana-ja-rukous-APxRNx.tmp_.jpg
ORGANIZER;CN="Forssan helluntaiseurakunta":MAILTO:seurakunta@fohe.fi
END:VEVENT
BEGIN:VEVENT
DTSTART;TZID=Europe/Helsinki:20240318T180000
DTEND;TZID=Europe/Helsinki:20240318T200000
DTSTAMP:20260422T180509
CREATED:20240225T173729Z
LAST-MODIFIED:20240225T173729Z
UID:13461-1710784800-1710792000@www.fohe.fi
SUMMARY:Katukirkko
DESCRIPTION:
URL:https://www.fohe.fi/tapahtuma/katukirkko-12/
LOCATION:Torikirkko\, Hämeentie 15\, Forssa\, 30100\, Suomi
ORGANIZER;CN="Forssan helluntaiseurakunta":MAILTO:seurakunta@fohe.fi
END:VEVENT
BEGIN:VEVENT
DTSTART;TZID=Europe/Helsinki:20240317T180000
DTEND;TZID=Europe/Helsinki:20240317T190000
DTSTAMP:20260422T180509
CREATED:20240225T173729Z
LAST-MODIFIED:20240225T173729Z
UID:13460-1710698400-1710702000@www.fohe.fi
SUMMARY:Jumala kuulee
DESCRIPTION:Striimattu rukouskokous vain netissä. Voit lähettää rukousaiheita sähköpostilla seurakunta@fohe.fi tai viestillä 050-386 9939
URL:https://www.fohe.fi/tapahtuma/jumala-kuulee-2/
LOCATION:Forssan helluntaiseurakunta\, Nikkilänkatu 2\, Forssa\, 30100\, Suomi
ORGANIZER;CN="Forssan helluntaiseurakunta":MAILTO:seurakunta@fohe.fi
END:VEVENT
BEGIN:VEVENT
DTSTART;TZID=Europe/Helsinki:20240317T150000
DTEND;TZID=Europe/Helsinki:20240317T170000
DTSTAMP:20260422T180509
CREATED:20240225T173728Z
LAST-MODIFIED:20240225T173728Z
UID:13459-1710687600-1710694800@www.fohe.fi
SUMMARY:International service
DESCRIPTION:Worship\, Bible study\, fellowship
URL:https://www.fohe.fi/tapahtuma/international-service-32/
LOCATION:Forssan helluntaiseurakunta\, Nikkilänkatu 2\, Forssa\, 30100\, Suomi
CATEGORIES:Tulevat Jumalanpalvelukset
ORGANIZER;CN="Forssan helluntaiseurakunta":MAILTO:seurakunta@fohe.fi
END:VEVENT
BEGIN:VEVENT
DTSTART;TZID=Europe/Helsinki:20240317T110000
DTEND;TZID=Europe/Helsinki:20240317T130000
DTSTAMP:20260422T180509
CREATED:20240225T173728Z
LAST-MODIFIED:20240317T072839Z
UID:13458-1710673200-1710680400@www.fohe.fi
SUMMARY:Jumalanpalvelus
DESCRIPTION:Tommi Hintsanen\, Ilkka Ponto
URL:https://www.fohe.fi/tapahtuma/jumalanpalvelus-23/
LOCATION:Forssan helluntaiseurakunta\, Nikkilänkatu 2\, Forssa\, 30100\, Suomi
CATEGORIES:Tulevat Jumalanpalvelukset
ORGANIZER;CN="Forssan helluntaiseurakunta":MAILTO:seurakunta@fohe.fi
END:VEVENT
BEGIN:VEVENT
DTSTART;TZID=Europe/Helsinki:20240316T190000
DTEND;TZID=Europe/Helsinki:20240316T220000
DTSTAMP:20260422T180509
CREATED:20240225T173728Z
LAST-MODIFIED:20240225T174547Z
UID:13457-1710615600-1710626400@www.fohe.fi
SUMMARY:Story Night
DESCRIPTION:Nuortentapahtuma Kuutamolla. Mukavaa tekemistä ja pientä tarjoilua.
URL:https://www.fohe.fi/tapahtuma/story-night-9/
ORGANIZER;CN="Forssan helluntaiseurakunta":MAILTO:seurakunta@fohe.fi
END:VEVENT
BEGIN:VEVENT
DTSTART;TZID=Europe/Helsinki:20240314T083000
DTEND;TZID=Europe/Helsinki:20240314T083000
DTSTAMP:20260422T180509
CREATED:20240225T173715Z
LAST-MODIFIED:20240225T173715Z
UID:13456-1710405000-1710405000@www.fohe.fi
SUMMARY:Aamurukous
DESCRIPTION:Pientä aamupalaa\, yhteistä jakamista Raamatun Sanasta ja rukousta
URL:https://www.fohe.fi/tapahtuma/aamurukous-4/
LOCATION:Torikirkko\, Hämeentie 15\, Forssa\, 30100\, Suomi
END:VEVENT
BEGIN:VEVENT
DTSTART;TZID=Europe/Helsinki:20240312T180000
DTEND;TZID=Europe/Helsinki:20240312T200000
DTSTAMP:20260422T180509
CREATED:20240225T173714Z
LAST-MODIFIED:20240225T173714Z
UID:13455-1710266400-1710273600@www.fohe.fi
SUMMARY:Sanan ja rukouksen ilta
DESCRIPTION:Raija Rajala\, Riitta Pelto-Huikko
URL:https://www.fohe.fi/tapahtuma/sanan-ja-rukouksen-ilta-41/
LOCATION:Forssan helluntaiseurakunta\, Nikkilänkatu 2\, Forssa\, 30100\, Suomi
CATEGORIES:Tulevat Sanan ja rukouksen illat
ATTACH;FMTTYPE=image/jpeg:https://www.fohe.fi/wp-content/uploads/2023/02/Sana-ja-rukous-APxRNx.tmp_.jpg
ORGANIZER;CN="Forssan helluntaiseurakunta":MAILTO:seurakunta@fohe.fi
END:VEVENT
BEGIN:VEVENT
DTSTART;TZID=Europe/Helsinki:20240310T110000
DTEND;TZID=Europe/Helsinki:20240310T130000
DTSTAMP:20260422T180509
CREATED:20240225T173713Z
LAST-MODIFIED:20240225T173713Z
UID:13454-1710068400-1710075600@www.fohe.fi
SUMMARY:Jumalanpalvelus
DESCRIPTION:Ritva ja Tapio Sopanen\, Riitta Salokangas
URL:https://www.fohe.fi/tapahtuma/jumalanpalvelus-22/
LOCATION:Forssan helluntaiseurakunta\, Nikkilänkatu 2\, Forssa\, 30100\, Suomi
CATEGORIES:Tulevat Jumalanpalvelukset
ORGANIZER;CN="Forssan helluntaiseurakunta":MAILTO:seurakunta@fohe.fi
END:VEVENT
BEGIN:VEVENT
DTSTART;TZID=Europe/Helsinki:20240308T190000
DTEND;TZID=Europe/Helsinki:20240308T220000
DTSTAMP:20260422T180509
CREATED:20240225T173713Z
LAST-MODIFIED:20240225T173713Z
UID:13453-1709924400-1709935200@www.fohe.fi
SUMMARY:Fohe Youth -nuortenilta
DESCRIPTION:Käy katsomassa tuoreet päivitykset: https://www.instagram.com/foheyouth/
URL:https://www.fohe.fi/tapahtuma/fohe-youth-nuortenilta-34/
LOCATION:Forssan helluntaiseurakunta\, Nikkilänkatu 2\, Forssa\, 30100\, Suomi
ORGANIZER;CN="Forssan helluntaiseurakunta":MAILTO:seurakunta@fohe.fi
END:VEVENT
BEGIN:VEVENT
DTSTART;TZID=Europe/Helsinki:20240306T170000
DTEND;TZID=Europe/Helsinki:20240306T180000
DTSTAMP:20260422T180509
CREATED:20240225T173711Z
LAST-MODIFIED:20240225T173711Z
UID:13452-1709744400-1709748000@www.fohe.fi
SUMMARY:Ruoka-avunjakoa
DESCRIPTION:Ruoka-apua vähävaraisille\, kahvitus ja mahdollisuus keskusteluun
URL:https://www.fohe.fi/tapahtuma/ruoka-avunjakoa/
LOCATION:Forssan helluntaiseurakunta\, Nikkilänkatu 2\, Forssa\, 30100\, Suomi
ORGANIZER;CN="Forssan helluntaiseurakunta":MAILTO:seurakunta@fohe.fi
END:VEVENT
BEGIN:VEVENT
DTSTART;TZID=Europe/Helsinki:20240305T180000
DTEND;TZID=Europe/Helsinki:20240305T190000
DTSTAMP:20260422T180509
CREATED:20240225T173711Z
LAST-MODIFIED:20240225T173711Z
UID:13451-1709661600-1709665200@www.fohe.fi
SUMMARY:Sanan ja rukouksen ilta
DESCRIPTION:Tommi Hintsanen\, Mirja Karvinen
URL:https://www.fohe.fi/tapahtuma/sanan-ja-rukouksen-ilta-40/
LOCATION:Forssan helluntaiseurakunta\, Nikkilänkatu 2\, Forssa\, 30100\, Suomi
ORGANIZER;CN="Forssan helluntaiseurakunta":MAILTO:seurakunta@fohe.fi
END:VEVENT
BEGIN:VEVENT
DTSTART;TZID=Europe/Helsinki:20240303T150000
DTEND;TZID=Europe/Helsinki:20240303T170000
DTSTAMP:20260422T180509
CREATED:20240225T173711Z
LAST-MODIFIED:20240225T173711Z
UID:13450-1709478000-1709485200@www.fohe.fi
SUMMARY:International service
DESCRIPTION:Worship\, Bible study\, fellowship
URL:https://www.fohe.fi/tapahtuma/international-service-31/
LOCATION:Forssan helluntaiseurakunta\, Nikkilänkatu 2\, Forssa\, 30100\, Suomi
CATEGORIES:Tulevat Jumalanpalvelukset
ORGANIZER;CN="Forssan helluntaiseurakunta":MAILTO:seurakunta@fohe.fi
END:VEVENT
BEGIN:VEVENT
DTSTART;TZID=Europe/Helsinki:20240303T110000
DTEND;TZID=Europe/Helsinki:20240303T130000
DTSTAMP:20260422T180509
CREATED:20240202T085125Z
LAST-MODIFIED:20240225T173709Z
UID:13393-1709463600-1709470800@www.fohe.fi
SUMMARY:Ehtoollisjuhla
DESCRIPTION:Pentti Riekkinen\, Tommi Hintsanen\, naisten lauluryhmä\, mukana myös Gideonit\, pyhäkoulu
URL:https://www.fohe.fi/tapahtuma/ehtoollisjuhla-11/
LOCATION:Forssan helluntaiseurakunta\, Nikkilänkatu 2\, Forssa\, 30100\, Suomi
CATEGORIES:Tulevat Jumalanpalvelukset
ATTACH;FMTTYPE=image/jpeg:https://www.fohe.fi/wp-content/uploads/2023/02/Ehtoollinen-tDTYAj.tmp_-scaled.jpg
ORGANIZER;CN="Forssan helluntaiseurakunta":MAILTO:seurakunta@fohe.fi
END:VEVENT
BEGIN:VEVENT
DTSTART;TZID=Europe/Helsinki:20240227T180000
DTEND;TZID=Europe/Helsinki:20240227T200000
DTSTAMP:20260422T180509
CREATED:20240202T085014Z
LAST-MODIFIED:20240202T085014Z
UID:13392-1709056800-1709064000@www.fohe.fi
SUMMARY:Sanan ja rukouksen ilta
DESCRIPTION:Carola Flytström\, Suvi Hintsanen
URL:https://www.fohe.fi/tapahtuma/sanan-ja-rukouksen-ilta-39/
LOCATION:Forssan helluntaiseurakunta\, Nikkilänkatu 2\, Forssa\, 30100\, Suomi
CATEGORIES:Tulevat Sanan ja rukouksen illat
ORGANIZER;CN="Forssan helluntaiseurakunta":MAILTO:seurakunta@fohe.fi
END:VEVENT
BEGIN:VEVENT
DTSTART;TZID=Europe/Helsinki:20240225T160000
DTEND;TZID=Europe/Helsinki:20240225T180000
DTSTAMP:20260422T180509
CREATED:20240202T085013Z
LAST-MODIFIED:20240202T085013Z
UID:13391-1708876800-1708884000@www.fohe.fi
SUMMARY:Olohuoneilta
DESCRIPTION:Illan aikana saadaan kuulla ja tehdä löytöjä. Ilta alkaa pienellä tarjoilulla ja jatkuu musiikilla ja puheenvuoroilla. Illan päätteeksi mahdollisuus rukouspalveluun.
URL:https://www.fohe.fi/tapahtuma/olohuoneilta-2/
LOCATION:Forssan helluntaiseurakunta\, Nikkilänkatu 2\, Forssa\, 30100\, Suomi
CATEGORIES:Tulevat Jumalanpalvelukset
ORGANIZER;CN="Forssan helluntaiseurakunta":MAILTO:seurakunta@fohe.fi
END:VEVENT
BEGIN:VEVENT
DTSTART;TZID=Europe/Helsinki:20240223T190000
DTEND;TZID=Europe/Helsinki:20240224T150000
DTSTAMP:20260422T180509
CREATED:20240202T085013Z
LAST-MODIFIED:20240202T085013Z
UID:13390-1708714800-1708786800@www.fohe.fi
SUMMARY:Nuortenleiri
DESCRIPTION:
URL:https://www.fohe.fi/tapahtuma/nuortenleiri-2/
LOCATION:Forssan helluntaiseurakunta\, Nikkilänkatu 2\, Forssa\, 30100\, Suomi
ORGANIZER;CN="Forssan helluntaiseurakunta":MAILTO:seurakunta@fohe.fi
END:VEVENT
BEGIN:VEVENT
DTSTART;TZID=Europe/Helsinki:20240223T190000
DTEND;TZID=Europe/Helsinki:20240223T220000
DTSTAMP:20260422T180509
CREATED:20240202T085012Z
LAST-MODIFIED:20240202T085012Z
UID:13389-1708714800-1708725600@www.fohe.fi
SUMMARY:Fohe Youth -nuortenilta
DESCRIPTION:Käy katsomassa tuoreet päivitykset: https://www.instagram.com/foheyouth/
URL:https://www.fohe.fi/tapahtuma/fohe-youth-nuortenilta-33/
LOCATION:Forssan helluntaiseurakunta\, Nikkilänkatu 2\, Forssa\, 30100\, Suomi
ORGANIZER;CN="Forssan helluntaiseurakunta":MAILTO:seurakunta@fohe.fi
END:VEVENT
BEGIN:VEVENT
DTSTART;TZID=Europe/Helsinki:20240220T180000
DTEND;TZID=Europe/Helsinki:20240220T200000
DTSTAMP:20260422T180509
CREATED:20240202T085011Z
LAST-MODIFIED:20240202T085011Z
UID:13388-1708452000-1708459200@www.fohe.fi
SUMMARY:Sanan ja rukouksen ilta
DESCRIPTION:Rose Ipia\, Elli Hintsanen
URL:https://www.fohe.fi/tapahtuma/sanan-ja-rukouksen-ilta-38/
LOCATION:Forssan helluntaiseurakunta\, Nikkilänkatu 2\, Forssa\, 30100\, Suomi
CATEGORIES:Tulevat Sanan ja rukouksen illat
ATTACH;FMTTYPE=image/jpeg:https://www.fohe.fi/wp-content/uploads/2023/02/Sana-ja-rukous-APxRNx.tmp_.jpg
ORGANIZER;CN="Forssan helluntaiseurakunta":MAILTO:seurakunta@fohe.fi
END:VEVENT
BEGIN:VEVENT
DTSTART;TZID=Europe/Helsinki:20240220T160000
DTEND;TZID=Europe/Helsinki:20240220T180000
DTSTAMP:20260422T180509
CREATED:20240202T084847Z
LAST-MODIFIED:20240202T084847Z
UID:13387-1708444800-1708452000@www.fohe.fi
SUMMARY:Rukous- ja paastopäivän yhteistä rukousta
DESCRIPTION:Tule yhdessä rukoilemaan\, ylistämään ja kohtaamaan Jumalaa
URL:https://www.fohe.fi/tapahtuma/rukous-ja-paastopaivan-yhteista-rukousta/
LOCATION:Forssan helluntaiseurakunta\, Nikkilänkatu 2\, Forssa\, 30100\, Suomi
ORGANIZER;CN="Forssan helluntaiseurakunta":MAILTO:seurakunta@fohe.fi
END:VEVENT
BEGIN:VEVENT
DTSTART;TZID=Europe/Helsinki:20240218T180000
DTEND;TZID=Europe/Helsinki:20240218T190000
DTSTAMP:20260422T180509
CREATED:20240202T084846Z
LAST-MODIFIED:20240213T091405Z
UID:13386-1708279200-1708282800@www.fohe.fi
SUMMARY:Jumala kuulee
DESCRIPTION:Striimattu rukouskokous vain netissä. Voit lähettää rukousaiheita sähköpostilla seurakunta@fohe.fi tai viestillä 050-386 9939. \nOhjelma on seurattavissa seurakuntamme Facebook-sivulla\, ohessa linkki ohjelmaan: https://fb.me/e/3enISWsar
URL:https://www.fohe.fi/tapahtuma/jumala-kuulee/
LOCATION:Forssan helluntaiseurakunta\, Nikkilänkatu 2\, Forssa\, 30100\, Suomi
ORGANIZER;CN="Forssan helluntaiseurakunta":MAILTO:seurakunta@fohe.fi
END:VEVENT
BEGIN:VEVENT
DTSTART;TZID=Europe/Helsinki:20240218T150000
DTEND;TZID=Europe/Helsinki:20240218T170000
DTSTAMP:20260422T180509
CREATED:20240202T084846Z
LAST-MODIFIED:20240215T085130Z
UID:13385-1708268400-1708275600@www.fohe.fi
SUMMARY:International service
DESCRIPTION:Worship\, Bible study\, fellowship
URL:https://www.fohe.fi/tapahtuma/international-service-30/
LOCATION:Forssan helluntaiseurakunta\, Nikkilänkatu 2\, Forssa\, 30100\, Suomi
CATEGORIES:Tulevat Jumalanpalvelukset
ORGANIZER;CN="Forssan helluntaiseurakunta":MAILTO:seurakunta@fohe.fi
END:VEVENT
END:VCALENDAR