BEGIN:VCALENDAR
VERSION:2.0
PRODID:-//Forssan Helluntaiseurakunta - ECPv6.15.20//NONSGML v1.0//EN
CALSCALE:GREGORIAN
METHOD:PUBLISH
X-WR-CALNAME:Forssan Helluntaiseurakunta
X-ORIGINAL-URL:https://www.fohe.fi
X-WR-CALDESC:Tapahtumat Forssan Helluntaiseurakunta
REFRESH-INTERVAL;VALUE=DURATION:PT1H
X-Robots-Tag:noindex
X-PUBLISHED-TTL:PT1H
BEGIN:VTIMEZONE
TZID:Europe/Helsinki
BEGIN:DAYLIGHT
TZOFFSETFROM:+0200
TZOFFSETTO:+0300
TZNAME:EEST
DTSTART:20230326T010000
END:DAYLIGHT
BEGIN:STANDARD
TZOFFSETFROM:+0300
TZOFFSETTO:+0200
TZNAME:EET
DTSTART:20231029T010000
END:STANDARD
BEGIN:DAYLIGHT
TZOFFSETFROM:+0200
TZOFFSETTO:+0300
TZNAME:EEST
DTSTART:20240331T010000
END:DAYLIGHT
BEGIN:STANDARD
TZOFFSETFROM:+0300
TZOFFSETTO:+0200
TZNAME:EET
DTSTART:20241027T010000
END:STANDARD
BEGIN:DAYLIGHT
TZOFFSETFROM:+0200
TZOFFSETTO:+0300
TZNAME:EEST
DTSTART:20250330T010000
END:DAYLIGHT
BEGIN:STANDARD
TZOFFSETFROM:+0300
TZOFFSETTO:+0200
TZNAME:EET
DTSTART:20251026T010000
END:STANDARD
END:VTIMEZONE
BEGIN:VEVENT
DTSTART;TZID=Europe/Helsinki:20240218T110000
DTEND;TZID=Europe/Helsinki:20240218T130000
DTSTAMP:20260422T223935
CREATED:20240202T084846Z
LAST-MODIFIED:20240202T084846Z
UID:13384-1708254000-1708261200@www.fohe.fi
SUMMARY:Jumalanpalvelus
DESCRIPTION:Tommi Hintsanen\, Reino Komonen\, Riitta Pelto-Huikko
URL:https://www.fohe.fi/tapahtuma/jumalanpalvelus-21/
LOCATION:Forssan helluntaiseurakunta\, Nikkilänkatu 2\, Forssa\, 30100\, Suomi
CATEGORIES:Tulevat Jumalanpalvelukset
ORGANIZER;CN="Forssan helluntaiseurakunta":MAILTO:seurakunta@fohe.fi
END:VEVENT
BEGIN:VEVENT
DTSTART;TZID=Europe/Helsinki:20240217T190000
DTEND;TZID=Europe/Helsinki:20240217T220000
DTSTAMP:20260422T223935
CREATED:20240202T084845Z
LAST-MODIFIED:20240202T084845Z
UID:13383-1708196400-1708207200@www.fohe.fi
SUMMARY:Story Night
DESCRIPTION:Nuortentapahtuma Kuutamolla.
URL:https://www.fohe.fi/tapahtuma/story-night-8/
ORGANIZER;CN="Forssan helluntaiseurakunta":MAILTO:seurakunta@fohe.fi
END:VEVENT
BEGIN:VEVENT
DTSTART;TZID=Europe/Helsinki:20240215T083000
DTEND;TZID=Europe/Helsinki:20240215T100000
DTSTAMP:20260422T223935
CREATED:20240202T084647Z
LAST-MODIFIED:20240202T085442Z
UID:13382-1707985800-1707991200@www.fohe.fi
SUMMARY:Yhteiskristillinen aamurukous
DESCRIPTION:
URL:https://www.fohe.fi/tapahtuma/yhteiskristillinen-aamurukouspienen-aamupalan-jalkeen-rakennutaan-jumalan-sanasta-ja-yhteisesta-rukouksesta/
LOCATION:Forssan helluntaiseurakunta\, Nikkilänkatu 2\, Forssa\, 30100\, Suomi
ORGANIZER;CN="Forssan helluntaiseurakunta":MAILTO:seurakunta@fohe.fi
END:VEVENT
BEGIN:VEVENT
DTSTART;TZID=Europe/Helsinki:20240213T180000
DTEND;TZID=Europe/Helsinki:20240213T200000
DTSTAMP:20260422T223935
CREATED:20240202T084646Z
LAST-MODIFIED:20240202T084646Z
UID:13381-1707847200-1707854400@www.fohe.fi
SUMMARY:Lähetysrukousilta
DESCRIPTION:Mukana etänä Naggarit Israelista Marita Rasila
URL:https://www.fohe.fi/tapahtuma/lahetysrukousilta-5/
LOCATION:Forssan helluntaiseurakunta\, Nikkilänkatu 2\, Forssa\, 30100\, Suomi
CATEGORIES:Tulevat Sanan ja rukouksen illat
ATTACH;FMTTYPE=image/jpeg:https://www.fohe.fi/wp-content/uploads/2023/02/Sana-ja-rukous-APxRNx.tmp_.jpg
ORGANIZER;CN="Forssan helluntaiseurakunta":MAILTO:seurakunta@fohe.fi
END:VEVENT
BEGIN:VEVENT
DTSTART;TZID=Europe/Helsinki:20240212T180000
DTEND;TZID=Europe/Helsinki:20240212T200000
DTSTAMP:20260422T223935
CREATED:20240202T084645Z
LAST-MODIFIED:20240202T084645Z
UID:13380-1707760800-1707768000@www.fohe.fi
SUMMARY:Katukirkko
DESCRIPTION:
URL:https://www.fohe.fi/tapahtuma/katukirkko-11/
LOCATION:Torikirkko\, Hämeentie 15\, Forssa\, 30100\, Suomi
ORGANIZER;CN="Forssan helluntaiseurakunta":MAILTO:seurakunta@fohe.fi
END:VEVENT
BEGIN:VEVENT
DTSTART;TZID=Europe/Helsinki:20240211T170000
DTEND;TZID=Europe/Helsinki:20240211T200000
DTSTAMP:20260422T223935
CREATED:20240202T084645Z
LAST-MODIFIED:20240202T084645Z
UID:13379-1707670800-1707681600@www.fohe.fi
SUMMARY:Entisten nuorten ystävänpäivätreffit
DESCRIPTION:Nyyttärit\, mukavaa pientä ohjelmaa\, musisointia. Lue lisää https://www.facebook.com/events/394947159670888
URL:https://www.fohe.fi/tapahtuma/entisten-nuorten-ystavanpaivatreffit-2/
LOCATION:Forssan helluntaiseurakunta\, Nikkilänkatu 2\, Forssa\, 30100\, Suomi
ORGANIZER;CN="Forssan helluntaiseurakunta":MAILTO:seurakunta@fohe.fi
END:VEVENT
BEGIN:VEVENT
DTSTART;TZID=Europe/Helsinki:20240211T150000
DTEND;TZID=Europe/Helsinki:20240211T170000
DTSTAMP:20260422T223935
CREATED:20240202T084644Z
LAST-MODIFIED:20240202T084644Z
UID:13378-1707663600-1707670800@www.fohe.fi
SUMMARY:”Ajankohtainen Israel”
DESCRIPTION:Ajankohtaisista asioista Israelissa puhuu Pekka Sartola. Ennen tilaisuutta on kahvitus. Järjestää Israelin ystävät ry
URL:https://www.fohe.fi/tapahtuma/ajankohtainen-israel-2/
LOCATION:Forssan helluntaiseurakunta\, Nikkilänkatu 2\, Forssa\, 30100\, Suomi
END:VEVENT
BEGIN:VEVENT
DTSTART;TZID=Europe/Helsinki:20240211T110000
DTEND;TZID=Europe/Helsinki:20240211T130000
DTSTAMP:20260422T223935
CREATED:20240202T084641Z
LAST-MODIFIED:20240202T084641Z
UID:13377-1707649200-1707656400@www.fohe.fi
SUMMARY:Jumalanpalvelus
DESCRIPTION:Jarkko Vainio\, Kari Turkki\, Riitta Salokangas\, pyhäkoulu
URL:https://www.fohe.fi/tapahtuma/jumalanpalvelus-20/
LOCATION:Forssan helluntaiseurakunta\, Nikkilänkatu 2\, Forssa\, 30100\, Suomi
CATEGORIES:Tulevat Jumalanpalvelukset
ORGANIZER;CN="Forssan helluntaiseurakunta":MAILTO:seurakunta@fohe.fi
END:VEVENT
BEGIN:VEVENT
DTSTART;TZID=Europe/Helsinki:20240209T190000
DTEND;TZID=Europe/Helsinki:20240209T220000
DTSTAMP:20260422T223935
CREATED:20240202T084640Z
LAST-MODIFIED:20240202T084640Z
UID:13376-1707505200-1707516000@www.fohe.fi
SUMMARY:Fohe Youth -nuortenilta
DESCRIPTION:Käy katsomassa tuoreet päivitykset: https://www.instagram.com/foheyouth/
URL:https://www.fohe.fi/tapahtuma/fohe-youth-nuortenilta-32/
LOCATION:Forssan helluntaiseurakunta\, Nikkilänkatu 2\, Forssa\, 30100\, Suomi
ORGANIZER;CN="Forssan helluntaiseurakunta":MAILTO:seurakunta@fohe.fi
END:VEVENT
BEGIN:VEVENT
DTSTART;TZID=Europe/Helsinki:20240208T180000
DTEND;TZID=Europe/Helsinki:20240208T200000
DTSTAMP:20260422T223935
CREATED:20240202T084640Z
LAST-MODIFIED:20240202T084640Z
UID:13375-1707415200-1707422400@www.fohe.fi
SUMMARY:TV7:n ystäväilta
DESCRIPTION:Tule mukaan keskustelemaan kristillisen TV-työn ajankohtaisista asioista.
URL:https://www.fohe.fi/tapahtuma/tv7n-ystavailta/
LOCATION:Forssan helluntaiseurakunta\, Nikkilänkatu 2\, Forssa\, 30100\, Suomi
ORGANIZER;CN="Forssan helluntaiseurakunta":MAILTO:seurakunta@fohe.fi
END:VEVENT
BEGIN:VEVENT
DTSTART;TZID=Europe/Helsinki:20240207T170000
DTEND;TZID=Europe/Helsinki:20240207T180000
DTSTAMP:20260422T223935
CREATED:20240202T084639Z
LAST-MODIFIED:20240202T084639Z
UID:13374-1707325200-1707328800@www.fohe.fi
SUMMARY:Ruoka-avun jakoa
DESCRIPTION:Ruoka-apua vähävaraisille\, kahvitus
URL:https://www.fohe.fi/tapahtuma/ruoka-avun-jakoa-4/
LOCATION:Forssan helluntaiseurakunta\, Nikkilänkatu 2\, Forssa\, 30100\, Suomi
ORGANIZER;CN="Forssan helluntaiseurakunta":MAILTO:seurakunta@fohe.fi
END:VEVENT
BEGIN:VEVENT
DTSTART;TZID=Europe/Helsinki:20240206T180000
DTEND;TZID=Europe/Helsinki:20240206T190000
DTSTAMP:20260422T223935
CREATED:20240202T084638Z
LAST-MODIFIED:20240202T084638Z
UID:13373-1707242400-1707246000@www.fohe.fi
SUMMARY:Sanan ja rukouksen ilta
DESCRIPTION:Tommi Hintsanen\, Anne Katto-Davidsson
URL:https://www.fohe.fi/tapahtuma/sanan-ja-rukouksen-ilta-37/
LOCATION:Forssan helluntaiseurakunta\, Nikkilänkatu 2\, Forssa\, 30100\, Suomi
ORGANIZER;CN="Forssan helluntaiseurakunta":MAILTO:seurakunta@fohe.fi
END:VEVENT
BEGIN:VEVENT
DTSTART;TZID=Europe/Helsinki:20240204T110000
DTEND;TZID=Europe/Helsinki:20240204T130000
DTSTAMP:20260422T223935
CREATED:20240104T212934Z
LAST-MODIFIED:20240104T212934Z
UID:13329-1707044400-1707051600@www.fohe.fi
SUMMARY:Ehtoollisjuhla
DESCRIPTION:Tommi Hintsanen\, Raimo Huotelin
URL:https://www.fohe.fi/tapahtuma/ehtoollisjuhla-10/
LOCATION:Forssan helluntaiseurakunta\, Nikkilänkatu 2\, Forssa\, 30100\, Suomi
CATEGORIES:Tulevat Jumalanpalvelukset
ATTACH;FMTTYPE=image/jpeg:https://www.fohe.fi/wp-content/uploads/2023/02/Ehtoollinen-tDTYAj.tmp_-scaled.jpg
ORGANIZER;CN="Forssan helluntaiseurakunta":MAILTO:seurakunta@fohe.fi
END:VEVENT
BEGIN:VEVENT
DTSTART;TZID=Europe/Helsinki:20240202T190000
DTEND;TZID=Europe/Helsinki:20240202T220000
DTSTAMP:20260422T223935
CREATED:20240104T212934Z
LAST-MODIFIED:20240104T212934Z
UID:13328-1706900400-1706911200@www.fohe.fi
SUMMARY:Fohe Youth -nuortenilta
DESCRIPTION:Käy katsomassa tuoreet päivitykset: https://www.instagram.com/foheyouth/
URL:https://www.fohe.fi/tapahtuma/fohe-youth-nuortenilta-31/
LOCATION:Forssan helluntaiseurakunta\, Nikkilänkatu 2\, Forssa\, 30100\, Suomi
ORGANIZER;CN="Forssan helluntaiseurakunta":MAILTO:seurakunta@fohe.fi
END:VEVENT
BEGIN:VEVENT
DTSTART;TZID=Europe/Helsinki:20240130T180000
DTEND;TZID=Europe/Helsinki:20240130T200000
DTSTAMP:20260422T223935
CREATED:20240104T212934Z
LAST-MODIFIED:20240104T212934Z
UID:13327-1706637600-1706644800@www.fohe.fi
SUMMARY:Sanan ja rukouksen ilta
DESCRIPTION:Asta Jaakkola\, Marita Rasila
URL:https://www.fohe.fi/tapahtuma/sanan-ja-rukouksen-ilta-36/
LOCATION:Forssan helluntaiseurakunta\, Nikkilänkatu 2\, Forssa\, 30100\, Suomi
CATEGORIES:Tulevat Sanan ja rukouksen illat
ORGANIZER;CN="Forssan helluntaiseurakunta":MAILTO:seurakunta@fohe.fi
END:VEVENT
BEGIN:VEVENT
DTSTART;TZID=Europe/Helsinki:20240128T160000
DTEND;TZID=Europe/Helsinki:20240128T180000
DTSTAMP:20260422T223935
CREATED:20240104T212934Z
LAST-MODIFIED:20240104T212934Z
UID:13326-1706457600-1706464800@www.fohe.fi
SUMMARY:Olohuoneilta
DESCRIPTION:Illan aikana saadaan kuulla ja tehdä löytöjä. Ilta alkaa pienellä tarjoilulla ja jatkuu musiikilla ja puheenvuoroilla. Illan päätteeksi mahdollisuus rukouspalveluun.
URL:https://www.fohe.fi/tapahtuma/olohuoneilta/
LOCATION:Forssan helluntaiseurakunta\, Nikkilänkatu 2\, Forssa\, 30100\, Suomi
CATEGORIES:Tulevat Jumalanpalvelukset
ORGANIZER;CN="Forssan helluntaiseurakunta":MAILTO:seurakunta@fohe.fi
END:VEVENT
BEGIN:VEVENT
DTSTART;TZID=Europe/Helsinki:20240127T180000
DTEND;TZID=Europe/Helsinki:20240127T200000
DTSTAMP:20260422T223935
CREATED:20241230T191012Z
LAST-MODIFIED:20241230T191727Z
UID:14097-1706378400-1706385600@www.fohe.fi
SUMMARY:Kuoroharjoitus
DESCRIPTION:
URL:https://www.fohe.fi/tapahtuma/kuoroharjoitus-11/
LOCATION:Forssan helluntaiseurakunta\, Nikkilänkatu 2\, Forssa\, 30100\, Suomi
ATTACH;FMTTYPE=image/jpeg:https://www.fohe.fi/wp-content/uploads/2023/02/Sana-ja-rukous-APxRNx.tmp_.jpg
ORGANIZER;CN="Forssan helluntaiseurakunta":MAILTO:seurakunta@fohe.fi
END:VEVENT
BEGIN:VEVENT
DTSTART;TZID=Europe/Helsinki:20240126T190000
DTEND;TZID=Europe/Helsinki:20240126T220000
DTSTAMP:20260422T223935
CREATED:20240104T212919Z
LAST-MODIFIED:20240104T212919Z
UID:13320-1706295600-1706306400@www.fohe.fi
SUMMARY:Fohe Youth -nuortenilta
DESCRIPTION:Käy katsomassa tuoreet päivitykset: https://www.instagram.com/foheyouth/
URL:https://www.fohe.fi/tapahtuma/fohe-youth-nuortenilta-30/
LOCATION:Forssan helluntaiseurakunta\, Nikkilänkatu 2\, Forssa\, 30100\, Suomi
ORGANIZER;CN="Forssan helluntaiseurakunta":MAILTO:seurakunta@fohe.fi
END:VEVENT
BEGIN:VEVENT
DTSTART;TZID=Europe/Helsinki:20240123T180000
DTEND;TZID=Europe/Helsinki:20240123T200000
DTSTAMP:20260422T223935
CREATED:20240104T212831Z
LAST-MODIFIED:20240104T212831Z
UID:13319-1706032800-1706040000@www.fohe.fi
SUMMARY:Sanan ja rukouksen ilta
DESCRIPTION:Erja-Riitta Viljanen\, Riitta Pelto-Huikko
URL:https://www.fohe.fi/tapahtuma/sanan-ja-rukouksen-ilta-35/
LOCATION:Forssan helluntaiseurakunta\, Nikkilänkatu 2\, Forssa\, 30100\, Suomi
CATEGORIES:Tulevat Sanan ja rukouksen illat
ATTACH;FMTTYPE=image/jpeg:https://www.fohe.fi/wp-content/uploads/2023/02/Sana-ja-rukous-APxRNx.tmp_.jpg
ORGANIZER;CN="Forssan helluntaiseurakunta":MAILTO:seurakunta@fohe.fi
END:VEVENT
BEGIN:VEVENT
DTSTART;TZID=Europe/Helsinki:20240122T180000
DTEND;TZID=Europe/Helsinki:20240122T200000
DTSTAMP:20260422T223935
CREATED:20240116T114318Z
LAST-MODIFIED:20240116T114320Z
UID:13362-1705946400-1705953600@www.fohe.fi
SUMMARY:Kotikokous
DESCRIPTION:Tervetuloa mukaan kotikokoukseen rakentumaan Jumalan Sanasta\, rukouksesta ja yhteydestä.
URL:https://www.fohe.fi/tapahtuma/kotikokous-4/
ORGANIZER;CN="Forssan helluntaiseurakunta":MAILTO:seurakunta@fohe.fi
END:VEVENT
BEGIN:VEVENT
DTSTART;TZID=Europe/Helsinki:20240121T180000
DTEND;TZID=Europe/Helsinki:20240121T190000
DTSTAMP:20260422T223935
CREATED:20221227T093818Z
LAST-MODIFIED:20240104T213328Z
UID:11228-1705860000-1705863600@www.fohe.fi
SUMMARY:Kristittyjen yhteyden rukousilta
DESCRIPTION:Perinteisen ja kansainvälisen tammikuun rukousillan teemana on tänä vuonna ”Rakasta Jumalaa yli kaiken ja lähimmäistäsi niin kuin itseäsi”. Illan aikana on lyhyitä puheenvuoroja\, rukousta ja musiikkia. Illan päätteeks on teetarjoilu
URL:https://www.fohe.fi/tapahtuma/kristittyjen-yhteyden-rukousilta/
LOCATION:Forssan kirkko\, I linja 4\, Forssa\, 30100
END:VEVENT
BEGIN:VEVENT
DTSTART;TZID=Europe/Helsinki:20240121T160000
DTEND;TZID=Europe/Helsinki:20240121T180000
DTSTAMP:20260422T223935
CREATED:20240115T174658Z
LAST-MODIFIED:20240115T174809Z
UID:13353-1705852800-1705860000@www.fohe.fi
SUMMARY:English service
DESCRIPTION:Welcome to join us with our international group for worship\, Bible study and fellowship!
URL:https://www.fohe.fi/tapahtuma/english-service/
LOCATION:Forssan helluntaiseurakunta\, Nikkilänkatu 2\, Forssa\, 30100\, Suomi
ORGANIZER;CN="Forssan helluntaiseurakunta":MAILTO:seurakunta@fohe.fi
END:VEVENT
BEGIN:VEVENT
DTSTART;TZID=Europe/Helsinki:20240121T123000
DTEND;TZID=Europe/Helsinki:20240121T140000
DTSTAMP:20260422T223935
CREATED:20240104T212919Z
LAST-MODIFIED:20240104T212919Z
UID:13322-1705840200-1705845600@www.fohe.fi
SUMMARY:Forssan seudun hyväksi ry:n vuosikokous
DESCRIPTION:Käsitellään sääntöjen määräämät asiat ja ehdotetut sääntömuutokset
URL:https://www.fohe.fi/tapahtuma/forssan-seudun-hyvaksi-ryn-vuosikokous-6/
LOCATION:Forssan helluntaiseurakunta\, Nikkilänkatu 2\, Forssa\, 30100\, Suomi
ORGANIZER;CN="Forssan helluntaiseurakunta":MAILTO:seurakunta@fohe.fi
END:VEVENT
BEGIN:VEVENT
DTSTART;TZID=Europe/Helsinki:20240121T110000
DTEND;TZID=Europe/Helsinki:20240121T120000
DTSTAMP:20260422T223935
CREATED:20240104T212831Z
LAST-MODIFIED:20240104T212831Z
UID:13317-1705834800-1705838400@www.fohe.fi
SUMMARY:Jumalanpalvelus
DESCRIPTION:Pentti Riekkinen\, Tommi Hintsanen\, Riitta Salokangas\, pyhäkoulu\, kahvitus
URL:https://www.fohe.fi/tapahtuma/jumalanpalvelus-19/
LOCATION:Forssan helluntaiseurakunta\, Nikkilänkatu 2\, Forssa\, 30100\, Suomi
CATEGORIES:Tulevat Jumalanpalvelukset
ORGANIZER;CN="Forssan helluntaiseurakunta":MAILTO:seurakunta@fohe.fi
END:VEVENT
BEGIN:VEVENT
DTSTART;TZID=Europe/Helsinki:20240120T190000
DTEND;TZID=Europe/Helsinki:20240120T220000
DTSTAMP:20260422T223935
CREATED:20240104T212831Z
LAST-MODIFIED:20240104T212831Z
UID:13316-1705777200-1705788000@www.fohe.fi
SUMMARY:Nuorten Story Night -ilta
DESCRIPTION:Käy katsomassa tuoreet päivitykset: https://www.instagram.com/foheyouth/
URL:https://www.fohe.fi/tapahtuma/nuorten-story-night-ilta/
ORGANIZER;CN="Forssan helluntaiseurakunta":MAILTO:seurakunta@fohe.fi
END:VEVENT
BEGIN:VEVENT
DTSTART;TZID=Europe/Helsinki:20240116T180000
DTEND;TZID=Europe/Helsinki:20240116T200000
DTSTAMP:20260422T223935
CREATED:20240104T212829Z
LAST-MODIFIED:20240104T212829Z
UID:13315-1705428000-1705435200@www.fohe.fi
SUMMARY:Lähetysrukousilta
DESCRIPTION:Toma Flyktig\, Mirja Karvinen
URL:https://www.fohe.fi/tapahtuma/lahetysrukousilta-4/
LOCATION:Forssan helluntaiseurakunta\, Nikkilänkatu 2\, Forssa\, 30100\, Suomi
CATEGORIES:Tulevat Sanan ja rukouksen illat
ATTACH;FMTTYPE=image/jpeg:https://www.fohe.fi/wp-content/uploads/2023/02/Sana-ja-rukous-APxRNx.tmp_.jpg
ORGANIZER;CN="Forssan helluntaiseurakunta":MAILTO:seurakunta@fohe.fi
END:VEVENT
BEGIN:VEVENT
DTSTART;TZID=Europe/Helsinki:20240115T180000
DTEND;TZID=Europe/Helsinki:20240115T200000
DTSTAMP:20260422T223935
CREATED:20240104T212831Z
LAST-MODIFIED:20240104T212831Z
UID:13318-1705341600-1705348800@www.fohe.fi
SUMMARY:Katukirkko
DESCRIPTION:
URL:https://www.fohe.fi/tapahtuma/katukirkko-10/
LOCATION:Torikirkko\, Hämeentie 15\, Forssa\, 30100\, Suomi
ORGANIZER;CN="Forssan helluntaiseurakunta":MAILTO:seurakunta@fohe.fi
END:VEVENT
BEGIN:VEVENT
DTSTART;TZID=Europe/Helsinki:20240114T110000
DTEND;TZID=Europe/Helsinki:20240114T130000
DTSTAMP:20260422T223935
CREATED:20240104T212814Z
LAST-MODIFIED:20240105T173518Z
UID:13309-1705230000-1705237200@www.fohe.fi
SUMMARY:Jumalanpalvelus
DESCRIPTION:Markku Rajala\, Arto Hintsanen\, Anne Katto-Davidsson\, pyhäkoulu
URL:https://www.fohe.fi/tapahtuma/jumalanpalvelus-18/
LOCATION:Forssan helluntaiseurakunta\, Nikkilänkatu 2\, Forssa\, 30100\, Suomi
CATEGORIES:Tulevat Jumalanpalvelukset
ORGANIZER;CN="Forssan helluntaiseurakunta":MAILTO:seurakunta@fohe.fi
END:VEVENT
BEGIN:VEVENT
DTSTART;TZID=Europe/Helsinki:20240113T180000
DTEND;TZID=Europe/Helsinki:20240113T200000
DTSTAMP:20260422T223935
CREATED:20241230T190942Z
LAST-MODIFIED:20241230T190942Z
UID:14087-1705168800-1705176000@www.fohe.fi
SUMMARY:Kuoroharjoitus
DESCRIPTION:
URL:https://www.fohe.fi/tapahtuma/kuoroharjoitus-10/
LOCATION:Forssan helluntaiseurakunta\, Nikkilänkatu 2\, Forssa\, 30100\, Suomi
ATTACH;FMTTYPE=image/jpeg:https://www.fohe.fi/wp-content/uploads/2023/02/Sana-ja-rukous-APxRNx.tmp_.jpg
ORGANIZER;CN="Forssan helluntaiseurakunta":MAILTO:seurakunta@fohe.fi
END:VEVENT
BEGIN:VEVENT
DTSTART;TZID=Europe/Helsinki:20240112T190000
DTEND;TZID=Europe/Helsinki:20240112T220000
DTSTAMP:20260422T223935
CREATED:20240104T212814Z
LAST-MODIFIED:20240104T212815Z
UID:13308-1705086000-1705096800@www.fohe.fi
SUMMARY:Fohe Youth -nuortenilta
DESCRIPTION:Käy katsomassa tuoreet päivitykset: https://www.instagram.com/foheyouth/
URL:https://www.fohe.fi/tapahtuma/fohe-youth-nuortenilta-29/
LOCATION:Forssan helluntaiseurakunta\, Nikkilänkatu 2\, Forssa\, 30100\, Suomi
ORGANIZER;CN="Forssan helluntaiseurakunta":MAILTO:seurakunta@fohe.fi
END:VEVENT
END:VCALENDAR