BEGIN:VCALENDAR
VERSION:2.0
PRODID:-//Forssan Helluntaiseurakunta - ECPv6.15.20//NONSGML v1.0//EN
CALSCALE:GREGORIAN
METHOD:PUBLISH
X-ORIGINAL-URL:https://www.fohe.fi
X-WR-CALDESC:Tapahtumat Forssan Helluntaiseurakunta
REFRESH-INTERVAL;VALUE=DURATION:PT1H
X-Robots-Tag:noindex
X-PUBLISHED-TTL:PT1H
BEGIN:VTIMEZONE
TZID:Europe/Helsinki
BEGIN:DAYLIGHT
TZOFFSETFROM:+0200
TZOFFSETTO:+0300
TZNAME:EEST
DTSTART:20220327T010000
END:DAYLIGHT
BEGIN:STANDARD
TZOFFSETFROM:+0300
TZOFFSETTO:+0200
TZNAME:EET
DTSTART:20221030T010000
END:STANDARD
BEGIN:DAYLIGHT
TZOFFSETFROM:+0200
TZOFFSETTO:+0300
TZNAME:EEST
DTSTART:20230326T010000
END:DAYLIGHT
BEGIN:STANDARD
TZOFFSETFROM:+0300
TZOFFSETTO:+0200
TZNAME:EET
DTSTART:20231029T010000
END:STANDARD
BEGIN:DAYLIGHT
TZOFFSETFROM:+0200
TZOFFSETTO:+0300
TZNAME:EEST
DTSTART:20240331T010000
END:DAYLIGHT
BEGIN:STANDARD
TZOFFSETFROM:+0300
TZOFFSETTO:+0200
TZNAME:EET
DTSTART:20241027T010000
END:STANDARD
BEGIN:DAYLIGHT
TZOFFSETFROM:+0200
TZOFFSETTO:+0300
TZNAME:EEST
DTSTART:20250330T010000
END:DAYLIGHT
BEGIN:STANDARD
TZOFFSETFROM:+0300
TZOFFSETTO:+0200
TZNAME:EET
DTSTART:20251026T010000
END:STANDARD
END:VTIMEZONE
BEGIN:VEVENT
DTSTART;TZID=Europe/Helsinki:20240121T180000
DTEND;TZID=Europe/Helsinki:20240121T190000
DTSTAMP:20260423T012411
CREATED:20221227T093818Z
LAST-MODIFIED:20240104T213328Z
UID:11228-1705860000-1705863600@www.fohe.fi
SUMMARY:Kristittyjen yhteyden rukousilta
DESCRIPTION:Perinteisen ja kansainvälisen tammikuun rukousillan teemana on tänä vuonna ”Rakasta Jumalaa yli kaiken ja lähimmäistäsi niin kuin itseäsi”. Illan aikana on lyhyitä puheenvuoroja\, rukousta ja musiikkia. Illan päätteeks on teetarjoilu
URL:https://www.fohe.fi/tapahtuma/kristittyjen-yhteyden-rukousilta/
LOCATION:Forssan kirkko\, I linja 4\, Forssa\, 30100
END:VEVENT
BEGIN:VEVENT
DTSTART;TZID=Europe/Helsinki:20240121T160000
DTEND;TZID=Europe/Helsinki:20240121T180000
DTSTAMP:20260423T012411
CREATED:20240115T174658Z
LAST-MODIFIED:20240115T174809Z
UID:13353-1705852800-1705860000@www.fohe.fi
SUMMARY:English service
DESCRIPTION:Welcome to join us with our international group for worship\, Bible study and fellowship!
URL:https://www.fohe.fi/tapahtuma/english-service/
LOCATION:Forssan helluntaiseurakunta\, Nikkilänkatu 2\, Forssa\, 30100\, Suomi
ORGANIZER;CN="Forssan helluntaiseurakunta":MAILTO:seurakunta@fohe.fi
END:VEVENT
BEGIN:VEVENT
DTSTART;TZID=Europe/Helsinki:20240121T123000
DTEND;TZID=Europe/Helsinki:20240121T140000
DTSTAMP:20260423T012411
CREATED:20240104T212919Z
LAST-MODIFIED:20240104T212919Z
UID:13322-1705840200-1705845600@www.fohe.fi
SUMMARY:Forssan seudun hyväksi ry:n vuosikokous
DESCRIPTION:Käsitellään sääntöjen määräämät asiat ja ehdotetut sääntömuutokset
URL:https://www.fohe.fi/tapahtuma/forssan-seudun-hyvaksi-ryn-vuosikokous-6/
LOCATION:Forssan helluntaiseurakunta\, Nikkilänkatu 2\, Forssa\, 30100\, Suomi
ORGANIZER;CN="Forssan helluntaiseurakunta":MAILTO:seurakunta@fohe.fi
END:VEVENT
BEGIN:VEVENT
DTSTART;TZID=Europe/Helsinki:20240121T110000
DTEND;TZID=Europe/Helsinki:20240121T120000
DTSTAMP:20260423T012411
CREATED:20240104T212831Z
LAST-MODIFIED:20240104T212831Z
UID:13317-1705834800-1705838400@www.fohe.fi
SUMMARY:Jumalanpalvelus
DESCRIPTION:Pentti Riekkinen\, Tommi Hintsanen\, Riitta Salokangas\, pyhäkoulu\, kahvitus
URL:https://www.fohe.fi/tapahtuma/jumalanpalvelus-19/
LOCATION:Forssan helluntaiseurakunta\, Nikkilänkatu 2\, Forssa\, 30100\, Suomi
CATEGORIES:Tulevat Jumalanpalvelukset
ORGANIZER;CN="Forssan helluntaiseurakunta":MAILTO:seurakunta@fohe.fi
END:VEVENT
BEGIN:VEVENT
DTSTART;TZID=Europe/Helsinki:20240120T190000
DTEND;TZID=Europe/Helsinki:20240120T220000
DTSTAMP:20260423T012411
CREATED:20240104T212831Z
LAST-MODIFIED:20240104T212831Z
UID:13316-1705777200-1705788000@www.fohe.fi
SUMMARY:Nuorten Story Night -ilta
DESCRIPTION:Käy katsomassa tuoreet päivitykset: https://www.instagram.com/foheyouth/
URL:https://www.fohe.fi/tapahtuma/nuorten-story-night-ilta/
ORGANIZER;CN="Forssan helluntaiseurakunta":MAILTO:seurakunta@fohe.fi
END:VEVENT
BEGIN:VEVENT
DTSTART;TZID=Europe/Helsinki:20240116T180000
DTEND;TZID=Europe/Helsinki:20240116T200000
DTSTAMP:20260423T012411
CREATED:20240104T212829Z
LAST-MODIFIED:20240104T212829Z
UID:13315-1705428000-1705435200@www.fohe.fi
SUMMARY:Lähetysrukousilta
DESCRIPTION:Toma Flyktig\, Mirja Karvinen
URL:https://www.fohe.fi/tapahtuma/lahetysrukousilta-4/
LOCATION:Forssan helluntaiseurakunta\, Nikkilänkatu 2\, Forssa\, 30100\, Suomi
CATEGORIES:Tulevat Sanan ja rukouksen illat
ATTACH;FMTTYPE=image/jpeg:https://www.fohe.fi/wp-content/uploads/2023/02/Sana-ja-rukous-APxRNx.tmp_.jpg
ORGANIZER;CN="Forssan helluntaiseurakunta":MAILTO:seurakunta@fohe.fi
END:VEVENT
BEGIN:VEVENT
DTSTART;TZID=Europe/Helsinki:20240115T180000
DTEND;TZID=Europe/Helsinki:20240115T200000
DTSTAMP:20260423T012411
CREATED:20240104T212831Z
LAST-MODIFIED:20240104T212831Z
UID:13318-1705341600-1705348800@www.fohe.fi
SUMMARY:Katukirkko
DESCRIPTION:
URL:https://www.fohe.fi/tapahtuma/katukirkko-10/
LOCATION:Torikirkko\, Hämeentie 15\, Forssa\, 30100\, Suomi
ORGANIZER;CN="Forssan helluntaiseurakunta":MAILTO:seurakunta@fohe.fi
END:VEVENT
BEGIN:VEVENT
DTSTART;TZID=Europe/Helsinki:20240114T110000
DTEND;TZID=Europe/Helsinki:20240114T130000
DTSTAMP:20260423T012411
CREATED:20240104T212814Z
LAST-MODIFIED:20240105T173518Z
UID:13309-1705230000-1705237200@www.fohe.fi
SUMMARY:Jumalanpalvelus
DESCRIPTION:Markku Rajala\, Arto Hintsanen\, Anne Katto-Davidsson\, pyhäkoulu
URL:https://www.fohe.fi/tapahtuma/jumalanpalvelus-18/
LOCATION:Forssan helluntaiseurakunta\, Nikkilänkatu 2\, Forssa\, 30100\, Suomi
CATEGORIES:Tulevat Jumalanpalvelukset
ORGANIZER;CN="Forssan helluntaiseurakunta":MAILTO:seurakunta@fohe.fi
END:VEVENT
BEGIN:VEVENT
DTSTART;TZID=Europe/Helsinki:20240113T180000
DTEND;TZID=Europe/Helsinki:20240113T200000
DTSTAMP:20260423T012411
CREATED:20241230T190942Z
LAST-MODIFIED:20241230T190942Z
UID:14087-1705168800-1705176000@www.fohe.fi
SUMMARY:Kuoroharjoitus
DESCRIPTION:
URL:https://www.fohe.fi/tapahtuma/kuoroharjoitus-10/
LOCATION:Forssan helluntaiseurakunta\, Nikkilänkatu 2\, Forssa\, 30100\, Suomi
ATTACH;FMTTYPE=image/jpeg:https://www.fohe.fi/wp-content/uploads/2023/02/Sana-ja-rukous-APxRNx.tmp_.jpg
ORGANIZER;CN="Forssan helluntaiseurakunta":MAILTO:seurakunta@fohe.fi
END:VEVENT
BEGIN:VEVENT
DTSTART;TZID=Europe/Helsinki:20240112T190000
DTEND;TZID=Europe/Helsinki:20240112T220000
DTSTAMP:20260423T012411
CREATED:20240104T212814Z
LAST-MODIFIED:20240104T212815Z
UID:13308-1705086000-1705096800@www.fohe.fi
SUMMARY:Fohe Youth -nuortenilta
DESCRIPTION:Käy katsomassa tuoreet päivitykset: https://www.instagram.com/foheyouth/
URL:https://www.fohe.fi/tapahtuma/fohe-youth-nuortenilta-29/
LOCATION:Forssan helluntaiseurakunta\, Nikkilänkatu 2\, Forssa\, 30100\, Suomi
ORGANIZER;CN="Forssan helluntaiseurakunta":MAILTO:seurakunta@fohe.fi
END:VEVENT
BEGIN:VEVENT
DTSTART;TZID=Europe/Helsinki:20240111T180000
DTEND;TZID=Europe/Helsinki:20240111T190000
DTSTAMP:20260423T012411
CREATED:20240104T212814Z
LAST-MODIFIED:20240104T212815Z
UID:13307-1704996000-1704999600@www.fohe.fi
SUMMARY:Rukouskokous
DESCRIPTION:Rukousviikko ti-to 9.-11.1. Rukouskokoukset klo 12 & 18.
URL:https://www.fohe.fi/tapahtuma/rukouskokous-7/
LOCATION:Forssan helluntaiseurakunta\, Nikkilänkatu 2\, Forssa\, 30100\, Suomi
ORGANIZER;CN="Forssan helluntaiseurakunta":MAILTO:seurakunta@fohe.fi
END:VEVENT
BEGIN:VEVENT
DTSTART;TZID=Europe/Helsinki:20240111T120000
DTEND;TZID=Europe/Helsinki:20240111T130000
DTSTAMP:20260423T012411
CREATED:20240104T212814Z
LAST-MODIFIED:20240104T212815Z
UID:13306-1704974400-1704978000@www.fohe.fi
SUMMARY:Rukouskokous
DESCRIPTION:Rukousviikko ti-to 9.-11.1. Rukouskokoukset klo 12 & 18.
URL:https://www.fohe.fi/tapahtuma/rukouskokous-6/
LOCATION:Forssan helluntaiseurakunta\, Nikkilänkatu 2\, Forssa\, 30100\, Suomi
ORGANIZER;CN="Forssan helluntaiseurakunta":MAILTO:seurakunta@fohe.fi
END:VEVENT
BEGIN:VEVENT
DTSTART;TZID=Europe/Helsinki:20240110T180000
DTEND;TZID=Europe/Helsinki:20240110T190000
DTSTAMP:20260423T012411
CREATED:20240104T212814Z
LAST-MODIFIED:20240104T212815Z
UID:13305-1704909600-1704913200@www.fohe.fi
SUMMARY:Rukouskokous
DESCRIPTION:Rukousviikko ti-to 9.-11.1. Rukouskokoukset klo 12 & 18.
URL:https://www.fohe.fi/tapahtuma/rukouskokous-5/
LOCATION:Forssan helluntaiseurakunta\, Nikkilänkatu 2\, Forssa\, 30100\, Suomi
ORGANIZER;CN="Forssan helluntaiseurakunta":MAILTO:seurakunta@fohe.fi
END:VEVENT
BEGIN:VEVENT
DTSTART;TZID=Europe/Helsinki:20240110T120000
DTEND;TZID=Europe/Helsinki:20240110T130000
DTSTAMP:20260423T012411
CREATED:20240104T212810Z
LAST-MODIFIED:20240104T212810Z
UID:13304-1704888000-1704891600@www.fohe.fi
SUMMARY:Rukouskokous
DESCRIPTION:Rukousviikko ti-to 9.-11.1. Rukouskokoukset klo 12 & 18.
URL:https://www.fohe.fi/tapahtuma/rukouskokous-4/
LOCATION:Forssan helluntaiseurakunta\, Nikkilänkatu 2\, Forssa\, 30100\, Suomi
ORGANIZER;CN="Forssan helluntaiseurakunta":MAILTO:seurakunta@fohe.fi
END:VEVENT
BEGIN:VEVENT
DTSTART;TZID=Europe/Helsinki:20240109T180000
DTEND;TZID=Europe/Helsinki:20240109T190000
DTSTAMP:20260423T012411
CREATED:20240104T212810Z
LAST-MODIFIED:20240104T212810Z
UID:13303-1704823200-1704826800@www.fohe.fi
SUMMARY:Rukouskokous
DESCRIPTION:Rukousviikko ti-to 9.-11.1. Rukouskokoukset klo 12 & 18.
URL:https://www.fohe.fi/tapahtuma/rukouskokous-3/
LOCATION:Forssan helluntaiseurakunta\, Nikkilänkatu 2\, Forssa\, 30100\, Suomi
ORGANIZER;CN="Forssan helluntaiseurakunta":MAILTO:seurakunta@fohe.fi
END:VEVENT
BEGIN:VEVENT
DTSTART;TZID=Europe/Helsinki:20240109T120000
DTEND;TZID=Europe/Helsinki:20240109T130000
DTSTAMP:20260423T012411
CREATED:20240104T212809Z
LAST-MODIFIED:20240104T212809Z
UID:13302-1704801600-1704805200@www.fohe.fi
SUMMARY:Rukouskokous
DESCRIPTION:Rukousviikko ti-to 9.-11.1. Rukouskokoukset klo 12 & 18.
URL:https://www.fohe.fi/tapahtuma/rukouskokous-2/
LOCATION:Forssan helluntaiseurakunta\, Nikkilänkatu 2\, Forssa\, 30100\, Suomi
ORGANIZER;CN="Forssan helluntaiseurakunta":MAILTO:seurakunta@fohe.fi
END:VEVENT
BEGIN:VEVENT
DTSTART;TZID=Europe/Helsinki:20240107T110000
DTEND;TZID=Europe/Helsinki:20240107T130000
DTSTAMP:20260423T012411
CREATED:20231207T102038Z
LAST-MODIFIED:20240104T212808Z
UID:13279-1704625200-1704632400@www.fohe.fi
SUMMARY:Ehtoollisjuhla
DESCRIPTION:Raimo Huotelin\, Tommi Hintsanen\, Elli Hintsanen\, ruokailu\, seurakunnan keskustelutilaisuus vuoden teemasta ja kevään toiminnoista
URL:https://www.fohe.fi/tapahtuma/ehtoollisjuhla-9/
LOCATION:Forssan helluntaiseurakunta\, Nikkilänkatu 2\, Forssa\, 30100\, Suomi
CATEGORIES:Tulevat Jumalanpalvelukset
ATTACH;FMTTYPE=image/jpeg:https://www.fohe.fi/wp-content/uploads/2023/02/Ehtoollinen-tDTYAj.tmp_-scaled.jpg
ORGANIZER;CN="Forssan helluntaiseurakunta":MAILTO:seurakunta@fohe.fi
END:VEVENT
BEGIN:VEVENT
DTSTART;TZID=Europe/Helsinki:20240105T190000
DTEND;TZID=Europe/Helsinki:20240105T220000
DTSTAMP:20260423T012411
CREATED:20240104T212807Z
LAST-MODIFIED:20240104T212807Z
UID:13300-1704481200-1704492000@www.fohe.fi
SUMMARY:Fohe Youth -nuortenilta
DESCRIPTION:Käy katsomassa tuoreet päivitykset: https://www.instagram.com/foheyouth/
URL:https://www.fohe.fi/tapahtuma/fohe-youth-nuortenilta-28/
LOCATION:Forssan helluntaiseurakunta\, Nikkilänkatu 2\, Forssa\, 30100\, Suomi
ORGANIZER;CN="Forssan helluntaiseurakunta":MAILTO:seurakunta@fohe.fi
END:VEVENT
BEGIN:VEVENT
DTSTART;TZID=Europe/Helsinki:20240103T170000
DTEND;TZID=Europe/Helsinki:20240103T180000
DTSTAMP:20260423T012411
CREATED:20231207T102038Z
LAST-MODIFIED:20231207T102038Z
UID:13278-1704301200-1704304800@www.fohe.fi
SUMMARY:Ruoka-avun jakoa vähävaraisille
DESCRIPTION:
URL:https://www.fohe.fi/tapahtuma/ruoka-avun-jakoa-vahavaraisille/
LOCATION:Forssan helluntaiseurakunta\, Nikkilänkatu 2\, Forssa\, 30100\, Suomi
ORGANIZER;CN="Forssan helluntaiseurakunta":MAILTO:seurakunta@fohe.fi
END:VEVENT
BEGIN:VEVENT
DTSTART;TZID=Europe/Helsinki:20240102T180000
DTEND;TZID=Europe/Helsinki:20240102T200000
DTSTAMP:20260423T012411
CREATED:20231207T102037Z
LAST-MODIFIED:20231207T104846Z
UID:13277-1704218400-1704225600@www.fohe.fi
SUMMARY:Sanan ja rukouksen ilta
DESCRIPTION:Ritva Kannisto\, Mirja Karvinen
URL:https://www.fohe.fi/tapahtuma/sanan-ja-rukouksen-ilta-34/
LOCATION:Forssan helluntaiseurakunta\, Nikkilänkatu 2\, Forssa\, 30100\, Suomi
CATEGORIES:Tulevat Sanan ja rukouksen illat
ATTACH;FMTTYPE=image/jpeg:https://www.fohe.fi/wp-content/uploads/2023/02/Ehtoollinen-tDTYAj.tmp_-scaled.jpg
ORGANIZER;CN="Forssan helluntaiseurakunta":MAILTO:seurakunta@fohe.fi
END:VEVENT
BEGIN:VEVENT
DTSTART;TZID=Europe/Helsinki:20231231T110000
DTEND;TZID=Europe/Helsinki:20231231T130000
DTSTAMP:20260423T012411
CREATED:20231207T102036Z
LAST-MODIFIED:20231207T102036Z
UID:13276-1704020400-1704027600@www.fohe.fi
SUMMARY:Jumalanpalvelus
DESCRIPTION:Kari Turkki\, Raimo Huotelin\, Anne Katto-Davidsson
URL:https://www.fohe.fi/tapahtuma/jumalanpalvelus-17/
LOCATION:Forssan helluntaiseurakunta\, Nikkilänkatu 2\, Forssa\, 30100\, Suomi
CATEGORIES:Tulevat Jumalanpalvelukset
ORGANIZER;CN="Forssan helluntaiseurakunta":MAILTO:seurakunta@fohe.fi
END:VEVENT
BEGIN:VEVENT
DTSTART;TZID=Europe/Helsinki:20231226T180000
DTEND;TZID=Europe/Helsinki:20231226T200000
DTSTAMP:20260423T012411
CREATED:20231207T102036Z
LAST-MODIFIED:20241128T090808Z
UID:13275-1703613600-1703620800@www.fohe.fi
SUMMARY:Joululaulujen ilta
DESCRIPTION:
URL:https://www.fohe.fi/tapahtuma/joululaulujen-ilta/
LOCATION:Forssan helluntaiseurakunta\, Nikkilänkatu 2\, Forssa\, 30100\, Suomi
CATEGORIES:Tulevat Sanan ja rukouksen illat
ORGANIZER;CN="Forssan helluntaiseurakunta":MAILTO:seurakunta@fohe.fi
END:VEVENT
BEGIN:VEVENT
DTSTART;TZID=Europe/Helsinki:20231221T120000
DTEND;TZID=Europe/Helsinki:20231221T200000
DTSTAMP:20260423T012411
CREATED:20231207T102022Z
LAST-MODIFIED:20231207T102022Z
UID:13273-1703160000-1703188800@www.fohe.fi
SUMMARY:Katukirkon joulujuhla
DESCRIPTION:
URL:https://www.fohe.fi/tapahtuma/katukirkon-joulujuhla/
LOCATION:Seurakuntatalo\, Kartanonkatu 16\, Forssa\, 30100
END:VEVENT
BEGIN:VEVENT
DTSTART;TZID=Europe/Helsinki:20231219T180000
DTEND;TZID=Europe/Helsinki:20231219T200000
DTSTAMP:20260423T012411
CREATED:20231207T102023Z
LAST-MODIFIED:20231207T102023Z
UID:13274-1703008800-1703016000@www.fohe.fi
SUMMARY:Sanan ja rukouksen ilta
DESCRIPTION:Kari Turkki\, Marita Rasila
URL:https://www.fohe.fi/tapahtuma/sanan-ja-rukouksen-ilta-33/
LOCATION:Forssan helluntaiseurakunta\, Nikkilänkatu 2\, Forssa\, 30100\, Suomi
CATEGORIES:Tulevat Sanan ja rukouksen illat
ATTACH;FMTTYPE=image/jpeg:https://www.fohe.fi/wp-content/uploads/2023/02/Sana-ja-rukous-APxRNx.tmp_.jpg
ORGANIZER;CN="Forssan helluntaiseurakunta":MAILTO:seurakunta@fohe.fi
END:VEVENT
BEGIN:VEVENT
DTSTART;TZID=Europe/Helsinki:20231217T160000
DTEND;TZID=Europe/Helsinki:20231217T180000
DTSTAMP:20260423T012411
CREATED:20231207T102022Z
LAST-MODIFIED:20231207T102022Z
UID:13272-1702828800-1702836000@www.fohe.fi
SUMMARY:Joulujuhla
DESCRIPTION:Jouluisen juhlaohjelman jälkeen joulupuuro ja -tortut
URL:https://www.fohe.fi/tapahtuma/joulujuhla/
LOCATION:Forssan helluntaiseurakunta\, Nikkilänkatu 2\, Forssa\, 30100\, Suomi
CATEGORIES:Tulevat Jumalanpalvelukset
ORGANIZER;CN="Forssan helluntaiseurakunta":MAILTO:seurakunta@fohe.fi
END:VEVENT
BEGIN:VEVENT
DTSTART;TZID=Europe/Helsinki:20231216T180000
DTEND;TZID=Europe/Helsinki:20231216T220000
DTSTAMP:20260423T012411
CREATED:20231207T102022Z
LAST-MODIFIED:20231207T102022Z
UID:13271-1702749600-1702764000@www.fohe.fi
SUMMARY:Fohe Youth & International service pikkujoulut
DESCRIPTION:Nuortentapahtuma Kuutamolla. Pelejä ja pientä tarjoilua. Vieraana räppäri Beige esiintymässä ja kertomassa elämästään.
URL:https://www.fohe.fi/tapahtuma/fohe-youth-international-service-pikkujoulut/
LOCATION:Forssan helluntaiseurakunta\, Nikkilänkatu 2\, Forssa\, 30100\, Suomi
ORGANIZER;CN="Forssan helluntaiseurakunta":MAILTO:seurakunta@fohe.fi
END:VEVENT
BEGIN:VEVENT
DTSTART;TZID=Europe/Helsinki:20231212T180000
DTEND;TZID=Europe/Helsinki:20231212T200000
DTSTAMP:20260423T012411
CREATED:20231207T102021Z
LAST-MODIFIED:20231207T102021Z
UID:13270-1702404000-1702411200@www.fohe.fi
SUMMARY:Sanan ja rukouksen ilta
DESCRIPTION:Tapio Sopanen\, Riitta Salokangas
URL:https://www.fohe.fi/tapahtuma/sanan-ja-rukouksen-ilta-32/
LOCATION:Forssan helluntaiseurakunta\, Nikkilänkatu 2\, Forssa\, 30100\, Suomi
CATEGORIES:Tulevat Sanan ja rukouksen illat
ATTACH;FMTTYPE=image/jpeg:https://www.fohe.fi/wp-content/uploads/2023/02/Sana-ja-rukous-APxRNx.tmp_.jpg
ORGANIZER;CN="Forssan helluntaiseurakunta":MAILTO:seurakunta@fohe.fi
END:VEVENT
BEGIN:VEVENT
DTSTART;TZID=Europe/Helsinki:20231210T110000
DTEND;TZID=Europe/Helsinki:20231210T130000
DTSTAMP:20260423T012411
CREATED:20231207T102018Z
LAST-MODIFIED:20231207T102018Z
UID:13269-1702206000-1702213200@www.fohe.fi
SUMMARY:Jumalanpalvelus
DESCRIPTION:Tommi Hintsanen\, Markku Rajala\, Anne Katto-Davidsson
URL:https://www.fohe.fi/tapahtuma/jumalanpalvelus-16/
LOCATION:Forssan helluntaiseurakunta\, Nikkilänkatu 2\, Forssa\, 30100\, Suomi
CATEGORIES:Tulevat Jumalanpalvelukset
ORGANIZER;CN="Forssan helluntaiseurakunta":MAILTO:seurakunta@fohe.fi
END:VEVENT
BEGIN:VEVENT
DTSTART;TZID=Europe/Helsinki:20231209T100000
DTEND;TZID=Europe/Helsinki:20231209T150000
DTSTAMP:20260423T012411
CREATED:20231207T102017Z
LAST-MODIFIED:20231207T102017Z
UID:13268-1702116000-1702134000@www.fohe.fi
SUMMARY:Matkalla jouluun -tapahtuma
DESCRIPTION:Monipuolinen joulutapahtuma koko perheelle: myyjäiset\, kahvio\, joululauluja
URL:https://www.fohe.fi/tapahtuma/matkalla-jouluun-tapahtuma/
LOCATION:Forssan helluntaiseurakunta\, Nikkilänkatu 2\, Forssa\, 30100\, Suomi
ORGANIZER;CN="Forssan helluntaiseurakunta":MAILTO:seurakunta@fohe.fi
END:VEVENT
BEGIN:VEVENT
DTSTART;TZID=Europe/Helsinki:20231208T190000
DTEND;TZID=Europe/Helsinki:20231208T220000
DTSTAMP:20260423T012411
CREATED:20231207T102016Z
LAST-MODIFIED:20231207T102016Z
UID:13267-1702062000-1702072800@www.fohe.fi
SUMMARY:Fohe Youth -nuortenilta
DESCRIPTION:Käy katsomassa tuoreet päivitykset: https://www.instagram.com/foheyouth/
URL:https://www.fohe.fi/tapahtuma/fohe-youth-nuortenilta-27/
LOCATION:Forssan helluntaiseurakunta\, Nikkilänkatu 2\, Forssa\, 30100\, Suomi
ORGANIZER;CN="Forssan helluntaiseurakunta":MAILTO:seurakunta@fohe.fi
END:VEVENT
END:VCALENDAR