BEGIN:VCALENDAR
VERSION:2.0
PRODID:-//Forssan Helluntaiseurakunta - ECPv6.15.20//NONSGML v1.0//EN
CALSCALE:GREGORIAN
METHOD:PUBLISH
X-ORIGINAL-URL:https://www.fohe.fi
X-WR-CALDESC:Tapahtumat Forssan Helluntaiseurakunta
REFRESH-INTERVAL;VALUE=DURATION:PT1H
X-Robots-Tag:noindex
X-PUBLISHED-TTL:PT1H
BEGIN:VTIMEZONE
TZID:Europe/Helsinki
BEGIN:DAYLIGHT
TZOFFSETFROM:+0200
TZOFFSETTO:+0300
TZNAME:EEST
DTSTART:20220327T010000
END:DAYLIGHT
BEGIN:STANDARD
TZOFFSETFROM:+0300
TZOFFSETTO:+0200
TZNAME:EET
DTSTART:20221030T010000
END:STANDARD
BEGIN:DAYLIGHT
TZOFFSETFROM:+0200
TZOFFSETTO:+0300
TZNAME:EEST
DTSTART:20230326T010000
END:DAYLIGHT
BEGIN:STANDARD
TZOFFSETFROM:+0300
TZOFFSETTO:+0200
TZNAME:EET
DTSTART:20231029T010000
END:STANDARD
BEGIN:DAYLIGHT
TZOFFSETFROM:+0200
TZOFFSETTO:+0300
TZNAME:EEST
DTSTART:20240331T010000
END:DAYLIGHT
BEGIN:STANDARD
TZOFFSETFROM:+0300
TZOFFSETTO:+0200
TZNAME:EET
DTSTART:20241027T010000
END:STANDARD
END:VTIMEZONE
BEGIN:VEVENT
DTSTART;TZID=Europe/Helsinki:20231021T100000
DTEND;TZID=Europe/Helsinki:20231021T140000
DTSTAMP:20260423T102932
CREATED:20230926T091608Z
LAST-MODIFIED:20230926T091608Z
UID:13092-1697882400-1697896800@www.fohe.fi
SUMMARY:Talkoopäivä
DESCRIPTION:Monenlaista tekemistä kivassa seurassa\, ruokailu talkoolaisille
URL:https://www.fohe.fi/tapahtuma/talkoopaiva-2/
LOCATION:Forssan helluntaiseurakunta\, Nikkilänkatu 2\, Forssa\, 30100\, Suomi
ORGANIZER;CN="Forssan helluntaiseurakunta":MAILTO:seurakunta@fohe.fi
END:VEVENT
BEGIN:VEVENT
DTSTART;TZID=Europe/Helsinki:20231020T190000
DTEND;TZID=Europe/Helsinki:20231020T220000
DTSTAMP:20260423T102932
CREATED:20230926T091555Z
LAST-MODIFIED:20230926T091555Z
UID:13091-1697828400-1697839200@www.fohe.fi
SUMMARY:Fohe Youth -nuortenilta
DESCRIPTION:Käy katsomassa tuoreet päivitykset: https://www.instagram.com/foheyouth/
URL:https://www.fohe.fi/tapahtuma/fohe-youth-nuortenilta-21/
LOCATION:Forssan helluntaiseurakunta\, Nikkilänkatu 2\, Forssa\, 30100\, Suomi
ORGANIZER;CN="Forssan helluntaiseurakunta":MAILTO:seurakunta@fohe.fi
END:VEVENT
BEGIN:VEVENT
DTSTART;TZID=Europe/Helsinki:20231019T140000
DTEND;TZID=Europe/Helsinki:20231019T160000
DTSTAMP:20260423T102932
CREATED:20230926T091554Z
LAST-MODIFIED:20230926T091554Z
UID:13090-1697724000-1697731200@www.fohe.fi
SUMMARY:Kohtaamispaikka
DESCRIPTION:Kahvia\, keskustelua ja kohtaamista! Tervetuloa mukaan!
URL:https://www.fohe.fi/tapahtuma/kohtaamispaikka-78/
LOCATION:Forssan helluntaiseurakunta\, Nikkilänkatu 2\, Forssa\, 30100\, Suomi
ORGANIZER;CN="Forssan helluntaiseurakunta":MAILTO:seurakunta@fohe.fi
END:VEVENT
BEGIN:VEVENT
DTSTART;TZID=Europe/Helsinki:20231017T180000
DTEND;TZID=Europe/Helsinki:20231017T193000
DTSTAMP:20260423T102932
CREATED:20230926T092820Z
LAST-MODIFIED:20230926T092822Z
UID:13104-1697565600-1697571000@www.fohe.fi
SUMMARY:Sanan ja rukouksen ilta
DESCRIPTION:Raija Rajala\, Riitta Pelto-Huikko
URL:https://www.fohe.fi/tapahtuma/sanan-ja-rukouksen-ilta-28/
END:VEVENT
BEGIN:VEVENT
DTSTART;TZID=Europe/Helsinki:20231015T150000
DTEND;TZID=Europe/Helsinki:20231015T170000
DTSTAMP:20260423T102932
CREATED:20230926T091553Z
LAST-MODIFIED:20230926T091553Z
UID:13088-1697382000-1697389200@www.fohe.fi
SUMMARY:International service
DESCRIPTION:Worship\, Bible study\, fellowship. You are invited!
URL:https://www.fohe.fi/tapahtuma/international-service-28/
LOCATION:Forssan helluntaiseurakunta\, Nikkilänkatu 2\, Forssa\, 30100\, Suomi
CATEGORIES:Tulevat Jumalanpalvelukset
ORGANIZER;CN="Forssan helluntaiseurakunta":MAILTO:seurakunta@fohe.fi
END:VEVENT
BEGIN:VEVENT
DTSTART;TZID=Europe/Helsinki:20231015T110000
DTEND;TZID=Europe/Helsinki:20231015T130000
DTSTAMP:20260423T102932
CREATED:20230926T091553Z
LAST-MODIFIED:20231013T152213Z
UID:13087-1697367600-1697374800@www.fohe.fi
SUMMARY:Jumalanpalvelus
DESCRIPTION:Eljas Karvinen\, Tommi Suonpää\, naisten lauluryhmä\, pyhäkoulu
URL:https://www.fohe.fi/tapahtuma/jumalanpalvelus-13/
LOCATION:Forssan helluntaiseurakunta\, Nikkilänkatu 2\, Forssa\, 30100\, Suomi
CATEGORIES:Tulevat Jumalanpalvelukset
ORGANIZER;CN="Forssan helluntaiseurakunta":MAILTO:seurakunta@fohe.fi
END:VEVENT
BEGIN:VEVENT
DTSTART;TZID=Europe/Helsinki:20231014T100000
DTEND;TZID=Europe/Helsinki:20231014T140000
DTSTAMP:20260423T102932
CREATED:20230926T091542Z
LAST-MODIFIED:20230926T091542Z
UID:13086-1697277600-1697292000@www.fohe.fi
SUMMARY:Lapsiperhelauantai
DESCRIPTION:Koko perheen tapahtuma Feeniks-urheilutalossa\, mukana on myös meidän osastomme
URL:https://www.fohe.fi/tapahtuma/lapsiperhelauantai/
END:VEVENT
BEGIN:VEVENT
DTSTART;TZID=Europe/Helsinki:20231013T190000
DTEND;TZID=Europe/Helsinki:20231013T220000
DTSTAMP:20260423T102932
CREATED:20230926T091542Z
LAST-MODIFIED:20230926T091542Z
UID:13085-1697223600-1697234400@www.fohe.fi
SUMMARY:Fohe Youth -nuortenilta
DESCRIPTION:Käy katsomassa tuoreet päivitykset: https://www.instagram.com/foheyouth/
URL:https://www.fohe.fi/tapahtuma/fohe-youth-nuortenilta-20/
LOCATION:Forssan helluntaiseurakunta\, Nikkilänkatu 2\, Forssa\, 30100\, Suomi
ORGANIZER;CN="Forssan helluntaiseurakunta":MAILTO:seurakunta@fohe.fi
END:VEVENT
BEGIN:VEVENT
DTSTART;TZID=Europe/Helsinki:20231012T180000
DTEND;TZID=Europe/Helsinki:20231012T193000
DTSTAMP:20260423T102932
CREATED:20231012T064639Z
LAST-MODIFIED:20231012T064643Z
UID:13127-1697133600-1697139000@www.fohe.fi
SUMMARY:Kotikokous
DESCRIPTION:
URL:https://www.fohe.fi/tapahtuma/kotikokous-3/
ORGANIZER;CN="Forssan helluntaiseurakunta":MAILTO:seurakunta@fohe.fi
END:VEVENT
BEGIN:VEVENT
DTSTART;TZID=Europe/Helsinki:20231012T140000
DTEND;TZID=Europe/Helsinki:20231012T160000
DTSTAMP:20260423T102932
CREATED:20230926T091541Z
LAST-MODIFIED:20230926T091541Z
UID:13084-1697119200-1697126400@www.fohe.fi
SUMMARY:Kohtaamispaikka
DESCRIPTION:Kahvia\, keskustelua ja kohtaamista! Tervetuloa mukaan!
URL:https://www.fohe.fi/tapahtuma/kohtaamispaikka-77/
LOCATION:Forssan helluntaiseurakunta\, Nikkilänkatu 2\, Forssa\, 30100\, Suomi
ORGANIZER;CN="Forssan helluntaiseurakunta":MAILTO:seurakunta@fohe.fi
END:VEVENT
BEGIN:VEVENT
DTSTART;TZID=Europe/Helsinki:20231012T083000
DTEND;TZID=Europe/Helsinki:20231012T100000
DTSTAMP:20260423T102932
CREATED:20230926T091540Z
LAST-MODIFIED:20230926T091540Z
UID:13083-1697099400-1697104800@www.fohe.fi
SUMMARY:Yhteiskristillinen aamurukous
DESCRIPTION:Pientä tarjoilua\, Raamatun tutkimista yhdessä\, rukousta\, tervetuloa mukaan
URL:https://www.fohe.fi/tapahtuma/yhteiskristillinen-aamurukous-3/
LOCATION:Torikirkko\, Hämeentie 15\, Forssa\, 30100\, Suomi
END:VEVENT
BEGIN:VEVENT
DTSTART;TZID=Europe/Helsinki:20231010T180000
DTEND;TZID=Europe/Helsinki:20231010T200000
DTSTAMP:20260423T102932
CREATED:20230926T091538Z
LAST-MODIFIED:20230926T091538Z
UID:13082-1696960800-1696968000@www.fohe.fi
SUMMARY:Sanan ja rukouksen ilta
DESCRIPTION:Kari Turkki\, Marita Rasila
URL:https://www.fohe.fi/tapahtuma/sanan-ja-rukouksen-ilta-26/
LOCATION:Forssan helluntaiseurakunta\, Nikkilänkatu 2\, Forssa\, 30100\, Suomi
CATEGORIES:Tulevat Sanan ja rukouksen illat
ATTACH;FMTTYPE=image/jpeg:https://www.fohe.fi/wp-content/uploads/2023/02/Sana-ja-rukous-APxRNx.tmp_.jpg
ORGANIZER;CN="Forssan helluntaiseurakunta":MAILTO:seurakunta@fohe.fi
END:VEVENT
BEGIN:VEVENT
DTSTART;TZID=Europe/Helsinki:20231008T110000
DTEND;TZID=Europe/Helsinki:20231008T130000
DTSTAMP:20260423T102932
CREATED:20230926T091534Z
LAST-MODIFIED:20230926T091534Z
UID:13081-1696762800-1696770000@www.fohe.fi
SUMMARY:Jumalanpalvelus
DESCRIPTION:Matti Koivisto\, Markku Rajala\, Riitta Salokangas\, pyhäkoulu
URL:https://www.fohe.fi/tapahtuma/jumalanpalvelus-12/
LOCATION:Forssan helluntaiseurakunta\, Nikkilänkatu 2\, Forssa\, 30100\, Suomi
CATEGORIES:Tulevat Jumalanpalvelukset
ORGANIZER;CN="Forssan helluntaiseurakunta":MAILTO:seurakunta@fohe.fi
END:VEVENT
BEGIN:VEVENT
DTSTART;TZID=Europe/Helsinki:20231006T190000
DTEND;TZID=Europe/Helsinki:20231006T220000
DTSTAMP:20260423T102932
CREATED:20230926T091533Z
LAST-MODIFIED:20230926T091533Z
UID:13080-1696618800-1696629600@www.fohe.fi
SUMMARY:Fohe Youth -nuortenilta
DESCRIPTION:Käy katsomassa tuoreet päivitykset: https://www.instagram.com/foheyouth/
URL:https://www.fohe.fi/tapahtuma/fohe-youth-nuortenilta-19/
LOCATION:Forssan helluntaiseurakunta\, Nikkilänkatu 2\, Forssa\, 30100\, Suomi
ORGANIZER;CN="Forssan helluntaiseurakunta":MAILTO:seurakunta@fohe.fi
END:VEVENT
BEGIN:VEVENT
DTSTART;TZID=Europe/Helsinki:20231005T140000
DTEND;TZID=Europe/Helsinki:20231005T160000
DTSTAMP:20260423T102932
CREATED:20230926T091533Z
LAST-MODIFIED:20230926T091533Z
UID:13079-1696514400-1696521600@www.fohe.fi
SUMMARY:Kohtaamispaikka
DESCRIPTION:Kahvia\, keskustelua ja kohtaamista! Tervetuloa mukaan!
URL:https://www.fohe.fi/tapahtuma/kohtaamispaikka-76/
LOCATION:Forssan helluntaiseurakunta\, Nikkilänkatu 2\, Forssa\, 30100\, Suomi
ORGANIZER;CN="Forssan helluntaiseurakunta":MAILTO:seurakunta@fohe.fi
END:VEVENT
BEGIN:VEVENT
DTSTART;TZID=Europe/Helsinki:20231004T170000
DTEND;TZID=Europe/Helsinki:20231004T180000
DTSTAMP:20260423T102932
CREATED:20230926T091532Z
LAST-MODIFIED:20230926T091532Z
UID:13078-1696438800-1696442400@www.fohe.fi
SUMMARY:Ruokajakelu
DESCRIPTION:Ruoka-avun jakoa\, kahvitus\, mahdollisuus keskusteluun
URL:https://www.fohe.fi/tapahtuma/ruokajakelu-7/
LOCATION:Forssan helluntaiseurakunta\, Nikkilänkatu 2\, Forssa\, 30100\, Suomi
ORGANIZER;CN="Forssan helluntaiseurakunta":MAILTO:seurakunta@fohe.fi
END:VEVENT
BEGIN:VEVENT
DTSTART;TZID=Europe/Helsinki:20231003T180000
DTEND;TZID=Europe/Helsinki:20231003T200000
DTSTAMP:20260423T102932
CREATED:20230926T091530Z
LAST-MODIFIED:20230926T091530Z
UID:13077-1696356000-1696363200@www.fohe.fi
SUMMARY:Sanan ja rukouksen ilta
DESCRIPTION:Tommi Hintsanen\, Mirja Karvinen
URL:https://www.fohe.fi/tapahtuma/sanan-ja-rukouksen-ilta-25/
LOCATION:Forssan helluntaiseurakunta\, Nikkilänkatu 2\, Forssa\, 30100\, Suomi
CATEGORIES:Tulevat Sanan ja rukouksen illat
ATTACH;FMTTYPE=image/jpeg:https://www.fohe.fi/wp-content/uploads/2023/02/Sana-ja-rukous-APxRNx.tmp_.jpg
ORGANIZER;CN="Forssan helluntaiseurakunta":MAILTO:seurakunta@fohe.fi
END:VEVENT
BEGIN:VEVENT
DTSTART;TZID=Europe/Helsinki:20231001T110000
DTEND;TZID=Europe/Helsinki:20231001T130000
DTSTAMP:20260423T102932
CREATED:20230903T055326Z
LAST-MODIFIED:20230903T055326Z
UID:13036-1696158000-1696165200@www.fohe.fi
SUMMARY:Ehtoollisjuhla
DESCRIPTION:Raimo Huotelin\, Tommi Hintsanen\, naisten lauluryhmä
URL:https://www.fohe.fi/tapahtuma/ehtoollisjuhla-7/
LOCATION:Forssan helluntaiseurakunta\, Nikkilänkatu 2\, Forssa\, 30100\, Suomi
CATEGORIES:Tulevat Jumalanpalvelukset
ATTACH;FMTTYPE=image/jpeg:https://www.fohe.fi/wp-content/uploads/2023/02/Ehtoollinen-tDTYAj.tmp_-scaled.jpg
ORGANIZER;CN="Forssan helluntaiseurakunta":MAILTO:seurakunta@fohe.fi
END:VEVENT
BEGIN:VEVENT
DTSTART;TZID=Europe/Helsinki:20230929T190000
DTEND;TZID=Europe/Helsinki:20230929T220000
DTSTAMP:20260423T102932
CREATED:20230903T055341Z
LAST-MODIFIED:20230903T055341Z
UID:13040-1696014000-1696024800@www.fohe.fi
SUMMARY:Fohe Youth -nuortenilta
DESCRIPTION:Käy katsomassa tuoreet päivitykset: https://www.instagram.com/foheyouth/
URL:https://www.fohe.fi/tapahtuma/fohe-youth-nuortenilta-18/
LOCATION:Forssan helluntaiseurakunta\, Nikkilänkatu 2\, Forssa\, 30100\, Suomi
ORGANIZER;CN="Forssan helluntaiseurakunta":MAILTO:seurakunta@fohe.fi
END:VEVENT
BEGIN:VEVENT
DTSTART;TZID=Europe/Helsinki:20230928T140000
DTEND;TZID=Europe/Helsinki:20230928T160000
DTSTAMP:20260423T102933
CREATED:20230903T055411Z
LAST-MODIFIED:20230903T055411Z
UID:13051-1695909600-1695916800@www.fohe.fi
SUMMARY:Kohtaamispaikka
DESCRIPTION:Keskustelua ja rukousta sekä pieni tarjoilu\, tule mukaan rakentumaan ja rakentamaan
URL:https://www.fohe.fi/tapahtuma/kohtaamispaikka-14/
LOCATION:Forssan helluntaiseurakunta\, Nikkilänkatu 2\, Forssa\, 30100\, Suomi
ORGANIZER;CN="Forssan helluntaiseurakunta":MAILTO:seurakunta@fohe.fi
END:VEVENT
BEGIN:VEVENT
DTSTART;TZID=Europe/Helsinki:20230926T190000
DTEND;TZID=Europe/Helsinki:20230926T200000
DTSTAMP:20260423T102933
CREATED:20230903T055325Z
LAST-MODIFIED:20230903T055325Z
UID:13035-1695754800-1695758400@www.fohe.fi
SUMMARY:Lähetysilta
DESCRIPTION:Eija ja Simon Desjardins\, Marita Rasila
URL:https://www.fohe.fi/tapahtuma/lahetysilta-7/
LOCATION:Forssan helluntaiseurakunta\, Nikkilänkatu 2\, Forssa\, 30100\, Suomi
CATEGORIES:Tulevat Sanan ja rukouksen illat
ORGANIZER;CN="Forssan helluntaiseurakunta":MAILTO:seurakunta@fohe.fi
END:VEVENT
BEGIN:VEVENT
DTSTART;TZID=Europe/Helsinki:20230925T180000
DTEND;TZID=Europe/Helsinki:20230925T200000
DTSTAMP:20260423T102933
CREATED:20230903T055342Z
LAST-MODIFIED:20230903T055342Z
UID:13043-1695664800-1695672000@www.fohe.fi
SUMMARY:Katukirkko
DESCRIPTION:
URL:https://www.fohe.fi/tapahtuma/katukirkko-7/
LOCATION:Torikirkko\, Hämeentie 15\, Forssa\, 30100\, Suomi
ORGANIZER;CN="Forssan helluntaiseurakunta":MAILTO:seurakunta@fohe.fi
END:VEVENT
BEGIN:VEVENT
DTSTART;TZID=Europe/Helsinki:20230924T160000
DTEND;TZID=Europe/Helsinki:20230924T180000
DTSTAMP:20260423T102933
CREATED:20230903T055325Z
LAST-MODIFIED:20230903T055325Z
UID:13034-1695571200-1695578400@www.fohe.fi
SUMMARY:Olohuoneilta: Pelastus – mikä ihmeellinen asia!
DESCRIPTION:Tarjoilua\, musiikkia ja ajatuksia Roomalaiskirjeen äärellä.
URL:https://www.fohe.fi/tapahtuma/olohuoneilta-pelastus-mika-ihmeellinen-asia/
LOCATION:Forssan helluntaiseurakunta\, Nikkilänkatu 2\, Forssa\, 30100\, Suomi
CATEGORIES:Tulevat Jumalanpalvelukset
ORGANIZER;CN="Forssan helluntaiseurakunta":MAILTO:seurakunta@fohe.fi
END:VEVENT
BEGIN:VEVENT
DTSTART;TZID=Europe/Helsinki:20230923T170000
DTEND;TZID=Europe/Helsinki:20230923T170000
DTSTAMP:20260423T102933
CREATED:20230903T055356Z
LAST-MODIFIED:20230903T055356Z
UID:13044-1695488400-1695488400@www.fohe.fi
SUMMARY:Sielunhoidollinen ilta
DESCRIPTION:Rakentumista hyvään elämään\, vieraielmassa Annukka Suonpää
URL:https://www.fohe.fi/tapahtuma/sielunhoidollinen-ilta/
LOCATION:Forssan helluntaiseurakunta\, Nikkilänkatu 2\, Forssa\, 30100\, Suomi
ORGANIZER;CN="Forssan helluntaiseurakunta":MAILTO:seurakunta@fohe.fi
END:VEVENT
BEGIN:VEVENT
DTSTART;TZID=Europe/Helsinki:20230922T190000
DTEND;TZID=Europe/Helsinki:20230922T220000
DTSTAMP:20260423T102933
CREATED:20230903T055341Z
LAST-MODIFIED:20230903T055341Z
UID:13039-1695409200-1695420000@www.fohe.fi
SUMMARY:Fohe Youth -nuortenilta
DESCRIPTION:Käy katsomassa tuoreet päivitykset: https://www.instagram.com/foheyouth/
URL:https://www.fohe.fi/tapahtuma/fohe-youth-nuortenilta-17/
LOCATION:Forssan helluntaiseurakunta\, Nikkilänkatu 2\, Forssa\, 30100\, Suomi
ORGANIZER;CN="Forssan helluntaiseurakunta":MAILTO:seurakunta@fohe.fi
END:VEVENT
BEGIN:VEVENT
DTSTART;TZID=Europe/Helsinki:20230921T140000
DTEND;TZID=Europe/Helsinki:20230921T160000
DTSTAMP:20260423T102933
CREATED:20230903T055411Z
LAST-MODIFIED:20230903T055411Z
UID:13050-1695304800-1695312000@www.fohe.fi
SUMMARY:Kohtaamispaikka
DESCRIPTION:Keskustelua ja rukousta sekä pieni tarjoilu\, tule mukaan rakentumaan ja rakentamaan
URL:https://www.fohe.fi/tapahtuma/kohtaamispaikka-13/
LOCATION:Forssan helluntaiseurakunta\, Nikkilänkatu 2\, Forssa\, 30100\, Suomi
ORGANIZER;CN="Forssan helluntaiseurakunta":MAILTO:seurakunta@fohe.fi
END:VEVENT
BEGIN:VEVENT
DTSTART;TZID=Europe/Helsinki:20230919T190000
DTEND;TZID=Europe/Helsinki:20230919T200000
DTSTAMP:20260423T102933
CREATED:20230903T055321Z
LAST-MODIFIED:20230903T055321Z
UID:13033-1695150000-1695153600@www.fohe.fi
SUMMARY:Sanan ja rukouksen ilta
DESCRIPTION:Tommi Hintsanen\, Riitta Salokangas
URL:https://www.fohe.fi/tapahtuma/sanan-ja-rukouksen-ilta-24/
LOCATION:Forssan helluntaiseurakunta\, Nikkilänkatu 2\, Forssa\, 30100\, Suomi
CATEGORIES:Tulevat Sanan ja rukouksen illat
ATTACH;FMTTYPE=image/jpeg:https://www.fohe.fi/wp-content/uploads/2023/02/Sana-ja-rukous-APxRNx.tmp_.jpg
ORGANIZER;CN="Forssan helluntaiseurakunta":MAILTO:seurakunta@fohe.fi
END:VEVENT
BEGIN:VEVENT
DTSTART;TZID=Europe/Helsinki:20230919T180000
DTEND;TZID=Europe/Helsinki:20230919T190000
DTSTAMP:20260423T102933
CREATED:20230903T055356Z
LAST-MODIFIED:20230903T055356Z
UID:13047-1695146400-1695150000@www.fohe.fi
SUMMARY:Miksauskoulutus
DESCRIPTION:Äänentoiston perusteet\, tule rohkeasti mukaan
URL:https://www.fohe.fi/tapahtuma/miksauskoulutus/
LOCATION:Forssan helluntaiseurakunta\, Nikkilänkatu 2\, Forssa\, 30100\, Suomi
ORGANIZER;CN="Forssan helluntaiseurakunta":MAILTO:seurakunta@fohe.fi
END:VEVENT
BEGIN:VEVENT
DTSTART;TZID=Europe/Helsinki:20230917T150000
DTEND;TZID=Europe/Helsinki:20230917T170000
DTSTAMP:20260423T102933
CREATED:20230903T055356Z
LAST-MODIFIED:20230903T055356Z
UID:13046-1694962800-1694970000@www.fohe.fi
SUMMARY:Enlish service
DESCRIPTION:Worship\, Bible study\, Fellowship
URL:https://www.fohe.fi/tapahtuma/enlish-service/
LOCATION:Forssan helluntaiseurakunta\, Nikkilänkatu 2\, Forssa\, 30100\, Suomi
ORGANIZER;CN="Forssan helluntaiseurakunta":MAILTO:seurakunta@fohe.fi
END:VEVENT
BEGIN:VEVENT
DTSTART;TZID=Europe/Helsinki:20230917T110000
DTEND;TZID=Europe/Helsinki:20230917T130000
DTSTAMP:20260423T102933
CREATED:20230903T055321Z
LAST-MODIFIED:20230903T055321Z
UID:13032-1694948400-1694955600@www.fohe.fi
SUMMARY:Jumalanpalvelus\, Ison Kirjan vierailu
DESCRIPTION:Tommi Hintsanen\, Sami Aro-Panula\, Anne Katto-Davidsson
URL:https://www.fohe.fi/tapahtuma/jumalanpalvelus-ison-kirjan-vierailu/
LOCATION:Forssan helluntaiseurakunta\, Nikkilänkatu 2\, Forssa\, 30100\, Suomi
CATEGORIES:Tulevat Jumalanpalvelukset
ORGANIZER;CN="Forssan helluntaiseurakunta":MAILTO:seurakunta@fohe.fi
END:VEVENT
END:VCALENDAR