BEGIN:VCALENDAR
VERSION:2.0
PRODID:-//Forssan Helluntaiseurakunta - ECPv6.15.20//NONSGML v1.0//EN
CALSCALE:GREGORIAN
METHOD:PUBLISH
X-ORIGINAL-URL:https://www.fohe.fi
X-WR-CALDESC:Tapahtumat Forssan Helluntaiseurakunta
REFRESH-INTERVAL;VALUE=DURATION:PT1H
X-Robots-Tag:noindex
X-PUBLISHED-TTL:PT1H
BEGIN:VTIMEZONE
TZID:Europe/Helsinki
BEGIN:DAYLIGHT
TZOFFSETFROM:+0200
TZOFFSETTO:+0300
TZNAME:EEST
DTSTART:20220327T010000
END:DAYLIGHT
BEGIN:STANDARD
TZOFFSETFROM:+0300
TZOFFSETTO:+0200
TZNAME:EET
DTSTART:20221030T010000
END:STANDARD
BEGIN:DAYLIGHT
TZOFFSETFROM:+0200
TZOFFSETTO:+0300
TZNAME:EEST
DTSTART:20230326T010000
END:DAYLIGHT
BEGIN:STANDARD
TZOFFSETFROM:+0300
TZOFFSETTO:+0200
TZNAME:EET
DTSTART:20231029T010000
END:STANDARD
BEGIN:DAYLIGHT
TZOFFSETFROM:+0200
TZOFFSETTO:+0300
TZNAME:EEST
DTSTART:20240331T010000
END:DAYLIGHT
BEGIN:STANDARD
TZOFFSETFROM:+0300
TZOFFSETTO:+0200
TZNAME:EET
DTSTART:20241027T010000
END:STANDARD
END:VTIMEZONE
BEGIN:VEVENT
DTSTART;TZID=Europe/Helsinki:20230915T190000
DTEND;TZID=Europe/Helsinki:20230915T220000
DTSTAMP:20260423T150943
CREATED:20230903T055327Z
LAST-MODIFIED:20230903T055327Z
UID:13038-1694804400-1694815200@www.fohe.fi
SUMMARY:Fohe Youth -nuortenilta
DESCRIPTION:Käy katsomassa tuoreet päivitykset: https://www.instagram.com/foheyouth/
URL:https://www.fohe.fi/tapahtuma/fohe-youth-nuortenilta-16/
LOCATION:Forssan helluntaiseurakunta\, Nikkilänkatu 2\, Forssa\, 30100\, Suomi
ORGANIZER;CN="Forssan helluntaiseurakunta":MAILTO:seurakunta@fohe.fi
END:VEVENT
BEGIN:VEVENT
DTSTART;TZID=Europe/Helsinki:20230914T160000
DTEND;TZID=Europe/Helsinki:20230914T180000
DTSTAMP:20260423T150943
CREATED:20240829T083254Z
LAST-MODIFIED:20240829T083254Z
UID:13831-1694707200-1694714400@www.fohe.fi
SUMMARY:Sydänlanka-konsertti
DESCRIPTION:Sydänlanka saapuu Forssan kirkkoon! Jaana Pöllänen (tangoprinsessa vuodelta 2000) on saanut elää laulajan elämää jo 30 vuotta – on siis aihetta juhlaan! Pöllänen on tunnettu karismaattisena\, tummasointisena\, eläytyvänä taitelijana\, joka kohtaa kuulijansa sydämen korkeudelta. Viimeisen vuosikymmenen ajan Pöllänen on toiminut hengellisen musiikin esittäjänä\, miehensä Ville Uusitalon kanssa\, kiertäen ympäri Suomea. Sydänlanka-juhlakiertueella kuullaan Jaana Pölläsen tulkitsemana Lasse Heikkilän hengellisiä tangosävelmiä\, joita sanoittavat säveltäjän lisäksi mm. Anneli Kärki\, Jarmo Jokinen ja Minna Kontiolahti. Pöllästä säestää Lasse Heikkilän tango-orkesteri\, jossa mukana mm. Kultaisen harmonikan 2021 voittanut Sonja Kola. Lisätietoja http://www.xn--sydnlanka-x2a.fi/ Ohjelma 10€
URL:https://www.fohe.fi/tapahtuma/sydanlanka-konsertti/
LOCATION:Forssan kirkko\, I linja 4\, Forssa\, 30100
END:VEVENT
BEGIN:VEVENT
DTSTART;TZID=Europe/Helsinki:20230914T140000
DTEND;TZID=Europe/Helsinki:20230914T160000
DTSTAMP:20260423T150943
CREATED:20230903T055411Z
LAST-MODIFIED:20230903T055411Z
UID:13049-1694700000-1694707200@www.fohe.fi
SUMMARY:Kohtaamispaikka
DESCRIPTION:Keskustelua ja rukousta sekä pieni tarjoilu\, tule mukaan rakentumaan ja rakentamaan
URL:https://www.fohe.fi/tapahtuma/kohtaamispaikka-12/
LOCATION:Forssan helluntaiseurakunta\, Nikkilänkatu 2\, Forssa\, 30100\, Suomi
ORGANIZER;CN="Forssan helluntaiseurakunta":MAILTO:seurakunta@fohe.fi
END:VEVENT
BEGIN:VEVENT
DTSTART;TZID=Europe/Helsinki:20230914T083000
DTEND;TZID=Europe/Helsinki:20230914T100000
DTSTAMP:20260423T150943
CREATED:20230903T055341Z
LAST-MODIFIED:20230903T055341Z
UID:13042-1694680200-1694685600@www.fohe.fi
SUMMARY:Yhteiskristillinen aamurukous
DESCRIPTION:Pientä tarjoilua\, Raamatun tutkimista yhdessä\, rukousta\, tervetuloa mukaan
URL:https://www.fohe.fi/tapahtuma/yhteiskristillinen-aamurukous-2/
LOCATION:Forssan helluntaiseurakunta\, Nikkilänkatu 2\, Forssa\, 30100\, Suomi
ORGANIZER;CN="Forssan helluntaiseurakunta":MAILTO:seurakunta@fohe.fi
END:VEVENT
BEGIN:VEVENT
DTSTART;TZID=Europe/Helsinki:20230912T190000
DTEND;TZID=Europe/Helsinki:20230912T200000
DTSTAMP:20260423T150943
CREATED:20230903T055319Z
LAST-MODIFIED:20230903T055319Z
UID:13031-1694545200-1694548800@www.fohe.fi
SUMMARY:Sanan ja rukouksen ilta
DESCRIPTION:Asta Jaakkola\, Riitta Pelto-Huikko
URL:https://www.fohe.fi/tapahtuma/sanan-ja-rukouksen-ilta-23/
LOCATION:Forssan helluntaiseurakunta\, Nikkilänkatu 2\, Forssa\, 30100\, Suomi
CATEGORIES:Tulevat Sanan ja rukouksen illat
ATTACH;FMTTYPE=image/jpeg:https://www.fohe.fi/wp-content/uploads/2023/02/Sana-ja-rukous-APxRNx.tmp_.jpg
ORGANIZER;CN="Forssan helluntaiseurakunta":MAILTO:seurakunta@fohe.fi
END:VEVENT
BEGIN:VEVENT
DTSTART;TZID=Europe/Helsinki:20230910T110000
DTEND;TZID=Europe/Helsinki:20230910T130000
DTSTAMP:20260423T150943
CREATED:20230903T055318Z
LAST-MODIFIED:20230903T055318Z
UID:13030-1694343600-1694350800@www.fohe.fi
SUMMARY:Jumalanpalvelus
DESCRIPTION:Elli Hintsanen ja nuoret
URL:https://www.fohe.fi/tapahtuma/jumalanpalvelus-11/
LOCATION:Forssan helluntaiseurakunta\, Nikkilänkatu 2\, Forssa\, 30100\, Suomi
CATEGORIES:Tulevat Jumalanpalvelukset
ORGANIZER;CN="Forssan helluntaiseurakunta":MAILTO:seurakunta@fohe.fi
END:VEVENT
BEGIN:VEVENT
DTSTART;TZID=Europe/Helsinki:20230908T190000
DTEND;TZID=Europe/Helsinki:20230908T220000
DTSTAMP:20260423T150943
CREATED:20230903T055327Z
LAST-MODIFIED:20230903T055327Z
UID:13037-1694199600-1694210400@www.fohe.fi
SUMMARY:Fohe Youth -nuortenilta
DESCRIPTION:Käy katsomassa tuoreet päivitykset: https://www.instagram.com/foheyouth/
URL:https://www.fohe.fi/tapahtuma/fohe-youth-nuortenilta-15/
LOCATION:Forssan helluntaiseurakunta\, Nikkilänkatu 2\, Forssa\, 30100\, Suomi
ORGANIZER;CN="Forssan helluntaiseurakunta":MAILTO:seurakunta@fohe.fi
END:VEVENT
BEGIN:VEVENT
DTSTART;TZID=Europe/Helsinki:20230907T140000
DTEND;TZID=Europe/Helsinki:20230907T160000
DTSTAMP:20260423T150943
CREATED:20230903T055356Z
LAST-MODIFIED:20230903T055356Z
UID:13048-1694095200-1694102400@www.fohe.fi
SUMMARY:Kohtaamispaikka
DESCRIPTION:Keskustelua ja rukousta sekä pieni tarjoilu\, tule mukaan rakentumaan ja rakentamaan
URL:https://www.fohe.fi/tapahtuma/kohtaamispaikka-11/
LOCATION:Forssan helluntaiseurakunta\, Nikkilänkatu 2\, Forssa\, 30100\, Suomi
ORGANIZER;CN="Forssan helluntaiseurakunta":MAILTO:seurakunta@fohe.fi
END:VEVENT
BEGIN:VEVENT
DTSTART;TZID=Europe/Helsinki:20230906T170000
DTEND;TZID=Europe/Helsinki:20230906T180000
DTSTAMP:20260423T150943
CREATED:20230903T055356Z
LAST-MODIFIED:20230903T055356Z
UID:13045-1694019600-1694023200@www.fohe.fi
SUMMARY:Ruokajakelu
DESCRIPTION:Ruoka-avun jakoa\, kahvitus\, mahdollisuus keskusteluun
URL:https://www.fohe.fi/tapahtuma/ruokajakelu-6/
LOCATION:Forssan helluntaiseurakunta\, Nikkilänkatu 2\, Forssa\, 30100\, Suomi
ORGANIZER;CN="Forssan helluntaiseurakunta":MAILTO:seurakunta@fohe.fi
END:VEVENT
BEGIN:VEVENT
DTSTART;TZID=Europe/Helsinki:20230905T190000
DTEND;TZID=Europe/Helsinki:20230905T200000
DTSTAMP:20260423T150943
CREATED:20230903T055316Z
LAST-MODIFIED:20230903T055316Z
UID:13029-1693940400-1693944000@www.fohe.fi
SUMMARY:Lähetysilta ”Pakistanin haaste”
DESCRIPTION:Ajankohtaisia kuulumisia Pakistanin kristittyjen tilanteesta\, Toma Flyktig\, Mirja Karvinen
URL:https://www.fohe.fi/tapahtuma/lahetysilta-pakistanin-haaste/
LOCATION:Forssan helluntaiseurakunta\, Nikkilänkatu 2\, Forssa\, 30100\, Suomi
CATEGORIES:Tulevat Sanan ja rukouksen illat
ATTACH;FMTTYPE=image/jpeg:https://www.fohe.fi/wp-content/uploads/2023/02/Sana-ja-rukous-APxRNx.tmp_.jpg
ORGANIZER;CN="Forssan helluntaiseurakunta":MAILTO:seurakunta@fohe.fi
END:VEVENT
BEGIN:VEVENT
DTSTART;TZID=Europe/Helsinki:20230903T110000
DTEND;TZID=Europe/Helsinki:20230903T130000
DTSTAMP:20260423T150943
CREATED:20230811T062657Z
LAST-MODIFIED:20230811T062700Z
UID:13021-1693738800-1693746000@www.fohe.fi
SUMMARY:Ehtoollis- ja kastejuhla
DESCRIPTION:Marko Kantelus\, Arto Hintsanen \n\n\n\nJos olet kiinnostunut kasteesta\, ota rohkeasti yhteyttä: Tommi Hintsanen\, 050-386 9939.
URL:https://www.fohe.fi/tapahtuma/ehtoollis-ja-kastejuhla-2/
END:VEVENT
BEGIN:VEVENT
DTSTART;TZID=Europe/Helsinki:20230901T190000
DTEND;TZID=Europe/Helsinki:20230901T220000
DTSTAMP:20260423T150943
CREATED:20230811T062009Z
LAST-MODIFIED:20230811T062009Z
UID:13015-1693594800-1693605600@www.fohe.fi
SUMMARY:Fohe Youth -nuortenilta
DESCRIPTION:
URL:https://www.fohe.fi/tapahtuma/fohe-youth-nuortenilta-14/
LOCATION:Forssan helluntaiseurakunta\, Nikkilänkatu 2\, Forssa\, 30100\, Suomi
ORGANIZER;CN="Forssan helluntaiseurakunta":MAILTO:seurakunta@fohe.fi
END:VEVENT
BEGIN:VEVENT
DTSTART;TZID=Europe/Helsinki:20230829T190000
DTEND;TZID=Europe/Helsinki:20230829T200000
DTSTAMP:20260423T150943
CREATED:20230811T061957Z
LAST-MODIFIED:20230811T061957Z
UID:13011-1693335600-1693339200@www.fohe.fi
SUMMARY:Rukouksen ja ylistyksen ilta
DESCRIPTION:Pienryhmät
URL:https://www.fohe.fi/tapahtuma/rukouksen-ja-ylistyksen-ilta-2/
LOCATION:Forssan helluntaiseurakunta\, Nikkilänkatu 2\, Forssa\, 30100\, Suomi
CATEGORIES:Tulevat Sanan ja rukouksen illat
ORGANIZER;CN="Forssan helluntaiseurakunta":MAILTO:seurakunta@fohe.fi
END:VEVENT
BEGIN:VEVENT
DTSTART;TZID=Europe/Helsinki:20230828T180000
DTEND;TZID=Europe/Helsinki:20230828T200000
DTSTAMP:20260423T150943
CREATED:20230811T062010Z
LAST-MODIFIED:20230811T062010Z
UID:13017-1693245600-1693252800@www.fohe.fi
SUMMARY:Katukirkko
DESCRIPTION:
URL:https://www.fohe.fi/tapahtuma/katukirkko-6/
LOCATION:Torikirkko\, Hämeentie 15\, Forssa\, 30100\, Suomi
ORGANIZER;CN="Forssan helluntaiseurakunta":MAILTO:seurakunta@fohe.fi
END:VEVENT
BEGIN:VEVENT
DTSTART;TZID=Europe/Helsinki:20230827T110000
DTEND;TZID=Europe/Helsinki:20230827T130000
DTSTAMP:20260423T150943
CREATED:20230811T061957Z
LAST-MODIFIED:20230811T061957Z
UID:13010-1693134000-1693141200@www.fohe.fi
SUMMARY:Lähetysjuhla
DESCRIPTION:Mukana lähettiperheemme Naggarit Israelista
URL:https://www.fohe.fi/tapahtuma/lahetysjuhla-2/
LOCATION:Forssan helluntaiseurakunta\, Nikkilänkatu 2\, Forssa\, 30100\, Suomi
CATEGORIES:Tulevat Jumalanpalvelukset
ORGANIZER;CN="Forssan helluntaiseurakunta":MAILTO:seurakunta@fohe.fi
END:VEVENT
BEGIN:VEVENT
DTSTART;TZID=Europe/Helsinki:20230826T130000
DTEND;TZID=Europe/Helsinki:20230826T170000
DTSTAMP:20260423T150943
CREATED:20230811T062010Z
LAST-MODIFIED:20230811T062010Z
UID:13016-1693054800-1693069200@www.fohe.fi
SUMMARY:Seurakuntapäivä Ruostejärven leirikeskuksessa
DESCRIPTION:Mukavaa toimintaa ja yhdessäoloa koko perheelle
URL:https://www.fohe.fi/tapahtuma/seurakuntapaiva-ruostejarven-leirikeskuksessa/
ORGANIZER;CN="Forssan helluntaiseurakunta":MAILTO:seurakunta@fohe.fi
END:VEVENT
BEGIN:VEVENT
DTSTART;TZID=Europe/Helsinki:20230825T190000
DTEND;TZID=Europe/Helsinki:20230825T220000
DTSTAMP:20260423T150943
CREATED:20230811T061959Z
LAST-MODIFIED:20230811T061959Z
UID:13014-1692990000-1693000800@www.fohe.fi
SUMMARY:Fohe Youth -nuortenilta
DESCRIPTION:
URL:https://www.fohe.fi/tapahtuma/fohe-youth-nuortenilta-13/
LOCATION:Forssan helluntaiseurakunta\, Nikkilänkatu 2\, Forssa\, 30100\, Suomi
ORGANIZER;CN="Forssan helluntaiseurakunta":MAILTO:seurakunta@fohe.fi
END:VEVENT
BEGIN:VEVENT
DTSTART;TZID=Europe/Helsinki:20230822T190000
DTEND;TZID=Europe/Helsinki:20230822T200000
DTSTAMP:20260423T150943
CREATED:20230811T061950Z
LAST-MODIFIED:20230811T061950Z
UID:13009-1692730800-1692734400@www.fohe.fi
SUMMARY:Sanan ja rukouksen ilta
DESCRIPTION:Tapio Sopanen\, Riitta Pelto-Huikko
URL:https://www.fohe.fi/tapahtuma/sanan-ja-rukouksen-ilta-22/
LOCATION:Forssan helluntaiseurakunta\, Nikkilänkatu 2\, Forssa\, 30100\, Suomi
CATEGORIES:Tulevat Sanan ja rukouksen illat
ATTACH;FMTTYPE=image/jpeg:https://www.fohe.fi/wp-content/uploads/2023/02/Sana-ja-rukous-APxRNx.tmp_.jpg
ORGANIZER;CN="Forssan helluntaiseurakunta":MAILTO:seurakunta@fohe.fi
END:VEVENT
BEGIN:VEVENT
DTSTART;TZID=Europe/Helsinki:20230820T110000
DTEND;TZID=Europe/Helsinki:20230820T130000
DTSTAMP:20260423T150943
CREATED:20230811T061949Z
LAST-MODIFIED:20230811T061949Z
UID:13008-1692529200-1692536400@www.fohe.fi
SUMMARY:Jumalanpalvelus
DESCRIPTION:
URL:https://www.fohe.fi/tapahtuma/jumalanpalvelus-10/
LOCATION:Forssan helluntaiseurakunta\, Nikkilänkatu 2\, Forssa\, 30100\, Suomi
CATEGORIES:Tulevat Jumalanpalvelukset
ORGANIZER;CN="Forssan helluntaiseurakunta":MAILTO:seurakunta@fohe.fi
END:VEVENT
BEGIN:VEVENT
DTSTART;TZID=Europe/Helsinki:20230818T190000
DTEND;TZID=Europe/Helsinki:20230818T220000
DTSTAMP:20260423T150943
CREATED:20230811T061959Z
LAST-MODIFIED:20230811T061959Z
UID:13013-1692385200-1692396000@www.fohe.fi
SUMMARY:Fohe Youth -nuortenilta
DESCRIPTION:
URL:https://www.fohe.fi/tapahtuma/fohe-youth-nuortenilta-12/
LOCATION:Forssan helluntaiseurakunta\, Nikkilänkatu 2\, Forssa\, 30100\, Suomi
ORGANIZER;CN="Forssan helluntaiseurakunta":MAILTO:seurakunta@fohe.fi
END:VEVENT
BEGIN:VEVENT
DTSTART;TZID=Europe/Helsinki:20230815T190000
DTEND;TZID=Europe/Helsinki:20230815T200000
DTSTAMP:20260423T150943
CREATED:20230811T061948Z
LAST-MODIFIED:20230811T061948Z
UID:13007-1692126000-1692129600@www.fohe.fi
SUMMARY:Rukouksen ja ylistyksen ilta
DESCRIPTION:Ritva Kannisto\, Anne Katto-Davidsson
URL:https://www.fohe.fi/tapahtuma/rukouksen-ja-ylistyksen-ilta/
LOCATION:Forssan helluntaiseurakunta\, Nikkilänkatu 2\, Forssa\, 30100\, Suomi
CATEGORIES:Tulevat Sanan ja rukouksen illat
ATTACH;FMTTYPE=image/jpeg:https://www.fohe.fi/wp-content/uploads/2023/02/Sana-ja-rukous-APxRNx.tmp_.jpg
ORGANIZER;CN="Forssan helluntaiseurakunta":MAILTO:seurakunta@fohe.fi
END:VEVENT
BEGIN:VEVENT
DTSTART;TZID=Europe/Helsinki:20230813T110000
DTEND;TZID=Europe/Helsinki:20230813T130000
DTSTAMP:20260423T150943
CREATED:20230811T061947Z
LAST-MODIFIED:20230811T061947Z
UID:13006-1691924400-1691931600@www.fohe.fi
SUMMARY:Jumalanpalvelus
DESCRIPTION:Kari Turkki\, Tommi Hintsanen\, Anne Katto-Davidsson
URL:https://www.fohe.fi/tapahtuma/jumalanpalvelus-9/
LOCATION:Forssan helluntaiseurakunta\, Nikkilänkatu 2\, Forssa\, 30100\, Suomi
CATEGORIES:Tulevat Jumalanpalvelukset
ORGANIZER;CN="Forssan helluntaiseurakunta":MAILTO:seurakunta@fohe.fi
END:VEVENT
BEGIN:VEVENT
DTSTART;TZID=Europe/Helsinki:20230811T173000
DTEND;TZID=Europe/Helsinki:20230812T160000
DTSTAMP:20260423T150943
CREATED:20230811T062428Z
LAST-MODIFIED:20230811T062431Z
UID:13019-1691775000-1691856000@www.fohe.fi
SUMMARY:Nuortenleiri
DESCRIPTION:Nuortentoiminnnan syyskausi alkaa mukavasti yhden yön leirillä Pikku-Liesjärven leirikeskuksessa. \n\n\n\nLue lisää tästä linkistä.
URL:https://www.fohe.fi/tapahtuma/nuortenleiri/
END:VEVENT
BEGIN:VEVENT
DTSTART;TZID=Europe/Helsinki:20230808T190000
DTEND;TZID=Europe/Helsinki:20230808T200000
DTSTAMP:20260423T150943
CREATED:20230811T061945Z
LAST-MODIFIED:20230811T061945Z
UID:13005-1691521200-1691524800@www.fohe.fi
SUMMARY:Sanan ja rukouksen ilta
DESCRIPTION:Tommi Hintsanen\, Riitta Salokangas
URL:https://www.fohe.fi/tapahtuma/sanan-ja-rukouksen-ilta-21/
LOCATION:Forssan helluntaiseurakunta\, Nikkilänkatu 2\, Forssa\, 30100\, Suomi
CATEGORIES:Tulevat Sanan ja rukouksen illat
ATTACH;FMTTYPE=image/jpeg:https://www.fohe.fi/wp-content/uploads/2023/02/Sana-ja-rukous-APxRNx.tmp_.jpg
ORGANIZER;CN="Forssan helluntaiseurakunta":MAILTO:seurakunta@fohe.fi
END:VEVENT
BEGIN:VEVENT
DTSTART;TZID=Europe/Helsinki:20230806T110000
DTEND;TZID=Europe/Helsinki:20230806T120000
DTSTAMP:20260423T150943
CREATED:20230702T122549Z
LAST-MODIFIED:20230702T122549Z
UID:12956-1691319600-1691323200@www.fohe.fi
SUMMARY:Ehtoollisjuhla
DESCRIPTION:Tapio Sopanen\, Raimo Huotelin\, naistenryhmä
URL:https://www.fohe.fi/tapahtuma/ehtoollisjuhla-6/
ATTACH;FMTTYPE=image/jpeg:https://www.fohe.fi/wp-content/uploads/2023/02/Ehtoollinen-tDTYAj.tmp_-scaled.jpg
END:VEVENT
BEGIN:VEVENT
DTSTART;TZID=Europe/Helsinki:20230805T120000
DTEND;TZID=Europe/Helsinki:20230805T130000
DTSTAMP:20260423T150943
CREATED:20230702T122550Z
LAST-MODIFIED:20230702T122550Z
UID:12957-1691236800-1691240400@www.fohe.fi
SUMMARY:Hengellisiä lauluja torilla
DESCRIPTION:Naistenryhmä esittää ja lauluttaa rakkaita hengellisiä lauluja
URL:https://www.fohe.fi/tapahtuma/hengellisia-lauluja-torilla/
ATTACH;FMTTYPE=image/jpeg:https://www.fohe.fi/wp-content/uploads/2023/02/Ehtoollinen-tDTYAj.tmp_-scaled.jpg
ORGANIZER;CN="Forssan helluntaiseurakunta":MAILTO:seurakunta@fohe.fi
END:VEVENT
BEGIN:VEVENT
DTSTART;TZID=Europe/Helsinki:20230803T180000
DTEND;TZID=Europe/Helsinki:20230803T200000
DTSTAMP:20260423T150943
CREATED:20230702T122551Z
LAST-MODIFIED:20230702T122551Z
UID:12958-1691085600-1691092800@www.fohe.fi
SUMMARY:Pihaseurat
DESCRIPTION:Hengellisiä lauluja\, puheenvuoroja\, mukavaa yhdessäoloa Leppälän Lyylin pihalla\, Kuusistontie 54\, Jokioinen
URL:https://www.fohe.fi/tapahtuma/pihaseurat-4/
ORGANIZER;CN="Forssan helluntaiseurakunta":MAILTO:seurakunta@fohe.fi
END:VEVENT
BEGIN:VEVENT
DTSTART;TZID=Europe/Helsinki:20230801T190000
DTEND;TZID=Europe/Helsinki:20230801T190000
DTSTAMP:20260423T150943
CREATED:20230702T122549Z
LAST-MODIFIED:20230702T122549Z
UID:12955-1690916400-1690916400@www.fohe.fi
SUMMARY:Sanan ja rukouksen ilta
DESCRIPTION:
URL:https://www.fohe.fi/tapahtuma/sanan-ja-rukouksen-ilta-20/
LOCATION:Forssan helluntaiseurakunta\, Nikkilänkatu 2\, Forssa\, 30100\, Suomi
ORGANIZER;CN="Forssan helluntaiseurakunta":MAILTO:seurakunta@fohe.fi
END:VEVENT
BEGIN:VEVENT
DTSTART;TZID=Europe/Helsinki:20230730T110000
DTEND;TZID=Europe/Helsinki:20230730T130000
DTSTAMP:20260423T150943
CREATED:20230702T122548Z
LAST-MODIFIED:20230702T122548Z
UID:12954-1690714800-1690722000@www.fohe.fi
SUMMARY:Jumalanpalvelus
DESCRIPTION:Carolan solu
URL:https://www.fohe.fi/tapahtuma/jumalanpalvelus-8/
LOCATION:Forssan helluntaiseurakunta\, Nikkilänkatu 2\, Forssa\, 30100\, Suomi
CATEGORIES:Tulevat Jumalanpalvelukset
ATTACH;FMTTYPE=image/jpeg:https://www.fohe.fi/wp-content/uploads/2023/02/Ehtoollinen-tDTYAj.tmp_-scaled.jpg
ORGANIZER;CN="Forssan helluntaiseurakunta":MAILTO:seurakunta@fohe.fi
END:VEVENT
BEGIN:VEVENT
DTSTART;TZID=Europe/Helsinki:20230725T190000
DTEND;TZID=Europe/Helsinki:20230725T200000
DTSTAMP:20260423T150943
CREATED:20230702T122535Z
LAST-MODIFIED:20230702T122535Z
UID:12953-1690311600-1690315200@www.fohe.fi
SUMMARY:Sanan ja rukouksen ilta
DESCRIPTION:Asta Jaakkola
URL:https://www.fohe.fi/tapahtuma/sanan-ja-rukouksen-ilta-19/
LOCATION:Forssan helluntaiseurakunta\, Nikkilänkatu 2\, Forssa\, 30100\, Suomi
CATEGORIES:Tulevat Sanan ja rukouksen illat
ORGANIZER;CN="Forssan helluntaiseurakunta":MAILTO:seurakunta@fohe.fi
END:VEVENT
END:VCALENDAR