BEGIN:VCALENDAR
VERSION:2.0
PRODID:-//Forssan Helluntaiseurakunta - ECPv6.15.20//NONSGML v1.0//EN
CALSCALE:GREGORIAN
METHOD:PUBLISH
X-ORIGINAL-URL:https://www.fohe.fi
X-WR-CALDESC:Tapahtumat Forssan Helluntaiseurakunta
REFRESH-INTERVAL;VALUE=DURATION:PT1H
X-Robots-Tag:noindex
X-PUBLISHED-TTL:PT1H
BEGIN:VTIMEZONE
TZID:Europe/Helsinki
BEGIN:DAYLIGHT
TZOFFSETFROM:+0200
TZOFFSETTO:+0300
TZNAME:EEST
DTSTART:20220327T010000
END:DAYLIGHT
BEGIN:STANDARD
TZOFFSETFROM:+0300
TZOFFSETTO:+0200
TZNAME:EET
DTSTART:20221030T010000
END:STANDARD
BEGIN:DAYLIGHT
TZOFFSETFROM:+0200
TZOFFSETTO:+0300
TZNAME:EEST
DTSTART:20230326T010000
END:DAYLIGHT
BEGIN:STANDARD
TZOFFSETFROM:+0300
TZOFFSETTO:+0200
TZNAME:EET
DTSTART:20231029T010000
END:STANDARD
BEGIN:DAYLIGHT
TZOFFSETFROM:+0200
TZOFFSETTO:+0300
TZNAME:EEST
DTSTART:20240331T010000
END:DAYLIGHT
BEGIN:STANDARD
TZOFFSETFROM:+0300
TZOFFSETTO:+0200
TZNAME:EET
DTSTART:20241027T010000
END:STANDARD
END:VTIMEZONE
BEGIN:VEVENT
DTSTART;TZID=Europe/Helsinki:20230723T110000
DTEND;TZID=Europe/Helsinki:20230723T130000
DTSTAMP:20260423T195831
CREATED:20230702T122535Z
LAST-MODIFIED:20230702T122535Z
UID:12952-1690110000-1690117200@www.fohe.fi
SUMMARY:Jumalanpalvelus
DESCRIPTION:Ukkoklubi
URL:https://www.fohe.fi/tapahtuma/jumalanpalvelus-7/
LOCATION:Forssan helluntaiseurakunta\, Nikkilänkatu 2\, Forssa\, 30100\, Suomi
CATEGORIES:Tulevat Jumalanpalvelukset
ORGANIZER;CN="Forssan helluntaiseurakunta":MAILTO:seurakunta@fohe.fi
END:VEVENT
BEGIN:VEVENT
DTSTART;TZID=Europe/Helsinki:20230718T190000
DTEND;TZID=Europe/Helsinki:20230718T200000
DTSTAMP:20260423T195831
CREATED:20230702T122534Z
LAST-MODIFIED:20230702T122534Z
UID:12951-1689706800-1689710400@www.fohe.fi
SUMMARY:Sanan ja rukouksen ilta
DESCRIPTION:Mirja Karvinen
URL:https://www.fohe.fi/tapahtuma/sanan-ja-rukouksen-ilta-18/
LOCATION:Forssan helluntaiseurakunta\, Nikkilänkatu 2\, Forssa\, 30100\, Suomi
CATEGORIES:Tulevat Sanan ja rukouksen illat
ATTACH;FMTTYPE=image/jpeg:https://www.fohe.fi/wp-content/uploads/2023/02/Sana-ja-rukous-APxRNx.tmp_.jpg
ORGANIZER;CN="Forssan helluntaiseurakunta":MAILTO:seurakunta@fohe.fi
END:VEVENT
BEGIN:VEVENT
DTSTART;TZID=Europe/Helsinki:20230716T110000
DTEND;TZID=Europe/Helsinki:20230716T130000
DTSTAMP:20260423T195831
CREATED:20230702T122534Z
LAST-MODIFIED:20230702T122534Z
UID:12950-1689505200-1689512400@www.fohe.fi
SUMMARY:Jumalanpalvelus
DESCRIPTION:Anniinan ja Johanna solu
URL:https://www.fohe.fi/tapahtuma/jumalanpalvelus-6/
LOCATION:Forssan helluntaiseurakunta\, Nikkilänkatu 2\, Forssa\, 30100\, Suomi
CATEGORIES:Tulevat Jumalanpalvelukset
ORGANIZER;CN="Forssan helluntaiseurakunta":MAILTO:seurakunta@fohe.fi
END:VEVENT
BEGIN:VEVENT
DTSTART;TZID=Europe/Helsinki:20230711T190000
DTEND;TZID=Europe/Helsinki:20230711T200000
DTSTAMP:20260423T195831
CREATED:20230702T122533Z
LAST-MODIFIED:20230702T122533Z
UID:12949-1689102000-1689105600@www.fohe.fi
SUMMARY:Sanan ja rukouksen ilta
DESCRIPTION:Markku Rajala\, Marita Rasila
URL:https://www.fohe.fi/tapahtuma/sanan-ja-rukouksen-ilta-17/
LOCATION:Forssan helluntaiseurakunta\, Nikkilänkatu 2\, Forssa\, 30100\, Suomi
CATEGORIES:Tulevat Sanan ja rukouksen illat
ATTACH;FMTTYPE=image/jpeg:https://www.fohe.fi/wp-content/uploads/2023/02/Sana-ja-rukous-APxRNx.tmp_.jpg
ORGANIZER;CN="Forssan helluntaiseurakunta":MAILTO:seurakunta@fohe.fi
END:VEVENT
BEGIN:VEVENT
DTSTART;TZID=Europe/Helsinki:20230709T160000
DTEND;TZID=Europe/Helsinki:20230709T180000
DTSTAMP:20260423T195831
CREATED:20230702T122530Z
LAST-MODIFIED:20230702T122530Z
UID:12948-1688918400-1688925600@www.fohe.fi
SUMMARY:Tulevaisuus ja toivo -torijumalanpalvelus
DESCRIPTION:Jeesus antaa tulevaisuuden ja toivon. Todistuksia\, lauluesityksiä\, rukouspalvelu.
URL:https://www.fohe.fi/tapahtuma/tulevaisuus-ja-toivo-torijumalanpalvelus/
CATEGORIES:Tulevat Jumalanpalvelukset
END:VEVENT
BEGIN:VEVENT
DTSTART;TZID=Europe/Helsinki:20230707T120000
DTEND;TZID=Europe/Helsinki:20230707T150000
DTSTAMP:20260423T195831
CREATED:20230702T122529Z
LAST-MODIFIED:20230702T122529Z
UID:12947-1688731200-1688742000@www.fohe.fi
SUMMARY:Seurakuntapäivä
DESCRIPTION:Kaikki tervetuloa! Huomioithan muuttuneen aikataulun. Ohjelmassa saunomista\, yhdessä oloa\, grillausta. Omat eväät mukaan! Yhteis- lähtö Saalemilta klo 11.30 tai oma kuljetus.
URL:https://www.fohe.fi/tapahtuma/seurakuntapaiva/
ORGANIZER;CN="Forssan helluntaiseurakunta":MAILTO:seurakunta@fohe.fi
END:VEVENT
BEGIN:VEVENT
DTSTART;TZID=Europe/Helsinki:20230704T190000
DTEND;TZID=Europe/Helsinki:20230704T200000
DTSTAMP:20260423T195831
CREATED:20230702T122528Z
LAST-MODIFIED:20230702T122528Z
UID:12946-1688497200-1688500800@www.fohe.fi
SUMMARY:Sanan ja rukouksen ilta
DESCRIPTION:Kari Turkki\, Anne Katto-Davidsson
URL:https://www.fohe.fi/tapahtuma/sanan-ja-rukouksen-ilta-16/
LOCATION:Forssan helluntaiseurakunta\, Nikkilänkatu 2\, Forssa\, 30100\, Suomi
CATEGORIES:Tulevat Sanan ja rukouksen illat
ATTACH;FMTTYPE=image/jpeg:https://www.fohe.fi/wp-content/uploads/2023/02/Sana-ja-rukous-APxRNx.tmp_.jpg
ORGANIZER;CN="Forssan helluntaiseurakunta":MAILTO:seurakunta@fohe.fi
END:VEVENT
BEGIN:VEVENT
DTSTART;TZID=Europe/Helsinki:20230703T000000
DTEND;TZID=Europe/Helsinki:20230706T235959
DTSTAMP:20260423T195831
CREATED:20230702T122526Z
LAST-MODIFIED:20230702T122526Z
UID:12945-1688342400-1688687999@www.fohe.fi
SUMMARY:Kids’ Action Camp -leiri
DESCRIPTION:
URL:https://www.fohe.fi/tapahtuma/kids-action-camp-leiri-2/
ATTACH;FMTTYPE=image/jpeg:https://www.fohe.fi/wp-content/uploads/2023/02/Sana-ja-rukous-APxRNx.tmp_.jpg
ORGANIZER;CN="Forssan helluntaiseurakunta":MAILTO:seurakunta@fohe.fi
END:VEVENT
BEGIN:VEVENT
DTSTART;TZID=Europe/Helsinki:20230702T110000
DTEND;TZID=Europe/Helsinki:20230702T110000
DTSTAMP:20260423T195831
CREATED:20230702T122525Z
LAST-MODIFIED:20230702T122525Z
UID:12944-1688295600-1688295600@www.fohe.fi
SUMMARY:Ehtoollisjuhla
DESCRIPTION:Ritva ja Tapio Sopanen\, Suvi Hintsanen
URL:https://www.fohe.fi/tapahtuma/ehtoollisjuhla-5/
LOCATION:Forssan helluntaiseurakunta\, Nikkilänkatu 2\, Forssa\, 30100\, Suomi
CATEGORIES:Tulevat Jumalanpalvelukset
ORGANIZER;CN="Forssan helluntaiseurakunta":MAILTO:seurakunta@fohe.fi
END:VEVENT
BEGIN:VEVENT
DTSTART;TZID=Europe/Helsinki:20230701T150000
DTEND;TZID=Europe/Helsinki:20230701T160000
DTSTAMP:20260423T195831
CREATED:20230606T075437Z
LAST-MODIFIED:20230606T075925Z
UID:12928-1688223600-1688227200@www.fohe.fi
SUMMARY:Sävelten sanoma
DESCRIPTION:Hengellisiä yhteistauluja idyllisessä Ronttismäen museossa
URL:https://www.fohe.fi/tapahtuma/savelten-sanoma-2/
LOCATION:Ronttismäen tehtaalaismuseo\, II linja 5-7\, Forssa\, 30100\, Suomi
ORGANIZER;CN="Forssan helluntaiseurakunta":MAILTO:seurakunta@fohe.fi
END:VEVENT
BEGIN:VEVENT
DTSTART;TZID=Europe/Helsinki:20230701T110000
DTEND;TZID=Europe/Helsinki:20230701T120000
DTSTAMP:20260423T195831
CREATED:20230606T075437Z
LAST-MODIFIED:20230606T080211Z
UID:12927-1688209200-1688212800@www.fohe.fi
SUMMARY:Hengellisiä yhteislauluja
DESCRIPTION:Hengellisiä toivelauluja
URL:https://www.fohe.fi/tapahtuma/hengellisia-yhteislauluja/
LOCATION:Forssan tori\, Vilppaankatu 1\, Forssa\, 30100
ORGANIZER;CN="Forssan helluntaiseurakunta":MAILTO:seurakunta@fohe.fi
END:VEVENT
BEGIN:VEVENT
DTSTART;TZID=Europe/Helsinki:20230629T180000
DTEND;TZID=Europe/Helsinki:20230629T200000
DTSTAMP:20260423T195831
CREATED:20230606T075436Z
LAST-MODIFIED:20230606T075719Z
UID:12926-1688061600-1688068800@www.fohe.fi
SUMMARY:Pihaseurat
DESCRIPTION:Yhteislaulua\, puheenvuoroja
URL:https://www.fohe.fi/tapahtuma/pihaseurat-3/
LOCATION:Virrat\, XI linja 19\, Forssa\, 30100
ORGANIZER;CN="Forssan helluntaiseurakunta":MAILTO:seurakunta@fohe.fi
END:VEVENT
BEGIN:VEVENT
DTSTART;TZID=Europe/Helsinki:20230627T190000
DTEND;TZID=Europe/Helsinki:20230627T200000
DTSTAMP:20260423T195831
CREATED:20230606T075422Z
LAST-MODIFIED:20230606T075422Z
UID:12924-1687892400-1687896000@www.fohe.fi
SUMMARY:Sanan ja rukouksen ilta
DESCRIPTION:Tommi Hintsanen\, Mirja Karvinen
URL:https://www.fohe.fi/tapahtuma/sanan-ja-rukouksen-ilta-15/
LOCATION:Forssan helluntaiseurakunta\, Nikkilänkatu 2\, Forssa\, 30100\, Suomi
CATEGORIES:Tulevat Sanan ja rukouksen illat
ORGANIZER;CN="Forssan helluntaiseurakunta":MAILTO:seurakunta@fohe.fi
END:VEVENT
BEGIN:VEVENT
DTSTART;TZID=Europe/Helsinki:20230622T000000
DTEND;TZID=Europe/Helsinki:20230625T235959
DTSTAMP:20260423T195831
CREATED:20230606T075422Z
LAST-MODIFIED:20230606T075422Z
UID:12923-1687392000-1687737599@www.fohe.fi
SUMMARY:Juhannuskonferenssi
DESCRIPTION:Lue tarkempi ohjelma www.juhannuskonferenssi.fi Su 25.6. ei omaa tilaisuutta.
URL:https://www.fohe.fi/tapahtuma/juhannuskonferenssi-3/
END:VEVENT
BEGIN:VEVENT
DTSTART;TZID=Europe/Helsinki:20230620T190000
DTEND;TZID=Europe/Helsinki:20230620T200000
DTSTAMP:20260423T195831
CREATED:20230606T075409Z
LAST-MODIFIED:20230606T075409Z
UID:12921-1687287600-1687291200@www.fohe.fi
SUMMARY:Sanan ja rukouksen ilta
DESCRIPTION:Carola Flytström\, Anne Katto-Davidsson
URL:https://www.fohe.fi/tapahtuma/sanan-ja-rukouksen-ilta-14/
LOCATION:Forssan helluntaiseurakunta\, Nikkilänkatu 2\, Forssa\, 30100\, Suomi
CATEGORIES:Tulevat Sanan ja rukouksen illat
ORGANIZER;CN="Forssan helluntaiseurakunta":MAILTO:seurakunta@fohe.fi
END:VEVENT
BEGIN:VEVENT
DTSTART;TZID=Europe/Helsinki:20230618T110000
DTEND;TZID=Europe/Helsinki:20230618T130000
DTSTAMP:20260423T195831
CREATED:20230606T075408Z
LAST-MODIFIED:20230606T075408Z
UID:12920-1687086000-1687093200@www.fohe.fi
SUMMARY:Jumalanpalvelus
DESCRIPTION:Tommi Hintsanen\, Ilkka Ponto\, Suvi Hintsanen
URL:https://www.fohe.fi/tapahtuma/jumalanpalvelus-5/
LOCATION:Forssan helluntaiseurakunta\, Nikkilänkatu 2\, Forssa\, 30100\, Suomi
CATEGORIES:Tulevat Jumalanpalvelukset
ORGANIZER;CN="Forssan helluntaiseurakunta":MAILTO:seurakunta@fohe.fi
END:VEVENT
BEGIN:VEVENT
DTSTART;TZID=Europe/Helsinki:20230613T190000
DTEND;TZID=Europe/Helsinki:20230613T200000
DTSTAMP:20260423T195831
CREATED:20230606T075407Z
LAST-MODIFIED:20230606T075407Z
UID:12919-1686682800-1686686400@www.fohe.fi
SUMMARY:Sanan ja rukouksen ilta
DESCRIPTION:Tommi Hintsanen\, Marita Rasila
URL:https://www.fohe.fi/tapahtuma/sanan-ja-rukouksen-ilta-13/
LOCATION:Forssan helluntaiseurakunta\, Nikkilänkatu 2\, Forssa\, 30100\, Suomi
CATEGORIES:Tulevat Sanan ja rukouksen illat
ATTACH;FMTTYPE=image/jpeg:https://www.fohe.fi/wp-content/uploads/2023/02/Sana-ja-rukous-APxRNx.tmp_.jpg
ORGANIZER;CN="Forssan helluntaiseurakunta":MAILTO:seurakunta@fohe.fi
END:VEVENT
BEGIN:VEVENT
DTSTART;TZID=Europe/Helsinki:20230612T180000
DTEND;TZID=Europe/Helsinki:20230612T200000
DTSTAMP:20260423T195831
CREATED:20230606T075403Z
LAST-MODIFIED:20230606T075403Z
UID:12918-1686592800-1686600000@www.fohe.fi
SUMMARY:Katukirkko
DESCRIPTION:ruokapussien jako
URL:https://www.fohe.fi/tapahtuma/katukirkko-5/
LOCATION:Torikirkko\, Hämeentie 15\, Forssa\, 30100\, Suomi
ORGANIZER;CN="Forssan helluntaiseurakunta":MAILTO:seurakunta@fohe.fi
END:VEVENT
BEGIN:VEVENT
DTSTART;TZID=Europe/Helsinki:20230611T110000
DTEND;TZID=Europe/Helsinki:20230611T130000
DTSTAMP:20260423T195831
CREATED:20230606T075402Z
LAST-MODIFIED:20230606T075402Z
UID:12917-1686481200-1686488400@www.fohe.fi
SUMMARY:”Eväät elämään” -jumalanpalvelus
DESCRIPTION:Fidan keräystä esittelemässä ja sanaa jakamassa Ilkka Salminen\, Tapio Sopanen\, Anne Katto-Davidsson ja Reijo Riuttanen
URL:https://www.fohe.fi/tapahtuma/evaat-elamaan-jumalanpalvelus/
LOCATION:Forssan helluntaiseurakunta\, Nikkilänkatu 2\, Forssa\, 30100\, Suomi
CATEGORIES:Tulevat Jumalanpalvelukset
ORGANIZER;CN="Forssan helluntaiseurakunta":MAILTO:seurakunta@fohe.fi
END:VEVENT
BEGIN:VEVENT
DTSTART;TZID=Europe/Helsinki:20230607T170000
DTEND;TZID=Europe/Helsinki:20230607T180000
DTSTAMP:20260423T195831
CREATED:20230606T075409Z
LAST-MODIFIED:20230606T075409Z
UID:12922-1686157200-1686160800@www.fohe.fi
SUMMARY:Ruokajako vähävaraisille
DESCRIPTION:ruokapussien jako ja kahvitus
URL:https://www.fohe.fi/tapahtuma/ruokajako-vahavaraisille/
LOCATION:Forssan helluntaiseurakunta\, Nikkilänkatu 2\, Forssa\, 30100\, Suomi
ORGANIZER;CN="Forssan helluntaiseurakunta":MAILTO:seurakunta@fohe.fi
END:VEVENT
BEGIN:VEVENT
DTSTART;TZID=Europe/Helsinki:20230606T190000
DTEND;TZID=Europe/Helsinki:20230606T200000
DTSTAMP:20260423T195831
CREATED:20230606T075401Z
LAST-MODIFIED:20230606T075401Z
UID:12916-1686078000-1686081600@www.fohe.fi
SUMMARY:Sanan ja rukouksen ilta
DESCRIPTION:Kari Turkki\,
URL:https://www.fohe.fi/tapahtuma/sanan-ja-rukouksen-ilta-12/
LOCATION:Forssan helluntaiseurakunta\, Nikkilänkatu 2\, Forssa\, 30100\, Suomi
CATEGORIES:Tulevat Sanan ja rukouksen illat
ORGANIZER;CN="Forssan helluntaiseurakunta":MAILTO:seurakunta@fohe.fi
END:VEVENT
BEGIN:VEVENT
DTSTART;TZID=Europe/Helsinki:20230604T110000
DTEND;TZID=Europe/Helsinki:20230604T130000
DTSTAMP:20260423T195831
CREATED:20230505T081804Z
LAST-MODIFIED:20230505T081804Z
UID:12865-1685876400-1685883600@www.fohe.fi
SUMMARY:Ehtoollisjuhla
DESCRIPTION:Pentti Riekkinen\,Tommi Hintsanen\,pio Sopanen\, naisten ryhmä
URL:https://www.fohe.fi/tapahtuma/ehtoollisjuhla-3/
LOCATION:Forssan helluntaiseurakunta\, Nikkilänkatu 2\, Forssa\, 30100\, Suomi
CATEGORIES:Tulevat Jumalanpalvelukset
ATTACH;FMTTYPE=image/jpeg:https://www.fohe.fi/wp-content/uploads/2023/02/Ehtoollinen-tDTYAj.tmp_-scaled.jpg
ORGANIZER;CN="Forssan helluntaiseurakunta":MAILTO:seurakunta@fohe.fi
END:VEVENT
BEGIN:VEVENT
DTSTART;TZID=Europe/Helsinki:20230530T190000
DTEND;TZID=Europe/Helsinki:20230530T200000
DTSTAMP:20260423T195831
CREATED:20230505T081804Z
LAST-MODIFIED:20230505T084811Z
UID:12864-1685473200-1685476800@www.fohe.fi
SUMMARY:Sanan ja rukouksen ilta
DESCRIPTION:Erja-Riitta Viljanen\, Mirja Karvinen
URL:https://www.fohe.fi/tapahtuma/lahetysilta-6/
LOCATION:Forssan helluntaiseurakunta\, Nikkilänkatu 2\, Forssa\, 30100\, Suomi
CATEGORIES:Tulevat Sanan ja rukouksen illat
ORGANIZER;CN="Forssan helluntaiseurakunta":MAILTO:seurakunta@fohe.fi
END:VEVENT
BEGIN:VEVENT
DTSTART;TZID=Europe/Helsinki:20230528T160000
DTEND;TZID=Europe/Helsinki:20230528T180000
DTSTAMP:20260423T195831
CREATED:20230505T081804Z
LAST-MODIFIED:20230505T081804Z
UID:12863-1685289600-1685296800@www.fohe.fi
SUMMARY:Mistä voima elämään?
DESCRIPTION:Illan aikana saadaan kuulla ja tehdä löytöjä. Ilta alkaa pienellä tarjoilulla ja jatkuu musiikilla ja puheenvuoroilla. Illan päätteeksi mahdollisuus rukouspalveluun.
URL:https://www.fohe.fi/tapahtuma/mista-voima-elamaan/
LOCATION:Forssan helluntaiseurakunta\, Nikkilänkatu 2\, Forssa\, 30100\, Suomi
CATEGORIES:Tulevat Jumalanpalvelukset
ORGANIZER;CN="Forssan helluntaiseurakunta":MAILTO:seurakunta@fohe.fi
END:VEVENT
BEGIN:VEVENT
DTSTART;TZID=Europe/Helsinki:20230528T140000
DTEND;TZID=Europe/Helsinki:20230528T160000
DTSTAMP:20260423T195831
CREATED:20230505T081804Z
LAST-MODIFIED:20230505T081804Z
UID:12862-1685282400-1685289600@www.fohe.fi
SUMMARY:Helluntain todellisuus
DESCRIPTION:Alustuksia ja keskustelua Pyhän Hengen täyteydestä ja armolahjoista. Tule rakentumaan ja rakentamaan.
URL:https://www.fohe.fi/tapahtuma/helluntain-todellisuus/
LOCATION:Forssan helluntaiseurakunta\, Nikkilänkatu 2\, Forssa\, 30100\, Suomi
ORGANIZER;CN="Forssan helluntaiseurakunta":MAILTO:seurakunta@fohe.fi
END:VEVENT
BEGIN:VEVENT
DTSTART;TZID=Europe/Helsinki:20230526T190000
DTEND;TZID=Europe/Helsinki:20230526T220000
DTSTAMP:20260423T195831
CREATED:20230505T081749Z
LAST-MODIFIED:20230505T081749Z
UID:12861-1685127600-1685138400@www.fohe.fi
SUMMARY:Fohe Youth -nuortenilta
DESCRIPTION:Käy katsomassa tuoreet päivitykset: https://www.instagram.com/foheyouth/
URL:https://www.fohe.fi/tapahtuma/fohe-youth-nuortenilta-11/
LOCATION:Forssan helluntaiseurakunta\, Nikkilänkatu 2\, Forssa\, 30100\, Suomi
ORGANIZER;CN="Forssan helluntaiseurakunta":MAILTO:seurakunta@fohe.fi
END:VEVENT
BEGIN:VEVENT
DTSTART;TZID=Europe/Helsinki:20230524T180000
DTEND;TZID=Europe/Helsinki:20230524T200000
DTSTAMP:20260423T195831
CREATED:20230505T081749Z
LAST-MODIFIED:20230505T081749Z
UID:12860-1684951200-1684958400@www.fohe.fi
SUMMARY:Yhteiskristillinen rukousilta
DESCRIPTION:Rukoillaan yhdessä Forssan alueen puolesta
URL:https://www.fohe.fi/tapahtuma/yhteiskristillinen-rukousilta-7/
LOCATION:Torikirkko\, Hämeentie 15\, Forssa\, 30100\, Suomi
END:VEVENT
BEGIN:VEVENT
DTSTART;TZID=Europe/Helsinki:20230523T190000
DTEND;TZID=Europe/Helsinki:20230523T200000
DTSTAMP:20260423T195831
CREATED:20230505T081649Z
LAST-MODIFIED:20230505T084759Z
UID:12859-1684868400-1684872000@www.fohe.fi
SUMMARY:Lähetysilta
DESCRIPTION:Mukana Matti Niemelä Etiopiasta etäyhteydellä\, Tommi Hintsanen\, Anne Katto-Davidsson
URL:https://www.fohe.fi/tapahtuma/sanan-ja-rukouksen-ilta-11/
LOCATION:Forssan helluntaiseurakunta\, Nikkilänkatu 2\, Forssa\, 30100\, Suomi
CATEGORIES:Tulevat Sanan ja rukouksen illat
ORGANIZER;CN="Forssan helluntaiseurakunta":MAILTO:seurakunta@fohe.fi
END:VEVENT
BEGIN:VEVENT
DTSTART;TZID=Europe/Helsinki:20230521T150000
DTEND;TZID=Europe/Helsinki:20230521T170000
DTSTAMP:20260423T195831
CREATED:20230505T081649Z
LAST-MODIFIED:20230505T081649Z
UID:12858-1684681200-1684688400@www.fohe.fi
SUMMARY:International service
DESCRIPTION:Worship\, Bible study\, fellowship
URL:https://www.fohe.fi/tapahtuma/international-service-27/
LOCATION:Forssan helluntaiseurakunta\, Nikkilänkatu 2\, Forssa\, 30100\, Suomi
CATEGORIES:Tulevat Jumalanpalvelukset
ORGANIZER;CN="Forssan helluntaiseurakunta":MAILTO:seurakunta@fohe.fi
END:VEVENT
BEGIN:VEVENT
DTSTART;TZID=Europe/Helsinki:20230521T110000
DTEND;TZID=Europe/Helsinki:20230521T130000
DTSTAMP:20260423T195831
CREATED:20230505T081649Z
LAST-MODIFIED:20230517T201452Z
UID:12857-1684666800-1684674000@www.fohe.fi
SUMMARY:Kastejuhla
DESCRIPTION:Carola Flytström\, Markku Rajala\, Anne Katto-Davidsson
URL:https://www.fohe.fi/tapahtuma/jumalanpalvelus-4/
LOCATION:Forssan helluntaiseurakunta\, Nikkilänkatu 2\, Forssa\, 30100\, Suomi
CATEGORIES:Tulevat Jumalanpalvelukset
ORGANIZER;CN="Forssan helluntaiseurakunta":MAILTO:seurakunta@fohe.fi
END:VEVENT
END:VCALENDAR