BEGIN:VCALENDAR
VERSION:2.0
PRODID:-//Forssan Helluntaiseurakunta - ECPv6.15.20//NONSGML v1.0//EN
CALSCALE:GREGORIAN
METHOD:PUBLISH
X-WR-CALNAME:Forssan Helluntaiseurakunta
X-ORIGINAL-URL:https://www.fohe.fi
X-WR-CALDESC:Tapahtumat Forssan Helluntaiseurakunta
REFRESH-INTERVAL;VALUE=DURATION:PT1H
X-Robots-Tag:noindex
X-PUBLISHED-TTL:PT1H
BEGIN:VTIMEZONE
TZID:Europe/Helsinki
BEGIN:DAYLIGHT
TZOFFSETFROM:+0200
TZOFFSETTO:+0300
TZNAME:EEST
DTSTART:20220327T010000
END:DAYLIGHT
BEGIN:STANDARD
TZOFFSETFROM:+0300
TZOFFSETTO:+0200
TZNAME:EET
DTSTART:20221030T010000
END:STANDARD
BEGIN:DAYLIGHT
TZOFFSETFROM:+0200
TZOFFSETTO:+0300
TZNAME:EEST
DTSTART:20230326T010000
END:DAYLIGHT
BEGIN:STANDARD
TZOFFSETFROM:+0300
TZOFFSETTO:+0200
TZNAME:EET
DTSTART:20231029T010000
END:STANDARD
BEGIN:DAYLIGHT
TZOFFSETFROM:+0200
TZOFFSETTO:+0300
TZNAME:EEST
DTSTART:20240331T010000
END:DAYLIGHT
BEGIN:STANDARD
TZOFFSETFROM:+0300
TZOFFSETTO:+0200
TZNAME:EET
DTSTART:20241027T010000
END:STANDARD
END:VTIMEZONE
BEGIN:VEVENT
DTSTART;TZID=Europe/Helsinki:20230404T190000
DTEND;TZID=Europe/Helsinki:20230404T200000
DTSTAMP:20260424T062556
CREATED:20230331T195009Z
LAST-MODIFIED:20230331T195009Z
UID:12382-1680634800-1680638400@www.fohe.fi
SUMMARY:Sanan ja rukouksen ilta
DESCRIPTION:Tommi Hintsanen\, Mirja Karvinen
URL:https://www.fohe.fi/tapahtuma/sanan-ja-rukouksen-ilta-5/
LOCATION:Forssan helluntaiseurakunta\, Nikkilänkatu 2\, Forssa\, 30100\, Suomi
ORGANIZER;CN="Forssan helluntaiseurakunta":MAILTO:seurakunta@fohe.fi
END:VEVENT
BEGIN:VEVENT
DTSTART;TZID=Europe/Helsinki:20230402T110000
DTEND;TZID=Europe/Helsinki:20230402T130000
DTSTAMP:20260424T062556
CREATED:20230301T123832Z
LAST-MODIFIED:20230606T075359Z
UID:12321-1680433200-1680440400@www.fohe.fi
SUMMARY:Ehtoollisjuhla
DESCRIPTION:Marko Kantelus\, Tommi Hintsanen\, Gideonit\, Suvi Hintsanen
URL:https://www.fohe.fi/tapahtuma/ehtoollisjuhla/
LOCATION:Forssan helluntaiseurakunta\, Nikkilänkatu 2\, Forssa\, 30100\, Suomi
CATEGORIES:Tulevat Jumalanpalvelukset
ATTACH;FMTTYPE=image/jpeg:https://www.fohe.fi/wp-content/uploads/2023/02/Ehtoollinen-tDTYAj.tmp_-scaled.jpg
ORGANIZER;CN="Forssan helluntaiseurakunta":MAILTO:seurakunta@fohe.fi
END:VEVENT
BEGIN:VEVENT
DTSTART;TZID=Europe/Helsinki:20230401T140000
DTEND;TZID=Europe/Helsinki:20230401T163000
DTSTAMP:20260424T062556
CREATED:20230301T123832Z
LAST-MODIFIED:20230301T123832Z
UID:12320-1680357600-1680366600@www.fohe.fi
SUMMARY:Kids’ Action -tapahtuma
DESCRIPTION:Monipuolinen tapahtuma koko perheelle
URL:https://www.fohe.fi/tapahtuma/kids-action-tapahtuma/
LOCATION:Talsoilan koulu\, Talsoilankatu 34\, Forssa\, 30100
END:VEVENT
BEGIN:VEVENT
DTSTART;TZID=Europe/Helsinki:20230331T190000
DTEND;TZID=Europe/Helsinki:20230331T220000
DTSTAMP:20260424T062556
CREATED:20230301T123832Z
LAST-MODIFIED:20230301T123832Z
UID:12319-1680289200-1680300000@www.fohe.fi
SUMMARY:Fohe Youth -nuortenilta
DESCRIPTION:Käy katsomassa tuoreet päivitykset: https://www.instagram.com/foheyouth/
URL:https://www.fohe.fi/tapahtuma/fohe-youth-nuortenilta-5/
LOCATION:Forssan helluntaiseurakunta\, Nikkilänkatu 2\, Forssa\, 30100\, Suomi
ORGANIZER;CN="Forssan helluntaiseurakunta":MAILTO:seurakunta@fohe.fi
END:VEVENT
BEGIN:VEVENT
DTSTART;TZID=Europe/Helsinki:20230330T140000
DTEND;TZID=Europe/Helsinki:20230330T160000
DTSTAMP:20260424T062556
CREATED:20230301T123850Z
LAST-MODIFIED:20230301T123850Z
UID:12326-1680184800-1680192000@www.fohe.fi
SUMMARY:Kohtaamispaikka
DESCRIPTION:Kahvia\, keskustelua ja kohtaamista. Tervetuloa mukaan!
URL:https://www.fohe.fi/tapahtuma/kohtaamispaikka-5/
LOCATION:Forssan helluntaiseurakunta\, Nikkilänkatu 2\, Forssa\, 30100\, Suomi
ORGANIZER;CN="Forssan helluntaiseurakunta":MAILTO:seurakunta@fohe.fi
END:VEVENT
BEGIN:VEVENT
DTSTART;TZID=Europe/Helsinki:20230328T180000
DTEND;TZID=Europe/Helsinki:20230328T200000
DTSTAMP:20260424T062556
CREATED:20230301T123832Z
LAST-MODIFIED:20230301T123832Z
UID:12318-1680026400-1680033600@www.fohe.fi
SUMMARY:Sanan ja rukouksen ilta
DESCRIPTION:Carola Flytström\, Anne Katto-Davidsson
URL:https://www.fohe.fi/tapahtuma/sanan-ja-rukouksen-ilta-4/
LOCATION:Forssan helluntaiseurakunta\, Nikkilänkatu 2\, Forssa\, 30100\, Suomi
CATEGORIES:Tulevat Sanan ja rukouksen illat
ORGANIZER;CN="Forssan helluntaiseurakunta":MAILTO:seurakunta@fohe.fi
END:VEVENT
BEGIN:VEVENT
DTSTART;TZID=Europe/Helsinki:20230326T160000
DTEND;TZID=Europe/Helsinki:20230326T180000
DTSTAMP:20260424T062556
CREATED:20230301T123822Z
LAST-MODIFIED:20230301T123822Z
UID:12317-1679846400-1679853600@www.fohe.fi
SUMMARY:Voiko kohtaloa muuttaa?
DESCRIPTION:Illan aikana saadaan kuulla ja tehdä löytöjä. Ilta alkaa pienellä tarjoilulla ja jatkuu musiikilla ja puheenvuoroilla. Illan päätteeksi mahdollisuus rukouspalveluun. Puhujavieraana Kari Ketoja.
URL:https://www.fohe.fi/tapahtuma/voiko-kohtaloa-muuttaa/
LOCATION:Forssan helluntaiseurakunta\, Nikkilänkatu 2\, Forssa\, 30100\, Suomi
CATEGORIES:Tulevat Jumalanpalvelukset
ORGANIZER;CN="Forssan helluntaiseurakunta":MAILTO:seurakunta@fohe.fi
END:VEVENT
BEGIN:VEVENT
DTSTART;TZID=Europe/Helsinki:20230324T190000
DTEND;TZID=Europe/Helsinki:20230324T220000
DTSTAMP:20260424T062556
CREATED:20230301T123821Z
LAST-MODIFIED:20230301T123821Z
UID:12316-1679684400-1679695200@www.fohe.fi
SUMMARY:Fohe Youth -nuortenilta
DESCRIPTION:Käy katsomassa tuoreet päivitykset: https://www.instagram.com/foheyouth/
URL:https://www.fohe.fi/tapahtuma/fohe-youth-nuortenilta-4/
LOCATION:Forssan helluntaiseurakunta\, Nikkilänkatu 2\, Forssa\, 30100\, Suomi
ORGANIZER;CN="Forssan helluntaiseurakunta":MAILTO:seurakunta@fohe.fi
END:VEVENT
BEGIN:VEVENT
DTSTART;TZID=Europe/Helsinki:20230323T180000
DTEND;TZID=Europe/Helsinki:20230323T200000
DTSTAMP:20260424T062556
CREATED:20230301T123820Z
LAST-MODIFIED:20230318T165150Z
UID:12315-1679594400-1679601600@www.fohe.fi
SUMMARY:Yhteiskristillinen rukousilta
DESCRIPTION:Rukoillaan yhdessä Forssan alueen puolesta
URL:https://www.fohe.fi/tapahtuma/yhteiskristillinen-rukousilta-5/
CATEGORIES:Tulevat Sanan ja rukouksen illat
ATTACH;FMTTYPE=image/jpeg:https://www.fohe.fi/wp-content/uploads/2023/02/Sana-ja-rukous-APxRNx.tmp_.jpg
END:VEVENT
BEGIN:VEVENT
DTSTART;TZID=Europe/Helsinki:20230323T140000
DTEND;TZID=Europe/Helsinki:20230323T160000
DTSTAMP:20260424T062556
CREATED:20230301T123850Z
LAST-MODIFIED:20230301T123850Z
UID:12325-1679580000-1679587200@www.fohe.fi
SUMMARY:Kohtaamispaikka
DESCRIPTION:Kahvia\, keskustelua ja kohtaamista. Tervetuloa mukaan!
URL:https://www.fohe.fi/tapahtuma/kohtaamispaikka-4/
LOCATION:Forssan helluntaiseurakunta\, Nikkilänkatu 2\, Forssa\, 30100\, Suomi
ORGANIZER;CN="Forssan helluntaiseurakunta":MAILTO:seurakunta@fohe.fi
END:VEVENT
BEGIN:VEVENT
DTSTART;TZID=Europe/Helsinki:20230321T180000
DTEND;TZID=Europe/Helsinki:20230321T200000
DTSTAMP:20260424T062556
CREATED:20230301T123818Z
LAST-MODIFIED:20230301T123818Z
UID:12314-1679421600-1679428800@www.fohe.fi
SUMMARY:Sanan ja rukouksen ilta
DESCRIPTION:Tapio Sopanen\, Mirja Karvinen
URL:https://www.fohe.fi/tapahtuma/sanan-ja-rukouksen-ilta-3/
LOCATION:Forssan helluntaiseurakunta\, Nikkilänkatu 2\, Forssa\, 30100\, Suomi
CATEGORIES:Tulevat Sanan ja rukouksen illat
ATTACH;FMTTYPE=image/jpeg:https://www.fohe.fi/wp-content/uploads/2023/02/Sana-ja-rukous-APxRNx.tmp_.jpg
ORGANIZER;CN="Forssan helluntaiseurakunta":MAILTO:seurakunta@fohe.fi
END:VEVENT
BEGIN:VEVENT
DTSTART;TZID=Europe/Helsinki:20230319T150000
DTEND;TZID=Europe/Helsinki:20230319T170000
DTSTAMP:20260424T062556
CREATED:20230301T123818Z
LAST-MODIFIED:20230301T123818Z
UID:12313-1679238000-1679245200@www.fohe.fi
SUMMARY:International service
DESCRIPTION:Worship\, Bible study\, fellowship
URL:https://www.fohe.fi/tapahtuma/international-service-7/
LOCATION:Forssan helluntaiseurakunta\, Nikkilänkatu 2\, Forssa\, 30100\, Suomi
CATEGORIES:Tulevat Jumalanpalvelukset
ORGANIZER;CN="Forssan helluntaiseurakunta":MAILTO:seurakunta@fohe.fi
END:VEVENT
BEGIN:VEVENT
DTSTART;TZID=Europe/Helsinki:20230319T110000
DTEND;TZID=Europe/Helsinki:20230319T130000
DTSTAMP:20260424T062556
CREATED:20230301T123747Z
LAST-MODIFIED:20230301T123749Z
UID:12307-1679223600-1679230800@www.fohe.fi
SUMMARY:Jumalanpalvelus ”Taivas” osa 2/2
DESCRIPTION:Tommi Hintsanen\, Raimo Huotelin
URL:https://www.fohe.fi/tapahtuma/jumalanpalvelus-taivas-osa-2-2/
LOCATION:Forssan helluntaiseurakunta\, Nikkilänkatu 2\, Forssa\, 30100\, Suomi
CATEGORIES:Tulevat Jumalanpalvelukset
ORGANIZER;CN="Forssan helluntaiseurakunta":MAILTO:seurakunta@fohe.fi
END:VEVENT
BEGIN:VEVENT
DTSTART;TZID=Europe/Helsinki:20230318T190000
DTEND;TZID=Europe/Helsinki:20230318T220000
DTSTAMP:20260424T062556
CREATED:20230301T123747Z
LAST-MODIFIED:20230301T123749Z
UID:12306-1679166000-1679176800@www.fohe.fi
SUMMARY:Story Night
DESCRIPTION:Nuortentapahtuma Kuutamolla. Elokuva ja pientä tarjoilua.
URL:https://www.fohe.fi/tapahtuma/story-night-6/
ORGANIZER;CN="Forssan helluntaiseurakunta":MAILTO:seurakunta@fohe.fi
END:VEVENT
BEGIN:VEVENT
DTSTART;TZID=Europe/Helsinki:20230316T140000
DTEND;TZID=Europe/Helsinki:20230316T160000
DTSTAMP:20260424T062556
CREATED:20230301T123850Z
LAST-MODIFIED:20230301T123850Z
UID:12324-1678975200-1678982400@www.fohe.fi
SUMMARY:Kohtaamispaikka
DESCRIPTION:Kahvia\, keskustelua ja kohtaamista. Tervetuloa mukaan!
URL:https://www.fohe.fi/tapahtuma/kohtaamispaikka-3/
LOCATION:Forssan helluntaiseurakunta\, Nikkilänkatu 2\, Forssa\, 30100\, Suomi
ORGANIZER;CN="Forssan helluntaiseurakunta":MAILTO:seurakunta@fohe.fi
END:VEVENT
BEGIN:VEVENT
DTSTART;TZID=Europe/Helsinki:20230314T180000
DTEND;TZID=Europe/Helsinki:20230314T200000
DTSTAMP:20260424T062556
CREATED:20230301T123745Z
LAST-MODIFIED:20230301T123748Z
UID:12305-1678816800-1678824000@www.fohe.fi
SUMMARY:Sanan ja rukouksen ilta
DESCRIPTION:Erja-Riitta Viljanen\, Marita Rasila
URL:https://www.fohe.fi/tapahtuma/sanan-ja-rukouksen-ilta-2/
LOCATION:Forssan helluntaiseurakunta\, Nikkilänkatu 2\, Forssa\, 30100\, Suomi
CATEGORIES:Tulevat Sanan ja rukouksen illat
ATTACH;FMTTYPE=image/jpeg:https://www.fohe.fi/wp-content/uploads/2023/02/Sana-ja-rukous-APxRNx.tmp_.jpg
ORGANIZER;CN="Forssan helluntaiseurakunta":MAILTO:seurakunta@fohe.fi
END:VEVENT
BEGIN:VEVENT
DTSTART;TZID=Europe/Helsinki:20230313T180000
DTEND;TZID=Europe/Helsinki:20230313T200000
DTSTAMP:20260424T062556
CREATED:20230301T123745Z
LAST-MODIFIED:20230301T123748Z
UID:12304-1678730400-1678737600@www.fohe.fi
SUMMARY:Katukirkko
DESCRIPTION:
URL:https://www.fohe.fi/tapahtuma/katukirkko-2/
LOCATION:Torikirkko\, Hämeentie 15\, Forssa\, 30100\, Suomi
ORGANIZER;CN="Forssan helluntaiseurakunta":MAILTO:seurakunta@fohe.fi
END:VEVENT
BEGIN:VEVENT
DTSTART;TZID=Europe/Helsinki:20230312T110000
DTEND;TZID=Europe/Helsinki:20230312T130000
DTSTAMP:20260424T062556
CREATED:20230301T123747Z
LAST-MODIFIED:20230301T123747Z
UID:12308-1678618800-1678626000@www.fohe.fi
SUMMARY:Jumalanpalvelus ”Taivas” osa ½
DESCRIPTION:Pentti Riekkinen\, Raimo Huotelin\, Heidi Riekkinen
URL:https://www.fohe.fi/tapahtuma/jumalanpalvelus-taivas-osa-%c2%bd-2/
LOCATION:Forssan helluntaiseurakunta\, Nikkilänkatu 2\, Forssa\, 30100\, Suomi
CATEGORIES:Tulevat Jumalanpalvelukset
ORGANIZER;CN="Forssan helluntaiseurakunta":MAILTO:seurakunta@fohe.fi
END:VEVENT
BEGIN:VEVENT
DTSTART;TZID=Europe/Helsinki:20230311T170000
DTEND;TZID=Europe/Helsinki:20230311T200000
DTSTAMP:20260424T062556
CREATED:20230301T123734Z
LAST-MODIFIED:20230301T123734Z
UID:12302-1678554000-1678564800@www.fohe.fi
SUMMARY:”Mies & Elämä & Usko” -miestenilta
DESCRIPTION:Puhumassa Mika Poutala\, väliajalla pieni tarjoilu
URL:https://www.fohe.fi/tapahtuma/mies-elama-usko-miestenilta/
LOCATION:Forssan helluntaiseurakunta\, Nikkilänkatu 2\, Forssa\, 30100\, Suomi
ORGANIZER;CN="Forssan helluntaiseurakunta":MAILTO:seurakunta@fohe.fi
END:VEVENT
BEGIN:VEVENT
DTSTART;TZID=Europe/Helsinki:20230310T190000
DTEND;TZID=Europe/Helsinki:20230310T220000
DTSTAMP:20260424T062556
CREATED:20230301T123734Z
LAST-MODIFIED:20230301T123734Z
UID:12301-1678474800-1678485600@www.fohe.fi
SUMMARY:Nuorten Lock-in -leiri
DESCRIPTION:Käy katsomassa tuoreet päivitykset: https://www.instagram.com/foheyouth/
URL:https://www.fohe.fi/tapahtuma/nuorten-lock-in-leiri/
LOCATION:Forssan helluntaiseurakunta\, Nikkilänkatu 2\, Forssa\, 30100\, Suomi
ORGANIZER;CN="Forssan helluntaiseurakunta":MAILTO:seurakunta@fohe.fi
END:VEVENT
BEGIN:VEVENT
DTSTART;TZID=Europe/Helsinki:20230310T190000
DTEND;TZID=Europe/Helsinki:20230310T220000
DTSTAMP:20260424T062556
CREATED:20230301T123733Z
LAST-MODIFIED:20230301T123733Z
UID:12300-1678474800-1678485600@www.fohe.fi
SUMMARY:Fohe Youth -nuortenilta
DESCRIPTION:Käy katsomassa tuoreet päivitykset: https://www.instagram.com/foheyouth/
URL:https://www.fohe.fi/tapahtuma/fohe-youth-nuortenilta-3/
LOCATION:Forssan helluntaiseurakunta\, Nikkilänkatu 2\, Forssa\, 30100\, Suomi
ORGANIZER;CN="Forssan helluntaiseurakunta":MAILTO:seurakunta@fohe.fi
END:VEVENT
BEGIN:VEVENT
DTSTART;TZID=Europe/Helsinki:20230309T140000
DTEND;TZID=Europe/Helsinki:20230309T160000
DTSTAMP:20260424T062556
CREATED:20230301T123850Z
LAST-MODIFIED:20230301T123850Z
UID:12323-1678370400-1678377600@www.fohe.fi
SUMMARY:Kohtaamispaikka
DESCRIPTION:Kahvia\, keskustelua ja kohtaamista. Tervetuloa mukaan!
URL:https://www.fohe.fi/tapahtuma/kohtaamispaikka-2/
LOCATION:Forssan helluntaiseurakunta\, Nikkilänkatu 2\, Forssa\, 30100\, Suomi
ORGANIZER;CN="Forssan helluntaiseurakunta":MAILTO:seurakunta@fohe.fi
END:VEVENT
BEGIN:VEVENT
DTSTART;TZID=Europe/Helsinki:20230309T083000
DTEND;TZID=Europe/Helsinki:20230309T100000
DTSTAMP:20260424T062556
CREATED:20230301T123733Z
LAST-MODIFIED:20230301T123733Z
UID:12299-1678350600-1678356000@www.fohe.fi
SUMMARY:Aamurukous
DESCRIPTION:Pientä aamupalaa\, yhteistä jakamista Raamatun Sanasta ja rukousta
URL:https://www.fohe.fi/tapahtuma/aamurukous/
LOCATION:Forssan helluntaiseurakunta\, Nikkilänkatu 2\, Forssa\, 30100\, Suomi
ORGANIZER;CN="Forssan helluntaiseurakunta":MAILTO:seurakunta@fohe.fi
END:VEVENT
BEGIN:VEVENT
DTSTART;TZID=Europe/Helsinki:20230307T180000
DTEND;TZID=Europe/Helsinki:20230307T190000
DTSTAMP:20260424T062556
CREATED:20230301T123733Z
LAST-MODIFIED:20230301T124223Z
UID:12298-1678212000-1678215600@www.fohe.fi
SUMMARY:Lähetysrukouskokous
DESCRIPTION:Lähetysrukousilta\, mukana etänä Marko Selkomaa Avainmediasta\, Tommi Hintsanen\, Riitta Pelto-Huikko
URL:https://www.fohe.fi/tapahtuma/lahetysrukouskokous/
LOCATION:Forssan helluntaiseurakunta\, Nikkilänkatu 2\, Forssa\, 30100\, Suomi
ORGANIZER;CN="Forssan helluntaiseurakunta":MAILTO:seurakunta@fohe.fi
END:VEVENT
BEGIN:VEVENT
DTSTART;TZID=Europe/Helsinki:20230305T110000
DTEND;TZID=Europe/Helsinki:20230305T130000
DTSTAMP:20260424T062556
CREATED:20230203T082511Z
LAST-MODIFIED:20230226T111231Z
UID:12253-1678014000-1678021200@www.fohe.fi
SUMMARY:Ehtoollisjuhla
DESCRIPTION:Tommi Hintsanen\, Voitto Mäkinen\, naisten ryhmä\, pyhäkoulu
URL:https://www.fohe.fi/tapahtuma/ehtoollisjuhla-taivas-osa-%c2%bd/
LOCATION:Forssan helluntaiseurakunta\, Nikkilänkatu 2\, Forssa\, 30100\, Suomi
CATEGORIES:Tulevat Jumalanpalvelukset
ATTACH;FMTTYPE=image/jpeg:https://www.fohe.fi/wp-content/uploads/2023/02/Ehtoollinen-tDTYAj.tmp_-scaled.jpg
ORGANIZER;CN="Forssan helluntaiseurakunta":MAILTO:seurakunta@fohe.fi
END:VEVENT
BEGIN:VEVENT
DTSTART;TZID=Europe/Helsinki:20230302T140000
DTEND;TZID=Europe/Helsinki:20230302T160000
DTSTAMP:20260424T062556
CREATED:20230228T073629Z
LAST-MODIFIED:20230301T123834Z
UID:12292-1677765600-1677772800@www.fohe.fi
SUMMARY:Kohtaamispaikka
DESCRIPTION:Kahvia\, keskustelua ja kohtaamista. Tervetuloa mukaan!
URL:https://www.fohe.fi/tapahtuma/kohtaamispaikka/
LOCATION:Forssan helluntaiseurakunta\, Nikkilänkatu 2\, Forssa\, 30100\, Suomi
ORGANIZER;CN="Forssan helluntaiseurakunta":MAILTO:seurakunta@fohe.fi
END:VEVENT
BEGIN:VEVENT
DTSTART;TZID=Europe/Helsinki:20230301T170000
DTEND;TZID=Europe/Helsinki:20230301T180000
DTSTAMP:20260424T062556
CREATED:20230203T082458Z
LAST-MODIFIED:20230203T082458Z
UID:12252-1677690000-1677693600@www.fohe.fi
SUMMARY:Ruoka-avun jakoa
DESCRIPTION:Ruoka-apua vähävaraisille\, kahvitus
URL:https://www.fohe.fi/tapahtuma/ruoka-avun-jakoa-3/
LOCATION:Forssan helluntaiseurakunta\, Nikkilänkatu 2\, Forssa\, 30100\, Suomi
ORGANIZER;CN="Forssan helluntaiseurakunta":MAILTO:seurakunta@fohe.fi
END:VEVENT
BEGIN:VEVENT
DTSTART;TZID=Europe/Helsinki:20230228T180000
DTEND;TZID=Europe/Helsinki:20230228T200000
DTSTAMP:20260424T062556
CREATED:20230203T082457Z
LAST-MODIFIED:20230203T082457Z
UID:12251-1677607200-1677614400@www.fohe.fi
SUMMARY:Sanan ja rukouksen ilta
DESCRIPTION:Markku Rajala\, Suvi Hintsanen
URL:https://www.fohe.fi/tapahtuma/sanan-ja-rukouksen-ilta/
LOCATION:Forssan helluntaiseurakunta\, Nikkilänkatu 2\, Forssa\, 30100\, Suomi
CATEGORIES:Tulevat Sanan ja rukouksen illat
ORGANIZER;CN="Forssan helluntaiseurakunta":MAILTO:seurakunta@fohe.fi
END:VEVENT
BEGIN:VEVENT
DTSTART;TZID=Europe/Helsinki:20230226T160000
DTEND;TZID=Europe/Helsinki:20230226T180000
DTSTAMP:20260424T062556
CREATED:20230203T082457Z
LAST-MODIFIED:20230203T082457Z
UID:12250-1677427200-1677434400@www.fohe.fi
SUMMARY:Mitä rakkaus on?
DESCRIPTION:Illan aikana saadaan kuulla ja tehdä löytöjä. Ilta alkaa pienellä tarjoilulla ja jatkuu musiikilla ja puheenvuoroilla. Illan päätteeksi mahdollisuus rukouspalveluun. Puhujavieraana Kari Ketoja.
URL:https://www.fohe.fi/tapahtuma/mita-rakkaus-on/
LOCATION:Forssan helluntaiseurakunta\, Nikkilänkatu 2\, Forssa\, 30100\, Suomi
CATEGORIES:Tulevat Jumalanpalvelukset
ORGANIZER;CN="Forssan helluntaiseurakunta":MAILTO:seurakunta@fohe.fi
END:VEVENT
BEGIN:VEVENT
DTSTART;TZID=Europe/Helsinki:20230224T190000
DTEND;TZID=Europe/Helsinki:20230224T220000
DTSTAMP:20260424T062556
CREATED:20230203T082457Z
LAST-MODIFIED:20230203T082457Z
UID:12249-1677265200-1677276000@www.fohe.fi
SUMMARY:Fohe Youth -nuortenilta
DESCRIPTION:Käy katsomassa tuoreet päivitykset: https://www.instagram.com/foheyouth/
URL:https://www.fohe.fi/tapahtuma/fohe-youth-nuortenilta-2/
LOCATION:Forssan helluntaiseurakunta\, Nikkilänkatu 2\, Forssa\, 30100\, Suomi
ORGANIZER;CN="Forssan helluntaiseurakunta":MAILTO:seurakunta@fohe.fi
END:VEVENT
END:VCALENDAR