BEGIN:VCALENDAR
VERSION:2.0
PRODID:-//Forssan Helluntaiseurakunta - ECPv6.15.20//NONSGML v1.0//EN
CALSCALE:GREGORIAN
METHOD:PUBLISH
X-ORIGINAL-URL:https://www.fohe.fi
X-WR-CALDESC:Tapahtumat Forssan Helluntaiseurakunta
REFRESH-INTERVAL;VALUE=DURATION:PT1H
X-Robots-Tag:noindex
X-PUBLISHED-TTL:PT1H
BEGIN:VTIMEZONE
TZID:Europe/Helsinki
BEGIN:DAYLIGHT
TZOFFSETFROM:+0200
TZOFFSETTO:+0300
TZNAME:EEST
DTSTART:20220327T010000
END:DAYLIGHT
BEGIN:STANDARD
TZOFFSETFROM:+0300
TZOFFSETTO:+0200
TZNAME:EET
DTSTART:20221030T010000
END:STANDARD
BEGIN:DAYLIGHT
TZOFFSETFROM:+0200
TZOFFSETTO:+0300
TZNAME:EEST
DTSTART:20230326T010000
END:DAYLIGHT
BEGIN:STANDARD
TZOFFSETFROM:+0300
TZOFFSETTO:+0200
TZNAME:EET
DTSTART:20231029T010000
END:STANDARD
BEGIN:DAYLIGHT
TZOFFSETFROM:+0200
TZOFFSETTO:+0300
TZNAME:EEST
DTSTART:20240331T010000
END:DAYLIGHT
BEGIN:STANDARD
TZOFFSETFROM:+0300
TZOFFSETTO:+0200
TZNAME:EET
DTSTART:20241027T010000
END:STANDARD
END:VTIMEZONE
BEGIN:VEVENT
DTSTART;TZID=Europe/Helsinki:20230221T180000
DTEND;TZID=Europe/Helsinki:20230221T200000
DTSTAMP:20260424T102638
CREATED:20230203T082456Z
LAST-MODIFIED:20230203T082456Z
UID:12248-1677002400-1677009600@www.fohe.fi
SUMMARY:Yhteiskristillinen rukousilta
DESCRIPTION:
URL:https://www.fohe.fi/tapahtuma/yhteiskristillinen-rukousilta/
LOCATION:Forssan helluntaiseurakunta\, Nikkilänkatu 2\, Forssa\, 30100\, Suomi
CATEGORIES:Tulevat Sanan ja rukouksen illat
ATTACH;FMTTYPE=image/jpeg:https://www.fohe.fi/wp-content/uploads/2023/02/Sana-ja-rukous-APxRNx.tmp_.jpg
ORGANIZER;CN="Forssan helluntaiseurakunta":MAILTO:seurakunta@fohe.fi
END:VEVENT
BEGIN:VEVENT
DTSTART;TZID=Europe/Helsinki:20230219T110000
DTEND;TZID=Europe/Helsinki:20230219T130000
DTSTAMP:20260424T102638
CREATED:20230203T082443Z
LAST-MODIFIED:20230203T082443Z
UID:12246-1676804400-1676811600@www.fohe.fi
SUMMARY:International service
DESCRIPTION:Worship\, Bible study\, fellowship
URL:https://www.fohe.fi/tapahtuma/international-service/
LOCATION:Forssan helluntaiseurakunta\, Nikkilänkatu 2\, Forssa\, 30100\, Suomi
CATEGORIES:Tulevat Jumalanpalvelukset
ORGANIZER;CN="Forssan helluntaiseurakunta":MAILTO:seurakunta@fohe.fi
END:VEVENT
BEGIN:VEVENT
DTSTART;TZID=Europe/Helsinki:20230219T110000
DTEND;TZID=Europe/Helsinki:20230219T130000
DTSTAMP:20260424T102638
CREATED:20230203T082442Z
LAST-MODIFIED:20230203T082442Z
UID:12245-1676804400-1676811600@www.fohe.fi
SUMMARY:Jumalanpalvelus
DESCRIPTION:Ritva ja Tapio Sopanen\, Mirja Karvinen
URL:https://www.fohe.fi/tapahtuma/jumalanpalvelus/
LOCATION:Forssan helluntaiseurakunta\, Nikkilänkatu 2\, Forssa\, 30100\, Suomi
CATEGORIES:Tulevat Jumalanpalvelukset
ORGANIZER;CN="Forssan helluntaiseurakunta":MAILTO:seurakunta@fohe.fi
END:VEVENT
BEGIN:VEVENT
DTSTART;TZID=Europe/Helsinki:20230218T190000
DTEND;TZID=Europe/Helsinki:20230218T220000
DTSTAMP:20260424T102638
CREATED:20230203T082442Z
LAST-MODIFIED:20230203T082442Z
UID:12244-1676746800-1676757600@www.fohe.fi
SUMMARY:Story Night
DESCRIPTION:Nuortentapahtuma Kuutamolla. Elokuva ja pientä tarjoilua.
URL:https://www.fohe.fi/tapahtuma/story-night-5/
ORGANIZER;CN="Forssan helluntaiseurakunta":MAILTO:seurakunta@fohe.fi
END:VEVENT
BEGIN:VEVENT
DTSTART;TZID=Europe/Helsinki:20230215T180000
DTEND;TZID=Europe/Helsinki:20230215T200000
DTSTAMP:20260424T102638
CREATED:20221227T093936Z
LAST-MODIFIED:20221227T093936Z
UID:11240-1676484000-1676491200@www.fohe.fi
SUMMARY:Uskon perusteet
DESCRIPTION:Uskon perusteet on 4-osainen\, vuorovaikutteinen kurssi uskon perusasioista. Ilta alkaa pienellä tarjoilulla ja jatkuu alustuksella illan aiheesta. Aikaa on runsaasti keskustelulle ja rukoukselle.\nTämän kerran aiheena on seurakunta – hengellinen koti.
URL:https://www.fohe.fi/tapahtuma/uskon-perusteet-5/
LOCATION:Forssan helluntaiseurakunta\, Nikkilänkatu 2\, Forssa\, 30100\, Suomi
ORGANIZER;CN="Forssan helluntaiseurakunta":MAILTO:seurakunta@fohe.fi
END:VEVENT
BEGIN:VEVENT
DTSTART;TZID=Europe/Helsinki:20230214T180000
DTEND;TZID=Europe/Helsinki:20230214T200000
DTSTAMP:20260424T102638
CREATED:20230203T082441Z
LAST-MODIFIED:20230203T082441Z
UID:12243-1676397600-1676404800@www.fohe.fi
SUMMARY:Lähetysrukousilta
DESCRIPTION:Mukana etänä Janne Harjukoski Balkanilta\, Tommi Hintsanen\, Marita Rasila
URL:https://www.fohe.fi/tapahtuma/lahetysrukousilta-3/
LOCATION:Forssan helluntaiseurakunta\, Nikkilänkatu 2\, Forssa\, 30100\, Suomi
CATEGORIES:Tulevat Sanan ja rukouksen illat
ATTACH;FMTTYPE=image/jpeg:https://www.fohe.fi/wp-content/uploads/2023/02/Sana-ja-rukous-APxRNx.tmp_.jpg
ORGANIZER;CN="Forssan helluntaiseurakunta":MAILTO:seurakunta@fohe.fi
END:VEVENT
BEGIN:VEVENT
DTSTART;TZID=Europe/Helsinki:20230213T180000
DTEND;TZID=Europe/Helsinki:20230213T200000
DTSTAMP:20260424T102638
CREATED:20230203T082440Z
LAST-MODIFIED:20230203T082440Z
UID:12242-1676311200-1676318400@www.fohe.fi
SUMMARY:Katukirkko
DESCRIPTION:
URL:https://www.fohe.fi/tapahtuma/katukirkko/
LOCATION:Torikirkko\, Hämeentie 15\, Forssa\, 30100\, Suomi
ORGANIZER;CN="Forssan helluntaiseurakunta":MAILTO:seurakunta@fohe.fi
END:VEVENT
BEGIN:VEVENT
DTSTART;TZID=Europe/Helsinki:20230212T170000
DTEND;TZID=Europe/Helsinki:20230212T200000
DTSTAMP:20260424T102638
CREATED:20230203T082439Z
LAST-MODIFIED:20230203T082439Z
UID:12241-1676221200-1676232000@www.fohe.fi
SUMMARY:Entisten nuorten ystävänpäivätreffit
DESCRIPTION:Tommi Hintsanen\, Jyrki Palmi Fidasta\, Riitta Pelto-Huikko\, pyhäkoulu
URL:https://www.fohe.fi/tapahtuma/entisten-nuorten-ystavanpaivatreffit/
LOCATION:Forssan helluntaiseurakunta\, Nikkilänkatu 2\, Forssa\, 30100\, Suomi
ORGANIZER;CN="Forssan helluntaiseurakunta":MAILTO:seurakunta@fohe.fi
END:VEVENT
BEGIN:VEVENT
DTSTART;TZID=Europe/Helsinki:20230212T150000
DTEND;TZID=Europe/Helsinki:20230212T170000
DTSTAMP:20260424T102638
CREATED:20230203T082438Z
LAST-MODIFIED:20230203T082438Z
UID:12240-1676214000-1676221200@www.fohe.fi
SUMMARY:”Ajankohtainen Israel”
DESCRIPTION:Ajankohtaisista asioista Israelissa puhuu Pekka Sartola. Ennen tilaisuutta on kahvitus
URL:https://www.fohe.fi/tapahtuma/ajankohtainen-israel/
LOCATION:Forssan helluntaiseurakunta\, Nikkilänkatu 2\, Forssa\, 30100\, Suomi
END:VEVENT
BEGIN:VEVENT
DTSTART;TZID=Europe/Helsinki:20230212T110000
DTEND;TZID=Europe/Helsinki:20230212T130000
DTSTAMP:20260424T102638
CREATED:20230203T082438Z
LAST-MODIFIED:20230203T082438Z
UID:12239-1676199600-1676206800@www.fohe.fi
SUMMARY:”Sinut on kutsuttu” -lähetystilaisuus
DESCRIPTION:Tommi Hintsanen\, Jyrki Palmi Fidasta\, Riitta Pelto-Huikko\, pyhäkoulu
URL:https://www.fohe.fi/tapahtuma/sinut-on-kutsuttu-lahetystilaisuus/
LOCATION:Forssan helluntaiseurakunta\, Nikkilänkatu 2\, Forssa\, 30100\, Suomi
CATEGORIES:Tulevat Jumalanpalvelukset
ORGANIZER;CN="Forssan helluntaiseurakunta":MAILTO:seurakunta@fohe.fi
END:VEVENT
BEGIN:VEVENT
DTSTART;TZID=Europe/Helsinki:20230210T190000
DTEND;TZID=Europe/Helsinki:20230210T220000
DTSTAMP:20260424T102638
CREATED:20230203T082438Z
LAST-MODIFIED:20230203T082438Z
UID:12238-1676055600-1676066400@www.fohe.fi
SUMMARY:Fohe Youth -nuortenilta
DESCRIPTION:Käy katsomassa tuoreet päivitykset: https://www.instagram.com/foheyouth/
URL:https://www.fohe.fi/tapahtuma/fohe-youth-nuortenilta/
LOCATION:Forssan helluntaiseurakunta\, Nikkilänkatu 2\, Forssa\, 30100\, Suomi
ORGANIZER;CN="Forssan helluntaiseurakunta":MAILTO:seurakunta@fohe.fi
END:VEVENT
BEGIN:VEVENT
DTSTART;TZID=Europe/Helsinki:20230209T083000
DTEND;TZID=Europe/Helsinki:20230209T100000
DTSTAMP:20260424T102638
CREATED:20230203T082712Z
LAST-MODIFIED:20230203T082712Z
UID:12255-1675931400-1675936800@www.fohe.fi
SUMMARY:Yhteiskristillinen aamurukous
DESCRIPTION:Pientä tarjoilua\, yhteistä rukousta.
URL:https://www.fohe.fi/tapahtuma/yhteiskristillinen-aamurukous/
LOCATION:One Way seurakunta\, Hämeentie 5\, Forssa\, 30100\, Suomi
END:VEVENT
BEGIN:VEVENT
DTSTART;TZID=Europe/Helsinki:20230208T180000
DTEND;TZID=Europe/Helsinki:20230208T200000
DTSTAMP:20260424T102638
CREATED:20221227T093936Z
LAST-MODIFIED:20221227T093936Z
UID:11239-1675879200-1675886400@www.fohe.fi
SUMMARY:Uskon perusteet
DESCRIPTION:Uskon perusteet on 4-osainen\, vuorovaikutteinen kurssi uskon perusasioista. Ilta alkaa pienellä tarjoilulla ja jatkuu alustuksella illan aiheesta. Aikaa on runsaasti keskustelulle ja rukoukselle.\nTämän kerran aiheena on Pyhä Henki – puolustaja kanssamme.
URL:https://www.fohe.fi/tapahtuma/uskon-perusteet-4/
LOCATION:Forssan helluntaiseurakunta\, Nikkilänkatu 2\, Forssa\, 30100\, Suomi
ORGANIZER;CN="Forssan helluntaiseurakunta":MAILTO:seurakunta@fohe.fi
END:VEVENT
BEGIN:VEVENT
DTSTART;TZID=Europe/Helsinki:20230207T180000
DTEND;TZID=Europe/Helsinki:20230207T190000
DTSTAMP:20260424T102638
CREATED:20230203T082438Z
LAST-MODIFIED:20230203T082438Z
UID:12237-1675792800-1675796400@www.fohe.fi
SUMMARY:Rukouskokous
DESCRIPTION:Kari Turkki\, Mirja Karvinen
URL:https://www.fohe.fi/tapahtuma/rukouskokous/
LOCATION:Forssan helluntaiseurakunta\, Nikkilänkatu 2\, Forssa\, 30100\, Suomi
ORGANIZER;CN="Forssan helluntaiseurakunta":MAILTO:seurakunta@fohe.fi
END:VEVENT
BEGIN:VEVENT
DTSTART;TZID=Europe/Helsinki:20230205T110000
DTEND;TZID=Europe/Helsinki:20230205T130000
DTSTAMP:20260424T102638
CREATED:20221227T093935Z
LAST-MODIFIED:20221227T093935Z
UID:11238-1675594800-1675602000@www.fohe.fi
SUMMARY:Ehtoollisjuhla
DESCRIPTION:Raimo Huotelin\, Tommi Hintsanen\, naisten ryhmä
URL:https://www.fohe.fi/tapahtuma/ehtoollisjuhla-63/
LOCATION:Forssan helluntaiseurakunta\, Nikkilänkatu 2\, Forssa\, 30100\, Suomi
CATEGORIES:Tulevat Jumalanpalvelukset
ATTACH;FMTTYPE=image/jpeg:https://www.fohe.fi/wp-content/uploads/2015/01/Ehtoollinen-scaled.jpg
ORGANIZER;CN="Forssan helluntaiseurakunta":MAILTO:seurakunta@fohe.fi
END:VEVENT
BEGIN:VEVENT
DTSTART;TZID=Europe/Helsinki:20230203T190000
DTEND;TZID=Europe/Helsinki:20230203T220000
DTSTAMP:20260424T102638
CREATED:20221227T093935Z
LAST-MODIFIED:20221227T093935Z
UID:11237-1675450800-1675461600@www.fohe.fi
SUMMARY:Fohe Youth -nuortenilta
DESCRIPTION:Käy katsomassa tuoreet päivitykset: https://www.instagram.com/foheyouth/
URL:https://www.fohe.fi/tapahtuma/fohe-youth-nuortenilta-157/
LOCATION:Forssan helluntaiseurakunta\, Nikkilänkatu 2\, Forssa\, 30100\, Suomi
ORGANIZER;CN="Forssan helluntaiseurakunta":MAILTO:seurakunta@fohe.fi
END:VEVENT
BEGIN:VEVENT
DTSTART;TZID=Europe/Helsinki:20230201T180000
DTEND;TZID=Europe/Helsinki:20230201T200000
DTSTAMP:20260424T102638
CREATED:20221227T093934Z
LAST-MODIFIED:20221227T093934Z
UID:11236-1675274400-1675281600@www.fohe.fi
SUMMARY:Uskon perusteet
DESCRIPTION:Uskon perusteet on 4-osainen\, vuorovaikutteinen kurssi uskon perusasioista. Ilta alkaa pienellä tarjoilulla ja jatkuu alustuksella illan aiheesta. Aikaa on runsaasti keskustelulle ja rukoukselle.\nTämän kerran aiheena on Raamattu & rukous – kasvun eväät.
URL:https://www.fohe.fi/tapahtuma/uskon-perusteet-3/
LOCATION:Forssan helluntaiseurakunta\, Nikkilänkatu 2\, Forssa\, 30100\, Suomi
ORGANIZER;CN="Forssan helluntaiseurakunta":MAILTO:seurakunta@fohe.fi
END:VEVENT
BEGIN:VEVENT
DTSTART;TZID=Europe/Helsinki:20230201T170000
DTEND;TZID=Europe/Helsinki:20230201T180000
DTSTAMP:20260424T102638
CREATED:20221227T093920Z
LAST-MODIFIED:20221227T093920Z
UID:11235-1675270800-1675274400@www.fohe.fi
SUMMARY:Ruoka-avun jakoa
DESCRIPTION:Ruoka-apua vähävaraisille\, kahvitus
URL:https://www.fohe.fi/tapahtuma/ruoka-avun-jakoa-2/
LOCATION:Forssan helluntaiseurakunta\, Nikkilänkatu 2\, Forssa\, 30100\, Suomi
ORGANIZER;CN="Forssan helluntaiseurakunta":MAILTO:seurakunta@fohe.fi
END:VEVENT
BEGIN:VEVENT
DTSTART;TZID=Europe/Helsinki:20230131T180000
DTEND;TZID=Europe/Helsinki:20230131T200000
DTSTAMP:20260424T102638
CREATED:20221227T093920Z
LAST-MODIFIED:20221227T093920Z
UID:11234-1675188000-1675195200@www.fohe.fi
SUMMARY:Lähetysrukousilta
DESCRIPTION:Illan aluksi seurataan Marttyyrien äänen Vartti vainotuille -ohjelmaa\, Tommi Hintsanen\, Marita Rasila
URL:https://www.fohe.fi/tapahtuma/lahetysrukousilta-2/
LOCATION:Forssan helluntaiseurakunta\, Nikkilänkatu 2\, Forssa\, 30100\, Suomi
CATEGORIES:Tulevat Sanan ja rukouksen illat
ORGANIZER;CN="Forssan helluntaiseurakunta":MAILTO:seurakunta@fohe.fi
END:VEVENT
BEGIN:VEVENT
DTSTART;TZID=Europe/Helsinki:20230129T160000
DTEND;TZID=Europe/Helsinki:20230129T180000
DTSTAMP:20260424T102638
CREATED:20221227T093920Z
LAST-MODIFIED:20221227T093920Z
UID:11233-1675008000-1675015200@www.fohe.fi
SUMMARY:Onko onnea olemassa?
DESCRIPTION:Illan aikana saadaan kuulla ja tehdä löytöjä. Ilta alkaa pienellä tarjoilulla ja jatkuu musiikilla ja puheenvuoroilla. Illan päätteeksi mahdollisuus rukouspalveluun.
URL:https://www.fohe.fi/tapahtuma/onko-onnea-olemassa/
LOCATION:Forssan helluntaiseurakunta\, Nikkilänkatu 2\, Forssa\, 30100\, Suomi
CATEGORIES:Tulevat Jumalanpalvelukset
ORGANIZER;CN="Forssan helluntaiseurakunta":MAILTO:seurakunta@fohe.fi
END:VEVENT
BEGIN:VEVENT
DTSTART;TZID=Europe/Helsinki:20230127T190000
DTEND;TZID=Europe/Helsinki:20230127T220000
DTSTAMP:20260424T102638
CREATED:20221227T093920Z
LAST-MODIFIED:20240104T212934Z
UID:11232-1674846000-1674856800@www.fohe.fi
SUMMARY:Fohe Youth -nuortenilta
DESCRIPTION:Käy katsomassa tuoreet päivitykset: https://www.instagram.com/foheyouth/
URL:https://www.fohe.fi/tapahtuma/fohe-youth-nuortenilta-156/
LOCATION:Forssan helluntaiseurakunta\, Nikkilänkatu 2\, Forssa\, 30100\, Suomi
ORGANIZER;CN="Forssan helluntaiseurakunta":MAILTO:seurakunta@fohe.fi
END:VEVENT
BEGIN:VEVENT
DTSTART;TZID=Europe/Helsinki:20230125T180000
DTEND;TZID=Europe/Helsinki:20230125T200000
DTSTAMP:20260424T102638
CREATED:20221227T093919Z
LAST-MODIFIED:20221227T093919Z
UID:11231-1674669600-1674676800@www.fohe.fi
SUMMARY:Uskon perusteet
DESCRIPTION:Uskon perusteet on 4-osainen\, vuorovaikutteinen kurssi uskon perusasioista. Ilta alkaa pienellä tarjoilulla ja jatkuu alustuksella illan aiheesta. Aikaa on runsaasti keskustelulle ja rukoukselle.\nTämän kerran aiheena on Jeesus – pelastaja.
URL:https://www.fohe.fi/tapahtuma/uskon-perusteet-2/
LOCATION:Forssan helluntaiseurakunta\, Nikkilänkatu 2\, Forssa\, 30100\, Suomi
ORGANIZER;CN="Forssan helluntaiseurakunta":MAILTO:seurakunta@fohe.fi
END:VEVENT
BEGIN:VEVENT
DTSTART;TZID=Europe/Helsinki:20230124T180000
DTEND;TZID=Europe/Helsinki:20230124T200000
DTSTAMP:20260424T102638
CREATED:20221227T093818Z
LAST-MODIFIED:20240104T212919Z
UID:11230-1674583200-1674590400@www.fohe.fi
SUMMARY:Sanan ja rukouksen ilta
DESCRIPTION:Carola Flytström\, Mirja Karvinen
URL:https://www.fohe.fi/tapahtuma/sanan-ja-rukouksen-ilta-259/
LOCATION:Forssan helluntaiseurakunta\, Nikkilänkatu 2\, Forssa\, 30100\, Suomi
CATEGORIES:Tulevat Sanan ja rukouksen illat
ATTACH;FMTTYPE=image/jpeg:https://www.fohe.fi/wp-content/uploads/2023/02/Sana-ja-rukous-APxRNx.tmp_.jpg
ORGANIZER;CN="Forssan helluntaiseurakunta":MAILTO:seurakunta@fohe.fi
END:VEVENT
BEGIN:VEVENT
DTSTART;TZID=Europe/Helsinki:20230123T180000
DTEND;TZID=Europe/Helsinki:20230123T200000
DTSTAMP:20260424T102638
CREATED:20221227T093818Z
LAST-MODIFIED:20221227T093818Z
UID:11229-1674496800-1674504000@www.fohe.fi
SUMMARY:Yhteiskristillinen rukousilta
DESCRIPTION:Jatkoa Se löytyi -mission yhteisille rukousilloille.
URL:https://www.fohe.fi/tapahtuma/yhteiskristillinen-rukousilta-4/
LOCATION:Jokioisten seurakuntatalo\, Temppelitie 2\, Jokioinen
END:VEVENT
BEGIN:VEVENT
DTSTART;TZID=Europe/Helsinki:20230122T123000
DTEND;TZID=Europe/Helsinki:20230122T140000
DTSTAMP:20260424T102638
CREATED:20221227T093818Z
LAST-MODIFIED:20221227T093818Z
UID:11227-1674390600-1674396000@www.fohe.fi
SUMMARY:Forssan seudun hyväksi ry:n vuosikokous
DESCRIPTION:Käsitellään sääntöjen määräämät asiat ja ehdotetut sääntömuutokset
URL:https://www.fohe.fi/tapahtuma/forssan-seudun-hyvaksi-ryn-vuosikokous-5/
LOCATION:Forssan helluntaiseurakunta\, Nikkilänkatu 2\, Forssa\, 30100\, Suomi
ORGANIZER;CN="Forssan helluntaiseurakunta":MAILTO:seurakunta@fohe.fi
END:VEVENT
BEGIN:VEVENT
DTSTART;TZID=Europe/Helsinki:20230122T110000
DTEND;TZID=Europe/Helsinki:20230122T120000
DTSTAMP:20260424T102638
CREATED:20221227T093817Z
LAST-MODIFIED:20240104T212919Z
UID:11226-1674385200-1674388800@www.fohe.fi
SUMMARY:Jumalanpalvelus
DESCRIPTION:Tommi Hintsanen\, Suvi Hintsanen\, kahvitus
URL:https://www.fohe.fi/tapahtuma/jumalanpalvelus-144/
LOCATION:Forssan helluntaiseurakunta\, Nikkilänkatu 2\, Forssa\, 30100\, Suomi
CATEGORIES:Tulevat Jumalanpalvelukset
ORGANIZER;CN="Forssan helluntaiseurakunta":MAILTO:seurakunta@fohe.fi
END:VEVENT
BEGIN:VEVENT
DTSTART;TZID=Europe/Helsinki:20230120T190000
DTEND;TZID=Europe/Helsinki:20230120T220000
DTSTAMP:20260424T102638
CREATED:20230119T075140Z
LAST-MODIFIED:20230119T075140Z
UID:11263-1674241200-1674252000@www.fohe.fi
SUMMARY:Fohe Youth -nuortenilta
DESCRIPTION:Kevään nuortenillat alkavat. Käy lukemassa lisää: https://www.instagram.com/foheyouth
URL:https://www.fohe.fi/tapahtuma/fohe-youth-nuortenilta-158/
LOCATION:Forssan helluntaiseurakunta\, Nikkilänkatu 2\, Forssa\, 30100\, Suomi
CATEGORIES:Tulevat Fohe Youth -illat
ORGANIZER;CN="Forssan helluntaiseurakunta":MAILTO:seurakunta@fohe.fi
END:VEVENT
BEGIN:VEVENT
DTSTART;TZID=Europe/Helsinki:20230117T180000
DTEND;TZID=Europe/Helsinki:20230117T200000
DTSTAMP:20260424T102638
CREATED:20221227T093803Z
LAST-MODIFIED:20221227T093803Z
UID:11224-1673978400-1673985600@www.fohe.fi
SUMMARY:Sanan ja rukouksen ilta
DESCRIPTION:Kari Turkki\, Anne Katto-Davidsson
URL:https://www.fohe.fi/tapahtuma/sanan-ja-rukouksen-ilta-258/
LOCATION:Forssan helluntaiseurakunta\, Nikkilänkatu 2\, Forssa\, 30100\, Suomi
CATEGORIES:Tulevat Sanan ja rukouksen illat
ATTACH;FMTTYPE=image/jpeg:https://www.fohe.fi/wp-content/uploads/2015/01/Sana-ja-rukous.jpg
ORGANIZER;CN="Forssan helluntaiseurakunta":MAILTO:seurakunta@fohe.fi
END:VEVENT
BEGIN:VEVENT
DTSTART;TZID=Europe/Helsinki:20230116T180000
DTEND;TZID=Europe/Helsinki:20230116T200000
DTSTAMP:20260424T102638
CREATED:20221227T093803Z
LAST-MODIFIED:20221227T093803Z
UID:11223-1673892000-1673899200@www.fohe.fi
SUMMARY:Katukirkko
DESCRIPTION:
URL:https://www.fohe.fi/tapahtuma/katukirkko-40/
LOCATION:Torikirkko\, Hämeentie 15\, Forssa\, 30100\, Suomi
ORGANIZER;CN="Forssan helluntaiseurakunta":MAILTO:seurakunta@fohe.fi
END:VEVENT
BEGIN:VEVENT
DTSTART;TZID=Europe/Helsinki:20230115T150000
DTEND;TZID=Europe/Helsinki:20230115T170000
DTSTAMP:20260424T102638
CREATED:20221227T094326Z
LAST-MODIFIED:20221227T094326Z
UID:11241-1673794800-1673802000@www.fohe.fi
SUMMARY:International service
DESCRIPTION:Worship\, Bible study\, fellowship.
URL:https://www.fohe.fi/tapahtuma/international-service-26/
LOCATION:Forssan helluntaiseurakunta\, Nikkilänkatu 2\, Forssa\, 30100\, Suomi
ORGANIZER;CN="Forssan helluntaiseurakunta":MAILTO:seurakunta@fohe.fi
END:VEVENT
END:VCALENDAR