BEGIN:VCALENDAR
VERSION:2.0
PRODID:-//Forssan Helluntaiseurakunta - ECPv6.15.20//NONSGML v1.0//EN
CALSCALE:GREGORIAN
METHOD:PUBLISH
X-ORIGINAL-URL:https://www.fohe.fi
X-WR-CALDESC:Tapahtumat Forssan Helluntaiseurakunta
REFRESH-INTERVAL;VALUE=DURATION:PT1H
X-Robots-Tag:noindex
X-PUBLISHED-TTL:PT1H
BEGIN:VTIMEZONE
TZID:Europe/Helsinki
BEGIN:DAYLIGHT
TZOFFSETFROM:+0200
TZOFFSETTO:+0300
TZNAME:EEST
DTSTART:20210328T010000
END:DAYLIGHT
BEGIN:STANDARD
TZOFFSETFROM:+0300
TZOFFSETTO:+0200
TZNAME:EET
DTSTART:20211031T010000
END:STANDARD
BEGIN:DAYLIGHT
TZOFFSETFROM:+0200
TZOFFSETTO:+0300
TZNAME:EEST
DTSTART:20220327T010000
END:DAYLIGHT
BEGIN:STANDARD
TZOFFSETFROM:+0300
TZOFFSETTO:+0200
TZNAME:EET
DTSTART:20221030T010000
END:STANDARD
BEGIN:DAYLIGHT
TZOFFSETFROM:+0200
TZOFFSETTO:+0300
TZNAME:EEST
DTSTART:20230326T010000
END:DAYLIGHT
BEGIN:STANDARD
TZOFFSETFROM:+0300
TZOFFSETTO:+0200
TZNAME:EET
DTSTART:20231029T010000
END:STANDARD
BEGIN:DAYLIGHT
TZOFFSETFROM:+0200
TZOFFSETTO:+0300
TZNAME:EEST
DTSTART:20240331T010000
END:DAYLIGHT
BEGIN:STANDARD
TZOFFSETFROM:+0300
TZOFFSETTO:+0200
TZNAME:EET
DTSTART:20241027T010000
END:STANDARD
END:VTIMEZONE
BEGIN:VEVENT
DTSTART;TZID=Europe/Helsinki:20230127T190000
DTEND;TZID=Europe/Helsinki:20230127T220000
DTSTAMP:20260424T130937
CREATED:20221227T093920Z
LAST-MODIFIED:20240104T212934Z
UID:11232-1674846000-1674856800@www.fohe.fi
SUMMARY:Fohe Youth -nuortenilta
DESCRIPTION:Käy katsomassa tuoreet päivitykset: https://www.instagram.com/foheyouth/
URL:https://www.fohe.fi/tapahtuma/fohe-youth-nuortenilta-156/
LOCATION:Forssan helluntaiseurakunta\, Nikkilänkatu 2\, Forssa\, 30100\, Suomi
ORGANIZER;CN="Forssan helluntaiseurakunta":MAILTO:seurakunta@fohe.fi
END:VEVENT
BEGIN:VEVENT
DTSTART;TZID=Europe/Helsinki:20230125T180000
DTEND;TZID=Europe/Helsinki:20230125T200000
DTSTAMP:20260424T130937
CREATED:20221227T093919Z
LAST-MODIFIED:20221227T093919Z
UID:11231-1674669600-1674676800@www.fohe.fi
SUMMARY:Uskon perusteet
DESCRIPTION:Uskon perusteet on 4-osainen\, vuorovaikutteinen kurssi uskon perusasioista. Ilta alkaa pienellä tarjoilulla ja jatkuu alustuksella illan aiheesta. Aikaa on runsaasti keskustelulle ja rukoukselle.\nTämän kerran aiheena on Jeesus – pelastaja.
URL:https://www.fohe.fi/tapahtuma/uskon-perusteet-2/
LOCATION:Forssan helluntaiseurakunta\, Nikkilänkatu 2\, Forssa\, 30100\, Suomi
ORGANIZER;CN="Forssan helluntaiseurakunta":MAILTO:seurakunta@fohe.fi
END:VEVENT
BEGIN:VEVENT
DTSTART;TZID=Europe/Helsinki:20230124T180000
DTEND;TZID=Europe/Helsinki:20230124T200000
DTSTAMP:20260424T130937
CREATED:20221227T093818Z
LAST-MODIFIED:20240104T212919Z
UID:11230-1674583200-1674590400@www.fohe.fi
SUMMARY:Sanan ja rukouksen ilta
DESCRIPTION:Carola Flytström\, Mirja Karvinen
URL:https://www.fohe.fi/tapahtuma/sanan-ja-rukouksen-ilta-259/
LOCATION:Forssan helluntaiseurakunta\, Nikkilänkatu 2\, Forssa\, 30100\, Suomi
CATEGORIES:Tulevat Sanan ja rukouksen illat
ATTACH;FMTTYPE=image/jpeg:https://www.fohe.fi/wp-content/uploads/2023/02/Sana-ja-rukous-APxRNx.tmp_.jpg
ORGANIZER;CN="Forssan helluntaiseurakunta":MAILTO:seurakunta@fohe.fi
END:VEVENT
BEGIN:VEVENT
DTSTART;TZID=Europe/Helsinki:20230123T180000
DTEND;TZID=Europe/Helsinki:20230123T200000
DTSTAMP:20260424T130937
CREATED:20221227T093818Z
LAST-MODIFIED:20221227T093818Z
UID:11229-1674496800-1674504000@www.fohe.fi
SUMMARY:Yhteiskristillinen rukousilta
DESCRIPTION:Jatkoa Se löytyi -mission yhteisille rukousilloille.
URL:https://www.fohe.fi/tapahtuma/yhteiskristillinen-rukousilta-4/
LOCATION:Jokioisten seurakuntatalo\, Temppelitie 2\, Jokioinen
END:VEVENT
BEGIN:VEVENT
DTSTART;TZID=Europe/Helsinki:20230122T123000
DTEND;TZID=Europe/Helsinki:20230122T140000
DTSTAMP:20260424T130937
CREATED:20221227T093818Z
LAST-MODIFIED:20221227T093818Z
UID:11227-1674390600-1674396000@www.fohe.fi
SUMMARY:Forssan seudun hyväksi ry:n vuosikokous
DESCRIPTION:Käsitellään sääntöjen määräämät asiat ja ehdotetut sääntömuutokset
URL:https://www.fohe.fi/tapahtuma/forssan-seudun-hyvaksi-ryn-vuosikokous-5/
LOCATION:Forssan helluntaiseurakunta\, Nikkilänkatu 2\, Forssa\, 30100\, Suomi
ORGANIZER;CN="Forssan helluntaiseurakunta":MAILTO:seurakunta@fohe.fi
END:VEVENT
BEGIN:VEVENT
DTSTART;TZID=Europe/Helsinki:20230122T110000
DTEND;TZID=Europe/Helsinki:20230122T120000
DTSTAMP:20260424T130937
CREATED:20221227T093817Z
LAST-MODIFIED:20240104T212919Z
UID:11226-1674385200-1674388800@www.fohe.fi
SUMMARY:Jumalanpalvelus
DESCRIPTION:Tommi Hintsanen\, Suvi Hintsanen\, kahvitus
URL:https://www.fohe.fi/tapahtuma/jumalanpalvelus-144/
LOCATION:Forssan helluntaiseurakunta\, Nikkilänkatu 2\, Forssa\, 30100\, Suomi
CATEGORIES:Tulevat Jumalanpalvelukset
ORGANIZER;CN="Forssan helluntaiseurakunta":MAILTO:seurakunta@fohe.fi
END:VEVENT
BEGIN:VEVENT
DTSTART;TZID=Europe/Helsinki:20230120T190000
DTEND;TZID=Europe/Helsinki:20230120T220000
DTSTAMP:20260424T130937
CREATED:20230119T075140Z
LAST-MODIFIED:20230119T075140Z
UID:11263-1674241200-1674252000@www.fohe.fi
SUMMARY:Fohe Youth -nuortenilta
DESCRIPTION:Kevään nuortenillat alkavat. Käy lukemassa lisää: https://www.instagram.com/foheyouth
URL:https://www.fohe.fi/tapahtuma/fohe-youth-nuortenilta-158/
LOCATION:Forssan helluntaiseurakunta\, Nikkilänkatu 2\, Forssa\, 30100\, Suomi
CATEGORIES:Tulevat Fohe Youth -illat
ORGANIZER;CN="Forssan helluntaiseurakunta":MAILTO:seurakunta@fohe.fi
END:VEVENT
BEGIN:VEVENT
DTSTART;TZID=Europe/Helsinki:20230117T180000
DTEND;TZID=Europe/Helsinki:20230117T200000
DTSTAMP:20260424T130937
CREATED:20221227T093803Z
LAST-MODIFIED:20221227T093803Z
UID:11224-1673978400-1673985600@www.fohe.fi
SUMMARY:Sanan ja rukouksen ilta
DESCRIPTION:Kari Turkki\, Anne Katto-Davidsson
URL:https://www.fohe.fi/tapahtuma/sanan-ja-rukouksen-ilta-258/
LOCATION:Forssan helluntaiseurakunta\, Nikkilänkatu 2\, Forssa\, 30100\, Suomi
CATEGORIES:Tulevat Sanan ja rukouksen illat
ATTACH;FMTTYPE=image/jpeg:https://www.fohe.fi/wp-content/uploads/2015/01/Sana-ja-rukous.jpg
ORGANIZER;CN="Forssan helluntaiseurakunta":MAILTO:seurakunta@fohe.fi
END:VEVENT
BEGIN:VEVENT
DTSTART;TZID=Europe/Helsinki:20230116T180000
DTEND;TZID=Europe/Helsinki:20230116T200000
DTSTAMP:20260424T130937
CREATED:20221227T093803Z
LAST-MODIFIED:20221227T093803Z
UID:11223-1673892000-1673899200@www.fohe.fi
SUMMARY:Katukirkko
DESCRIPTION:
URL:https://www.fohe.fi/tapahtuma/katukirkko-40/
LOCATION:Torikirkko\, Hämeentie 15\, Forssa\, 30100\, Suomi
ORGANIZER;CN="Forssan helluntaiseurakunta":MAILTO:seurakunta@fohe.fi
END:VEVENT
BEGIN:VEVENT
DTSTART;TZID=Europe/Helsinki:20230115T150000
DTEND;TZID=Europe/Helsinki:20230115T170000
DTSTAMP:20260424T130937
CREATED:20221227T094326Z
LAST-MODIFIED:20221227T094326Z
UID:11241-1673794800-1673802000@www.fohe.fi
SUMMARY:International service
DESCRIPTION:Worship\, Bible study\, fellowship.
URL:https://www.fohe.fi/tapahtuma/international-service-26/
LOCATION:Forssan helluntaiseurakunta\, Nikkilänkatu 2\, Forssa\, 30100\, Suomi
ORGANIZER;CN="Forssan helluntaiseurakunta":MAILTO:seurakunta@fohe.fi
END:VEVENT
BEGIN:VEVENT
DTSTART;TZID=Europe/Helsinki:20230115T110000
DTEND;TZID=Europe/Helsinki:20230115T130000
DTSTAMP:20260424T130937
CREATED:20221227T093803Z
LAST-MODIFIED:20221227T093803Z
UID:11222-1673780400-1673787600@www.fohe.fi
SUMMARY:Jumalanpalvelus
DESCRIPTION:Eljas Karvinen\, Markku Rajala\, naisten ryhmä
URL:https://www.fohe.fi/tapahtuma/jumalanpalvelus-143/
LOCATION:Forssan helluntaiseurakunta\, Nikkilänkatu 2\, Forssa\, 30100\, Suomi
CATEGORIES:Tulevat Jumalanpalvelukset
ORGANIZER;CN="Forssan helluntaiseurakunta":MAILTO:seurakunta@fohe.fi
END:VEVENT
BEGIN:VEVENT
DTSTART;TZID=Europe/Helsinki:20230110T180000
DTEND;TZID=Europe/Helsinki:20230110T200000
DTSTAMP:20260424T130937
CREATED:20221227T093749Z
LAST-MODIFIED:20221227T093749Z
UID:11220-1673373600-1673380800@www.fohe.fi
SUMMARY:Sanan ja rukouksen ilta
DESCRIPTION:Erja-Riitta Viljanen\, Marita Rasila
URL:https://www.fohe.fi/tapahtuma/sanan-ja-rukouksen-ilta-257/
LOCATION:Forssan helluntaiseurakunta\, Nikkilänkatu 2\, Forssa\, 30100\, Suomi
CATEGORIES:Tulevat Sanan ja rukouksen illat
ATTACH;FMTTYPE=image/jpeg:https://www.fohe.fi/wp-content/uploads/2015/01/Sana-ja-rukous.jpg
ORGANIZER;CN="Forssan helluntaiseurakunta":MAILTO:seurakunta@fohe.fi
END:VEVENT
BEGIN:VEVENT
DTSTART;TZID=Europe/Helsinki:20230108T110000
DTEND;TZID=Europe/Helsinki:20230108T130000
DTSTAMP:20260424T130937
CREATED:20221227T093748Z
LAST-MODIFIED:20221227T093748Z
UID:11219-1673175600-1673182800@www.fohe.fi
SUMMARY:Jumalanpalvelus
DESCRIPTION:Ritva Kannisto\, Tommi Hintsanen\, Anne Katto-Davidsson
URL:https://www.fohe.fi/tapahtuma/jumalanpalvelus-142/
LOCATION:Forssan helluntaiseurakunta\, Nikkilänkatu 2\, Forssa\, 30100\, Suomi
CATEGORIES:Tulevat Jumalanpalvelukset
ORGANIZER;CN="Forssan helluntaiseurakunta":MAILTO:seurakunta@fohe.fi
END:VEVENT
BEGIN:VEVENT
DTSTART;TZID=Europe/Helsinki:20230105T180000
DTEND;TZID=Europe/Helsinki:20230105T190000
DTSTAMP:20260424T130937
CREATED:20221227T093748Z
LAST-MODIFIED:20221227T093748Z
UID:11218-1672941600-1672945200@www.fohe.fi
SUMMARY:Rukouskokous
DESCRIPTION:Rukousviikko ti-to 3.-5.1. Rukouskokoukset klo 12 & 18.
URL:https://www.fohe.fi/tapahtuma/rukouskokous-55/
LOCATION:Forssan helluntaiseurakunta\, Nikkilänkatu 2\, Forssa\, 30100\, Suomi
ORGANIZER;CN="Forssan helluntaiseurakunta":MAILTO:seurakunta@fohe.fi
END:VEVENT
BEGIN:VEVENT
DTSTART;TZID=Europe/Helsinki:20230105T120000
DTEND;TZID=Europe/Helsinki:20230105T130000
DTSTAMP:20260424T130937
CREATED:20221227T093747Z
LAST-MODIFIED:20221227T093747Z
UID:11217-1672920000-1672923600@www.fohe.fi
SUMMARY:Rukouskokous
DESCRIPTION:Rukousviikko ti-to 3.-5.1. Rukouskokoukset klo 12 & 18.
URL:https://www.fohe.fi/tapahtuma/rukouskokous-54/
LOCATION:Forssan helluntaiseurakunta\, Nikkilänkatu 2\, Forssa\, 30100\, Suomi
ORGANIZER;CN="Forssan helluntaiseurakunta":MAILTO:seurakunta@fohe.fi
END:VEVENT
BEGIN:VEVENT
DTSTART;TZID=Europe/Helsinki:20230104T180000
DTEND;TZID=Europe/Helsinki:20230104T190000
DTSTAMP:20260424T130937
CREATED:20221227T093747Z
LAST-MODIFIED:20221227T093747Z
UID:11216-1672855200-1672858800@www.fohe.fi
SUMMARY:Rukouskokous
DESCRIPTION:Rukousviikko ti-to 3.-5.1. Rukouskokoukset klo 12 & 18.
URL:https://www.fohe.fi/tapahtuma/rukouskokous-53/
LOCATION:Forssan helluntaiseurakunta\, Nikkilänkatu 2\, Forssa\, 30100\, Suomi
ORGANIZER;CN="Forssan helluntaiseurakunta":MAILTO:seurakunta@fohe.fi
END:VEVENT
BEGIN:VEVENT
DTSTART;TZID=Europe/Helsinki:20230104T170000
DTEND;TZID=Europe/Helsinki:20230104T180000
DTSTAMP:20260424T130937
CREATED:20221227T093744Z
LAST-MODIFIED:20221227T093744Z
UID:11215-1672851600-1672855200@www.fohe.fi
SUMMARY:Ruoka-avun jakoa
DESCRIPTION:Ruoka-apua vähävaraisille\, kahvitus
URL:https://www.fohe.fi/tapahtuma/ruoka-avun-jakoa/
LOCATION:Forssan helluntaiseurakunta\, Nikkilänkatu 2\, Forssa\, 30100\, Suomi
ORGANIZER;CN="Forssan helluntaiseurakunta":MAILTO:seurakunta@fohe.fi
END:VEVENT
BEGIN:VEVENT
DTSTART;TZID=Europe/Helsinki:20230104T120000
DTEND;TZID=Europe/Helsinki:20230104T130000
DTSTAMP:20260424T130937
CREATED:20221227T093744Z
LAST-MODIFIED:20221227T093744Z
UID:11214-1672833600-1672837200@www.fohe.fi
SUMMARY:Rukouskokous
DESCRIPTION:Rukousviikko ti-to 3.-5.1. Rukouskokoukset klo 12 & 18.
URL:https://www.fohe.fi/tapahtuma/rukouskokous-52/
LOCATION:Forssan helluntaiseurakunta\, Nikkilänkatu 2\, Forssa\, 30100\, Suomi
ORGANIZER;CN="Forssan helluntaiseurakunta":MAILTO:seurakunta@fohe.fi
END:VEVENT
BEGIN:VEVENT
DTSTART;TZID=Europe/Helsinki:20230103T180000
DTEND;TZID=Europe/Helsinki:20230103T190000
DTSTAMP:20260424T130937
CREATED:20221227T093744Z
LAST-MODIFIED:20221227T093744Z
UID:11213-1672768800-1672772400@www.fohe.fi
SUMMARY:Rukouskokous
DESCRIPTION:Rukousviikko ti-to 3.-5.1. Rukouskokoukset klo 12 & 18.
URL:https://www.fohe.fi/tapahtuma/rukouskokous-51/
LOCATION:Forssan helluntaiseurakunta\, Nikkilänkatu 2\, Forssa\, 30100\, Suomi
ORGANIZER;CN="Forssan helluntaiseurakunta":MAILTO:seurakunta@fohe.fi
END:VEVENT
BEGIN:VEVENT
DTSTART;TZID=Europe/Helsinki:20230103T120000
DTEND;TZID=Europe/Helsinki:20230103T130000
DTSTAMP:20260424T130937
CREATED:20221227T093744Z
LAST-MODIFIED:20221227T093744Z
UID:11212-1672747200-1672750800@www.fohe.fi
SUMMARY:Rukouskokous
DESCRIPTION:Rukousviikko ti-to 3.-5.1. Rukouskokoukset klo 12 & 18.
URL:https://www.fohe.fi/tapahtuma/rukouskokous-50/
LOCATION:Forssan helluntaiseurakunta\, Nikkilänkatu 2\, Forssa\, 30100\, Suomi
ORGANIZER;CN="Forssan helluntaiseurakunta":MAILTO:seurakunta@fohe.fi
END:VEVENT
BEGIN:VEVENT
DTSTART;TZID=Europe/Helsinki:20230101T110000
DTEND;TZID=Europe/Helsinki:20230101T130000
DTSTAMP:20260424T130937
CREATED:20221202T113439Z
LAST-MODIFIED:20221227T093744Z
UID:11185-1672570800-1672578000@www.fohe.fi
SUMMARY:Ehtoollisjuhla
DESCRIPTION:Tapio Sopanen\, Raimo Huotelin\, Riitta Pelto-Huikko
URL:https://www.fohe.fi/tapahtuma/ehtoollisjuhla-62/
LOCATION:Forssan helluntaiseurakunta\, Nikkilänkatu 2\, Forssa\, 30100\, Suomi
CATEGORIES:Tulevat Jumalanpalvelukset
ORGANIZER;CN="Forssan helluntaiseurakunta":MAILTO:seurakunta@fohe.fi
END:VEVENT
BEGIN:VEVENT
DTSTART;TZID=Europe/Helsinki:20221227T180000
DTEND;TZID=Europe/Helsinki:20221227T200000
DTSTAMP:20260424T130937
CREATED:20221202T113425Z
LAST-MODIFIED:20221202T113425Z
UID:11183-1672164000-1672171200@www.fohe.fi
SUMMARY:Sanan ja rukouksen ilta
DESCRIPTION:Tommi Hintsanen\, Marita Rasila
URL:https://www.fohe.fi/tapahtuma/sanan-ja-rukouksen-ilta-256/
LOCATION:Forssan helluntaiseurakunta\, Nikkilänkatu 2\, Forssa\, 30100\, Suomi
CATEGORIES:Tulevat Sanan ja rukouksen illat
ORGANIZER;CN="Forssan helluntaiseurakunta":MAILTO:seurakunta@fohe.fi
END:VEVENT
BEGIN:VEVENT
DTSTART;TZID=Europe/Helsinki:20221222T120000
DTEND;TZID=Europe/Helsinki:20221222T200000
DTSTAMP:20260424T130937
CREATED:20221202T113424Z
LAST-MODIFIED:20221202T113424Z
UID:11181-1671710400-1671739200@www.fohe.fi
SUMMARY:Katukirkon joulujuhla
DESCRIPTION:
URL:https://www.fohe.fi/tapahtuma/katukirkon-joulujuhla-4/
LOCATION:Seurakuntatalo\, Kartanonkatu 16\, Forssa\, 30100
END:VEVENT
BEGIN:VEVENT
DTSTART;TZID=Europe/Helsinki:20221220T180000
DTEND;TZID=Europe/Helsinki:20221220T200000
DTSTAMP:20260424T130937
CREATED:20221202T113424Z
LAST-MODIFIED:20221202T113424Z
UID:11182-1671559200-1671566400@www.fohe.fi
SUMMARY:Sanan ja rukouksen ilta
DESCRIPTION:Kari Turkki\, Mirja Karvinen
URL:https://www.fohe.fi/tapahtuma/sanan-ja-rukouksen-ilta-255/
LOCATION:Forssan helluntaiseurakunta\, Nikkilänkatu 2\, Forssa\, 30100\, Suomi
CATEGORIES:Tulevat Sanan ja rukouksen illat
ORGANIZER;CN="Forssan helluntaiseurakunta":MAILTO:seurakunta@fohe.fi
END:VEVENT
BEGIN:VEVENT
DTSTART;TZID=Europe/Helsinki:20221218T160000
DTEND;TZID=Europe/Helsinki:20221218T180000
DTSTAMP:20260424T130937
CREATED:20221202T113423Z
LAST-MODIFIED:20221202T113423Z
UID:11180-1671379200-1671386400@www.fohe.fi
SUMMARY:Joulujuhla
DESCRIPTION:Jouluisen juhlaohjelman jälkeen joulupuuro ja -tortut
URL:https://www.fohe.fi/tapahtuma/joulujuhla-4/
LOCATION:Forssan helluntaiseurakunta\, Nikkilänkatu 2\, Forssa\, 30100\, Suomi
CATEGORIES:Tulevat Jumalanpalvelukset
ORGANIZER;CN="Forssan helluntaiseurakunta":MAILTO:seurakunta@fohe.fi
END:VEVENT
BEGIN:VEVENT
DTSTART;TZID=Europe/Helsinki:20221213T180000
DTEND;TZID=Europe/Helsinki:20221213T200000
DTSTAMP:20260424T130937
CREATED:20221202T113421Z
LAST-MODIFIED:20221202T113421Z
UID:11178-1670954400-1670961600@www.fohe.fi
SUMMARY:Sanan ja rukouksen ilta
DESCRIPTION:Rose Ipia\, Riitta Pelto-Huikko
URL:https://www.fohe.fi/tapahtuma/sanan-ja-rukouksen-ilta-254/
LOCATION:Forssan helluntaiseurakunta\, Nikkilänkatu 2\, Forssa\, 30100\, Suomi
CATEGORIES:Tulevat Sanan ja rukouksen illat
ATTACH;FMTTYPE=image/jpeg:https://www.fohe.fi/wp-content/uploads/2015/01/Sana-ja-rukous.jpg
ORGANIZER;CN="Forssan helluntaiseurakunta":MAILTO:seurakunta@fohe.fi
END:VEVENT
BEGIN:VEVENT
DTSTART;TZID=Europe/Helsinki:20221211T110000
DTEND;TZID=Europe/Helsinki:20221211T130000
DTSTAMP:20260424T130937
CREATED:20221202T113421Z
LAST-MODIFIED:20221202T113421Z
UID:11177-1670756400-1670763600@www.fohe.fi
SUMMARY:Jumalanpalvelus
DESCRIPTION:Pentti Riekkinen\, Tommi Hintsanen\, Anne Katto-Davidsson\, Annen nuottikirjan julkaisu
URL:https://www.fohe.fi/tapahtuma/jumalanpalvelus-141/
LOCATION:Forssan helluntaiseurakunta\, Nikkilänkatu 2\, Forssa\, 30100\, Suomi
CATEGORIES:Tulevat Jumalanpalvelukset
ORGANIZER;CN="Forssan helluntaiseurakunta":MAILTO:seurakunta@fohe.fi
END:VEVENT
BEGIN:VEVENT
DTSTART;TZID=Europe/Helsinki:20221209T190000
DTEND;TZID=Europe/Helsinki:20221209T220000
DTSTAMP:20260424T130937
CREATED:20221202T113420Z
LAST-MODIFIED:20221202T113420Z
UID:11176-1670612400-1670623200@www.fohe.fi
SUMMARY:Fohe Youth -nuortenilta
DESCRIPTION:Käy katsomassa tuoreet päivitykset: https://www.instagram.com/foheyouth/
URL:https://www.fohe.fi/tapahtuma/fohe-youth-nuortenilta-154/
LOCATION:Forssan helluntaiseurakunta\, Nikkilänkatu 2\, Forssa\, 30100\, Suomi
ORGANIZER;CN="Forssan helluntaiseurakunta":MAILTO:seurakunta@fohe.fi
END:VEVENT
BEGIN:VEVENT
DTSTART;TZID=Europe/Helsinki:20221208T083000
DTEND;TZID=Europe/Helsinki:20221208T100000
DTSTAMP:20260424T130937
CREATED:20221202T113420Z
LAST-MODIFIED:20221202T113420Z
UID:11175-1670488200-1670493600@www.fohe.fi
SUMMARY:Yhteiskristillinen aamurukous
DESCRIPTION:Pientä tarjoilua\, Raamatun tutkimista yhdessä\, rukousta\, tervetuloa mukaan
URL:https://www.fohe.fi/tapahtuma/yhteiskristillinen-aamurukous-33/
LOCATION:Adventtiseurakunta\, Pekolanraitti 8\, Forssa\, 30100
END:VEVENT
BEGIN:VEVENT
DTSTART;TZID=Europe/Helsinki:20221207T170000
DTEND;TZID=Europe/Helsinki:20221207T180000
DTSTAMP:20260424T130937
CREATED:20221202T114139Z
LAST-MODIFIED:20221206T181734Z
UID:11186-1670432400-1670436000@www.fohe.fi
SUMMARY:Ruoka-avun jako
DESCRIPTION:Ruokajako vähävaraisille. Samalla on tarjolla kahvitus ja mahdollisuus keskusteluun.
URL:https://www.fohe.fi/tapahtuma/ruoka-avun-jako/
LOCATION:Forssan helluntaiseurakunta\, Nikkilänkatu 2\, Forssa\, 30100\, Suomi
ORGANIZER;CN="Forssan helluntaiseurakunta":MAILTO:seurakunta@fohe.fi
END:VEVENT
END:VCALENDAR