BEGIN:VCALENDAR
VERSION:2.0
PRODID:-//Forssan Helluntaiseurakunta - ECPv6.15.20//NONSGML v1.0//EN
CALSCALE:GREGORIAN
METHOD:PUBLISH
X-WR-CALNAME:Forssan Helluntaiseurakunta
X-ORIGINAL-URL:https://www.fohe.fi
X-WR-CALDESC:Tapahtumat Forssan Helluntaiseurakunta
REFRESH-INTERVAL;VALUE=DURATION:PT1H
X-Robots-Tag:noindex
X-PUBLISHED-TTL:PT1H
BEGIN:VTIMEZONE
TZID:Europe/Helsinki
BEGIN:DAYLIGHT
TZOFFSETFROM:+0200
TZOFFSETTO:+0300
TZNAME:EEST
DTSTART:20210328T010000
END:DAYLIGHT
BEGIN:STANDARD
TZOFFSETFROM:+0300
TZOFFSETTO:+0200
TZNAME:EET
DTSTART:20211031T010000
END:STANDARD
BEGIN:DAYLIGHT
TZOFFSETFROM:+0200
TZOFFSETTO:+0300
TZNAME:EEST
DTSTART:20220327T010000
END:DAYLIGHT
BEGIN:STANDARD
TZOFFSETFROM:+0300
TZOFFSETTO:+0200
TZNAME:EET
DTSTART:20221030T010000
END:STANDARD
BEGIN:DAYLIGHT
TZOFFSETFROM:+0200
TZOFFSETTO:+0300
TZNAME:EEST
DTSTART:20230326T010000
END:DAYLIGHT
BEGIN:STANDARD
TZOFFSETFROM:+0300
TZOFFSETTO:+0200
TZNAME:EET
DTSTART:20231029T010000
END:STANDARD
END:VTIMEZONE
BEGIN:VEVENT
DTSTART;TZID=Europe/Helsinki:20220913T190000
DTEND;TZID=Europe/Helsinki:20220913T200000
DTSTAMP:20260425T002446
CREATED:20220904T051638Z
LAST-MODIFIED:20220904T051638Z
UID:11013-1663095600-1663099200@www.fohe.fi
SUMMARY:Sanan ja rukouksen ilta
DESCRIPTION:Markku Rajala\, Anne Katto-Davidsson
URL:https://www.fohe.fi/tapahtuma/sanan-ja-rukouksen-ilta-243/
LOCATION:Forssan helluntaiseurakunta\, Nikkilänkatu 2\, Forssa\, 30100\, Suomi
CATEGORIES:Tulevat Sanan ja rukouksen illat
ATTACH;FMTTYPE=image/jpeg:https://www.fohe.fi/wp-content/uploads/2015/01/Sana-ja-rukous.jpg
ORGANIZER;CN="Forssan helluntaiseurakunta":MAILTO:seurakunta@fohe.fi
END:VEVENT
BEGIN:VEVENT
DTSTART;TZID=Europe/Helsinki:20220911T110000
DTEND;TZID=Europe/Helsinki:20220911T130000
DTSTAMP:20260425T002446
CREATED:20220904T051638Z
LAST-MODIFIED:20220904T051638Z
UID:11012-1662894000-1662901200@www.fohe.fi
SUMMARY:Jumalanpalvelus
DESCRIPTION:Tommi Hintsanen\, Marko Kaasalainen\, Elma ja Elli Hintsanen
URL:https://www.fohe.fi/tapahtuma/jumalanpalvelus-136/
LOCATION:Forssan helluntaiseurakunta\, Nikkilänkatu 2\, Forssa\, 30100\, Suomi
CATEGORIES:Tulevat Jumalanpalvelukset
ORGANIZER;CN="Forssan helluntaiseurakunta":MAILTO:seurakunta@fohe.fi
END:VEVENT
BEGIN:VEVENT
DTSTART;TZID=Europe/Helsinki:20220909T190000
DTEND;TZID=Europe/Helsinki:20220909T220000
DTSTAMP:20260425T002446
CREATED:20220904T051645Z
LAST-MODIFIED:20220904T051645Z
UID:11019-1662750000-1662760800@www.fohe.fi
SUMMARY:Fohe Youth -nuortenilta
DESCRIPTION:Käy katsomassa tuoreet päivitykset: https://www.instagram.com/foheyouth/
URL:https://www.fohe.fi/tapahtuma/fohe-youth-nuortenilta-146/
LOCATION:Forssan helluntaiseurakunta\, Nikkilänkatu 2\, Forssa\, 30100\, Suomi
ORGANIZER;CN="Forssan helluntaiseurakunta":MAILTO:seurakunta@fohe.fi
END:VEVENT
BEGIN:VEVENT
DTSTART;TZID=Europe/Helsinki:20220908T190000
DTEND;TZID=Europe/Helsinki:20220908T200000
DTSTAMP:20260425T002446
CREATED:20220904T052059Z
LAST-MODIFIED:20220904T052059Z
UID:11033-1662663600-1662667200@www.fohe.fi
SUMMARY:Rukouskokous
DESCRIPTION:Rukousviikko 6.-8.9.\, rukouskokoukset klo 12 & 19
URL:https://www.fohe.fi/tapahtuma/rukouskokous-49/
LOCATION:Forssan helluntaiseurakunta\, Nikkilänkatu 2\, Forssa\, 30100\, Suomi
ORGANIZER;CN="Forssan helluntaiseurakunta":MAILTO:seurakunta@fohe.fi
END:VEVENT
BEGIN:VEVENT
DTSTART;TZID=Europe/Helsinki:20220908T120000
DTEND;TZID=Europe/Helsinki:20220908T130000
DTSTAMP:20260425T002446
CREATED:20220904T051729Z
LAST-MODIFIED:20220904T051729Z
UID:11029-1662638400-1662642000@www.fohe.fi
SUMMARY:Rukouskokous
DESCRIPTION:Rukousviikko 6.-8.9.\, rukouskokoukset klo 12 & 19
URL:https://www.fohe.fi/tapahtuma/rukouskokous-47/
END:VEVENT
BEGIN:VEVENT
DTSTART;TZID=Europe/Helsinki:20220907T190000
DTEND;TZID=Europe/Helsinki:20220907T200000
DTSTAMP:20260425T002446
CREATED:20220904T051729Z
LAST-MODIFIED:20220904T051729Z
UID:11030-1662577200-1662580800@www.fohe.fi
SUMMARY:Rukouskokous
DESCRIPTION:Rukousviikko 6.-8.9.\, rukouskokoukset klo 12 & 19
URL:https://www.fohe.fi/tapahtuma/rukouskokous-48/
END:VEVENT
BEGIN:VEVENT
DTSTART;TZID=Europe/Helsinki:20220907T170000
DTEND;TZID=Europe/Helsinki:20220907T180000
DTSTAMP:20260425T002446
CREATED:20220904T051714Z
LAST-MODIFIED:20220904T051714Z
UID:11026-1662570000-1662573600@www.fohe.fi
SUMMARY:Ruokajakelu
DESCRIPTION:Ruoka-avun jakoa\, kahvitus\, mahdollisuus keskusteluun
URL:https://www.fohe.fi/tapahtuma/ruokajakelu-3/
LOCATION:Forssan helluntaiseurakunta\, Nikkilänkatu 2\, Forssa\, 30100\, Suomi
ORGANIZER;CN="Forssan helluntaiseurakunta":MAILTO:seurakunta@fohe.fi
END:VEVENT
BEGIN:VEVENT
DTSTART;TZID=Europe/Helsinki:20220907T120000
DTEND;TZID=Europe/Helsinki:20220907T130000
DTSTAMP:20260425T002446
CREATED:20220904T051715Z
LAST-MODIFIED:20220904T051715Z
UID:11028-1662552000-1662555600@www.fohe.fi
SUMMARY:Rukouskokous
DESCRIPTION:Rukousviikko 6.-8.9.\, rukouskokoukset klo 12 & 19
URL:https://www.fohe.fi/tapahtuma/rukouskokous-46/
END:VEVENT
BEGIN:VEVENT
DTSTART;TZID=Europe/Helsinki:20220906T190000
DTEND;TZID=Europe/Helsinki:20220906T200000
DTSTAMP:20260425T002446
CREATED:20220806T204406Z
LAST-MODIFIED:20220904T051955Z
UID:10978-1662490800-1662494400@www.fohe.fi
SUMMARY:Sanan ja rukouksen ilta
DESCRIPTION:Rukousviikko 6.-8.9.\, rukouskokoukset klo 12 & 19
URL:https://www.fohe.fi/tapahtuma/sanan-ja-rukouksen-ilta-240/
LOCATION:Forssan helluntaiseurakunta\, Nikkilänkatu 2\, Forssa\, 30100\, Suomi
CATEGORIES:Tulevat Sanan ja rukouksen illat
ATTACH;FMTTYPE=image/jpeg:https://www.fohe.fi/wp-content/uploads/2015/01/Sana-ja-rukous.jpg
ORGANIZER;CN="Forssan helluntaiseurakunta":MAILTO:seurakunta@fohe.fi
END:VEVENT
BEGIN:VEVENT
DTSTART;TZID=Europe/Helsinki:20220906T120000
DTEND;TZID=Europe/Helsinki:20220906T130000
DTSTAMP:20260425T002446
CREATED:20220904T051714Z
LAST-MODIFIED:20220904T051714Z
UID:11027-1662465600-1662469200@www.fohe.fi
SUMMARY:Rukouskokous
DESCRIPTION:Rukousviikko 6.-8.9.\, rukouskokoukset klo 12 & 19
URL:https://www.fohe.fi/tapahtuma/rukouskokous-45/
END:VEVENT
BEGIN:VEVENT
DTSTART;TZID=Europe/Helsinki:20220904T110000
DTEND;TZID=Europe/Helsinki:20220904T130000
DTSTAMP:20260425T002446
CREATED:20230811T061958Z
LAST-MODIFIED:20230811T061958Z
UID:13012-1662289200-1662296400@www.fohe.fi
SUMMARY:Ehtoollis- ja kastejuhla
DESCRIPTION:Marko Kantelus\, Arto Hintsanen
URL:https://www.fohe.fi/tapahtuma/ehtoollis-ja-kastejuhla/
LOCATION:Forssan helluntaiseurakunta\, Nikkilänkatu 2\, Forssa\, 30100\, Suomi
CATEGORIES:Tulevat Jumalanpalvelukset
ATTACH;FMTTYPE=image/jpeg:https://www.fohe.fi/wp-content/uploads/2023/02/Ehtoollinen-tDTYAj.tmp_-scaled.jpg
ORGANIZER;CN="Forssan helluntaiseurakunta":MAILTO:seurakunta@fohe.fi
END:VEVENT
BEGIN:VEVENT
DTSTART;TZID=Europe/Helsinki:20220904T110000
DTEND;TZID=Europe/Helsinki:20220904T130000
DTSTAMP:20260425T002446
CREATED:20220806T204412Z
LAST-MODIFIED:20220806T204412Z
UID:10985-1662289200-1662296400@www.fohe.fi
SUMMARY:Ehtoollisjuhla
DESCRIPTION:Marko Kantelus\, Tommi Hintsanen
URL:https://www.fohe.fi/tapahtuma/ehtoollisjuhla-58/
LOCATION:Forssan helluntaiseurakunta\, Nikkilänkatu 2\, Forssa\, 30100\, Suomi
CATEGORIES:Tulevat Jumalanpalvelukset
ATTACH;FMTTYPE=image/jpeg:https://www.fohe.fi/wp-content/uploads/2015/01/Ehtoollinen-scaled.jpg
ORGANIZER;CN="Forssan helluntaiseurakunta":MAILTO:seurakunta@fohe.fi
END:VEVENT
BEGIN:VEVENT
DTSTART;TZID=Europe/Helsinki:20220903T090000
DTEND;TZID=Europe/Helsinki:20220903T160000
DTSTAMP:20260425T002446
CREATED:20220806T204427Z
LAST-MODIFIED:20230903T055341Z
UID:10991-1662195600-1662220800@www.fohe.fi
SUMMARY:Se löytyi -mission koulutus
DESCRIPTION:Koulutus evankeliointiin ja ihmisten kohtaamiseen
URL:https://www.fohe.fi/tapahtuma/se-loytyi-mission-koulutus/
LOCATION:Forssan helluntaiseurakunta\, Nikkilänkatu 2\, Forssa\, 30100\, Suomi
ORGANIZER;CN="Forssan helluntaiseurakunta":MAILTO:seurakunta@fohe.fi
END:VEVENT
BEGIN:VEVENT
DTSTART;TZID=Europe/Helsinki:20220902T190000
DTEND;TZID=Europe/Helsinki:20220902T220000
DTSTAMP:20260425T002446
CREATED:20220806T204427Z
LAST-MODIFIED:20220806T204427Z
UID:10990-1662145200-1662156000@www.fohe.fi
SUMMARY:Fohe Youth -nuortenilta
DESCRIPTION:
URL:https://www.fohe.fi/tapahtuma/fohe-youth-nuortenilta-145/
LOCATION:Forssan helluntaiseurakunta\, Nikkilänkatu 2\, Forssa\, 30100\, Suomi
ORGANIZER;CN="Forssan helluntaiseurakunta":MAILTO:seurakunta@fohe.fi
END:VEVENT
BEGIN:VEVENT
DTSTART;TZID=Europe/Helsinki:20220830T190000
DTEND;TZID=Europe/Helsinki:20220830T200000
DTSTAMP:20260425T002446
CREATED:20220806T204411Z
LAST-MODIFIED:20220806T204411Z
UID:10984-1661886000-1661889600@www.fohe.fi
SUMMARY:Sanan ja rukouksen ilta
DESCRIPTION:Erja-Riitta Viljanen\, Riitta Pelto-Huikko
URL:https://www.fohe.fi/tapahtuma/sanan-ja-rukouksen-ilta-242/
LOCATION:Forssan helluntaiseurakunta\, Nikkilänkatu 2\, Forssa\, 30100\, Suomi
CATEGORIES:Tulevat Sanan ja rukouksen illat
ORGANIZER;CN="Forssan helluntaiseurakunta":MAILTO:seurakunta@fohe.fi
END:VEVENT
BEGIN:VEVENT
DTSTART;TZID=Europe/Helsinki:20220829T180000
DTEND;TZID=Europe/Helsinki:20220829T200000
DTSTAMP:20260425T002446
CREATED:20220806T204441Z
LAST-MODIFIED:20220806T204441Z
UID:10993-1661796000-1661803200@www.fohe.fi
SUMMARY:Katukirkko
DESCRIPTION:
URL:https://www.fohe.fi/tapahtuma/katukirkko-36/
LOCATION:Torikirkko\, Hämeentie 15\, Forssa\, 30100\, Suomi
ORGANIZER;CN="Forssan helluntaiseurakunta":MAILTO:seurakunta@fohe.fi
END:VEVENT
BEGIN:VEVENT
DTSTART;TZID=Europe/Helsinki:20220828T110000
DTEND;TZID=Europe/Helsinki:20220828T130000
DTSTAMP:20260425T002446
CREATED:20220806T204411Z
LAST-MODIFIED:20220806T204411Z
UID:10983-1661684400-1661691600@www.fohe.fi
SUMMARY:Jumalanpalvelus
DESCRIPTION:Maija Heiskanen\, Tapio Sopanen\, naisten lauluryhmä
URL:https://www.fohe.fi/tapahtuma/jumalanpalvelus-135/
LOCATION:Forssan helluntaiseurakunta\, Nikkilänkatu 2\, Forssa\, 30100\, Suomi
CATEGORIES:Tulevat Jumalanpalvelukset
ORGANIZER;CN="Forssan helluntaiseurakunta":MAILTO:seurakunta@fohe.fi
END:VEVENT
BEGIN:VEVENT
DTSTART;TZID=Europe/Helsinki:20220827T150000
DTEND;TZID=Europe/Helsinki:20220827T170000
DTSTAMP:20260425T002446
CREATED:20220806T204427Z
LAST-MODIFIED:20220806T204427Z
UID:10992-1661612400-1661619600@www.fohe.fi
SUMMARY:PuistoAction
DESCRIPTION:Mukavaa toimintaa ja yhdessäoloa koko perheelle
URL:https://www.fohe.fi/tapahtuma/puistoaction-2/
ORGANIZER;CN="Forssan helluntaiseurakunta":MAILTO:seurakunta@fohe.fi
END:VEVENT
BEGIN:VEVENT
DTSTART;TZID=Europe/Helsinki:20220826T190000
DTEND;TZID=Europe/Helsinki:20220826T220000
DTSTAMP:20260425T002446
CREATED:20220806T204426Z
LAST-MODIFIED:20220806T204426Z
UID:10989-1661540400-1661551200@www.fohe.fi
SUMMARY:Fohe Youth -nuortenilta
DESCRIPTION:
URL:https://www.fohe.fi/tapahtuma/fohe-youth-nuortenilta-144/
LOCATION:Forssan helluntaiseurakunta\, Nikkilänkatu 2\, Forssa\, 30100\, Suomi
ORGANIZER;CN="Forssan helluntaiseurakunta":MAILTO:seurakunta@fohe.fi
END:VEVENT
BEGIN:VEVENT
DTSTART;TZID=Europe/Helsinki:20220823T190000
DTEND;TZID=Europe/Helsinki:20220823T200000
DTSTAMP:20260425T002446
CREATED:20220806T204408Z
LAST-MODIFIED:20220806T204408Z
UID:10982-1661281200-1661284800@www.fohe.fi
SUMMARY:Sanan ja rukouksen ilta
DESCRIPTION:Tommi Hintsanen\, Marita Rasila
URL:https://www.fohe.fi/tapahtuma/sanan-ja-rukouksen-ilta-241/
LOCATION:Forssan helluntaiseurakunta\, Nikkilänkatu 2\, Forssa\, 30100\, Suomi
CATEGORIES:Tulevat Sanan ja rukouksen illat
ATTACH;FMTTYPE=image/jpeg:https://www.fohe.fi/wp-content/uploads/2015/01/Sana-ja-rukous.jpg
ORGANIZER;CN="Forssan helluntaiseurakunta":MAILTO:seurakunta@fohe.fi
END:VEVENT
BEGIN:VEVENT
DTSTART;TZID=Europe/Helsinki:20220821T110000
DTEND;TZID=Europe/Helsinki:20220821T130000
DTSTAMP:20260425T002446
CREATED:20220806T204407Z
LAST-MODIFIED:20220806T204407Z
UID:10981-1661079600-1661086800@www.fohe.fi
SUMMARY:Jumalanpalvelus
DESCRIPTION:Carola Flytström\, Tommi Hintsanen
URL:https://www.fohe.fi/tapahtuma/jumalanpalvelus-134/
LOCATION:Forssan helluntaiseurakunta\, Nikkilänkatu 2\, Forssa\, 30100\, Suomi
CATEGORIES:Tulevat Jumalanpalvelukset
ORGANIZER;CN="Forssan helluntaiseurakunta":MAILTO:seurakunta@fohe.fi
END:VEVENT
BEGIN:VEVENT
DTSTART;TZID=Europe/Helsinki:20220820T150000
DTEND;TZID=Europe/Helsinki:20220820T160000
DTSTAMP:20260425T002446
CREATED:20220806T204412Z
LAST-MODIFIED:20220806T204412Z
UID:10987-1661007600-1661011200@www.fohe.fi
SUMMARY:Lauletaan yhdessä -yhteislaulutilaisuus
DESCRIPTION:Seppo Lindeman laulaa ja laulattaa hengellisiä lauluja
URL:https://www.fohe.fi/tapahtuma/lauletaan-yhdessa-yhteislaulutilaisuus/
ORGANIZER;CN="Forssan helluntaiseurakunta":MAILTO:seurakunta@fohe.fi
END:VEVENT
BEGIN:VEVENT
DTSTART;TZID=Europe/Helsinki:20220820T120000
DTEND;TZID=Europe/Helsinki:20220820T130000
DTSTAMP:20260425T002446
CREATED:20220806T204412Z
LAST-MODIFIED:20220806T204412Z
UID:10986-1660996800-1661000400@www.fohe.fi
SUMMARY:Musiikkihetki torilla
DESCRIPTION:Seppo Lindeman laulaa ja laulattaa hengellisiä lauluja
URL:https://www.fohe.fi/tapahtuma/musiikkihetki-torilla/
END:VEVENT
BEGIN:VEVENT
DTSTART;TZID=Europe/Helsinki:20220819T190000
DTEND;TZID=Europe/Helsinki:20220819T220000
DTSTAMP:20260425T002446
CREATED:20220806T204426Z
LAST-MODIFIED:20220806T204426Z
UID:10988-1660935600-1660946400@www.fohe.fi
SUMMARY:Fohe Youth -nuortenilta
DESCRIPTION:
URL:https://www.fohe.fi/tapahtuma/fohe-youth-nuortenilta-143/
LOCATION:Forssan helluntaiseurakunta\, Nikkilänkatu 2\, Forssa\, 30100\, Suomi
ORGANIZER;CN="Forssan helluntaiseurakunta":MAILTO:seurakunta@fohe.fi
END:VEVENT
BEGIN:VEVENT
DTSTART;TZID=Europe/Helsinki:20220816T190000
DTEND;TZID=Europe/Helsinki:20220816T200000
DTSTAMP:20260425T002446
CREATED:20220806T204407Z
LAST-MODIFIED:20220806T204407Z
UID:10980-1660676400-1660680000@www.fohe.fi
SUMMARY:Se löytyi -mission rukousilta
DESCRIPTION:Seurakuntien yhteinen rukousilta mission puolesta
URL:https://www.fohe.fi/tapahtuma/se-loytyi-mission-rukousilta-5/
LOCATION:Forssan helluntaiseurakunta\, Nikkilänkatu 2\, Forssa\, 30100\, Suomi
CATEGORIES:Tulevat Sanan ja rukouksen illat
ATTACH;FMTTYPE=image/jpeg:https://www.fohe.fi/wp-content/uploads/2015/01/Sana-ja-rukous.jpg
ORGANIZER;CN="Forssan helluntaiseurakunta":MAILTO:seurakunta@fohe.fi
END:VEVENT
BEGIN:VEVENT
DTSTART;TZID=Europe/Helsinki:20220814T110000
DTEND;TZID=Europe/Helsinki:20220814T130000
DTSTAMP:20260425T002446
CREATED:20220806T204406Z
LAST-MODIFIED:20220806T204406Z
UID:10979-1660474800-1660482000@www.fohe.fi
SUMMARY:Jumalanpalvelus
DESCRIPTION:Kari Turkki\, Tommi Hintsanen\, Elma ja Elli Hintsanen
URL:https://www.fohe.fi/tapahtuma/jumalanpalvelus-133/
LOCATION:Forssan helluntaiseurakunta\, Nikkilänkatu 2\, Forssa\, 30100\, Suomi
CATEGORIES:Tulevat Jumalanpalvelukset
ORGANIZER;CN="Forssan helluntaiseurakunta":MAILTO:seurakunta@fohe.fi
END:VEVENT
BEGIN:VEVENT
DTSTART;TZID=Europe/Helsinki:20220807T110000
DTEND;TZID=Europe/Helsinki:20220807T130000
DTSTAMP:20260425T002446
CREATED:20220701T081220Z
LAST-MODIFIED:20220701T081220Z
UID:10938-1659870000-1659877200@www.fohe.fi
SUMMARY:Lähetys- ja ehtoollisjuhla
DESCRIPTION:Raimo Huotelin\, mukana Naggareiden perhe
URL:https://www.fohe.fi/tapahtuma/lahetys-ja-ehtoollisjuhla/
LOCATION:Forssan helluntaiseurakunta\, Nikkilänkatu 2\, Forssa\, 30100\, Suomi
CATEGORIES:Tulevat Jumalanpalvelukset
ATTACH;FMTTYPE=image/jpeg:https://www.fohe.fi/wp-content/uploads/2015/01/Ehtoollinen-scaled.jpg
ORGANIZER;CN="Forssan helluntaiseurakunta":MAILTO:seurakunta@fohe.fi
END:VEVENT
BEGIN:VEVENT
DTSTART;TZID=Europe/Helsinki:20220803T170000
DTEND;TZID=Europe/Helsinki:20220803T180000
DTSTAMP:20260425T002446
CREATED:20220701T083032Z
LAST-MODIFIED:20220701T083032Z
UID:10949-1659546000-1659549600@www.fohe.fi
SUMMARY:Ruokajakelu
DESCRIPTION:Ruokajakelun yhteydessä kahvitus
URL:https://www.fohe.fi/tapahtuma/ruokajakelu-2/
LOCATION:Forssan helluntaiseurakunta\, Nikkilänkatu 2\, Forssa\, 30100\, Suomi
ORGANIZER;CN="Forssan helluntaiseurakunta":MAILTO:seurakunta@fohe.fi
END:VEVENT
BEGIN:VEVENT
DTSTART;TZID=Europe/Helsinki:20220802T190000
DTEND;TZID=Europe/Helsinki:20220802T200000
DTSTAMP:20260425T002446
CREATED:20220701T083316Z
LAST-MODIFIED:20220701T083316Z
UID:10952-1659466800-1659470400@www.fohe.fi
SUMMARY:Sanan ja rukouksen ilta
DESCRIPTION:Maija Heiskanen\, Marita Rasila
URL:https://www.fohe.fi/tapahtuma/sanan-ja-rukouksen-ilta-239/
LOCATION:Forssan helluntaiseurakunta\, Nikkilänkatu 2\, Forssa\, 30100\, Suomi
ORGANIZER;CN="Forssan helluntaiseurakunta":MAILTO:seurakunta@fohe.fi
END:VEVENT
BEGIN:VEVENT
DTSTART;TZID=Europe/Helsinki:20220731T180000
DTEND;TZID=Europe/Helsinki:20220731T200000
DTSTAMP:20260425T002446
CREATED:20220701T081221Z
LAST-MODIFIED:20220720T111024Z
UID:10942-1659290400-1659297600@www.fohe.fi
SUMMARY:Musiikkitilaisuus
DESCRIPTION:Shalom-ryhmä
URL:https://www.fohe.fi/tapahtuma/jumalanpalvelus-131/
LOCATION:Forssan helluntaiseurakunta\, Nikkilänkatu 2\, Forssa\, 30100\, Suomi
ORGANIZER;CN="Forssan helluntaiseurakunta":MAILTO:seurakunta@fohe.fi
END:VEVENT
END:VCALENDAR